PDS_VERSION_ID = PDS3
/* FILE DATA ELEMENTS */
RECORD_TYPE = UNDEFINED
/* POINTERS TO DATA OBJECTS */
^IMAGE = ("HG147_0000_ND4.TIF")
/* IDENTIFICATION DATA ELEMENTS */
DATA_SET_ID = "MEX-M-HRSC-4-REFDR-MAPPROJECT-EXT5-V4.0"
DATA_SET_NAME = "MARS EXPRESS HRSC MAP PROJECTED REFDR EXTENSION5 V4.0"
DETECTOR_ID = MEX_HRSC_NADIR
EVENT_TYPE = "MARS-REGIONAL-PHOTOMETRY-Vo-Te-Gl"
INSTRUMENT_HOST_ID = MEX
INSTRUMENT_HOST_NAME = "MARS EXPRESS"
INSTRUMENT_ID = HRSC
INSTRUMENT_NAME = "HIGH RESOLUTION STEREO CAMERA"
MISSION_NAME = "MARS EXPRESS"
MISSION_PHASE_NAME = ME_Phase_35
PROCESSING_LEVEL_ID = 4
PRODUCT_CREATION_TIME = 2023-02-01T10:02:00.000Z
PRODUCT_ID = "HG147_0000_ND4.TIF"
RELEASE_ID = 0005
REVISION_ID = 0000
/* QUALITY DATA ELEMENTS */
DATA_QUALITY_ID = 1
DATA_QUALITY_DESC = "Data calculated based on original SPICE kernels"
/* TIME DATA ELEMENTS */
SPACECRAFT_CLOCK_START_COUNT = "1/0423201796.08229"
SPACECRAFT_CLOCK_STOP_COUNT = "1/0423202442.10595"
START_TIME = 2016-09-29T04:04:46.920Z
STOP_TIME = 2016-09-29T04:11:26.946Z
/* ORBITAL DATA ELEMENTS */
ASCENDING_NODE_LONGITUDE = 270.61
MAXIMUM_RESOLUTION = 0.0392
FOOTPRINT_POINT_LATITUDE = (57.8665,57.7367,57.5933,57.4446,57.291 ,57.1121,56.916,56.9055,56.9699,56.5012 ,56.033,55.5655,55.0983,54.6316,54.1652 ,53.6991,53.2335,52.7682,52.3032, 51.8386,51.3744,50.9104,50.4468,49.9835 ,49.52,49.057,48.5923,48.13,47.667, 47.2046,46.7429,46.281,45.8196,45.359, 44.8978,44.4371,43.9764,43.516,43.0556, 42.3651,41.6747,41.2144,40.7541,40.2938 ,39.8327,39.3734,38.9131,38.4508,37.761 ,37.3,36.8388,36.3771,35.915,35.4524, 34.9898,34.5273,34.0643,33.8329,33.8139 ,33.9551,34.1335,34.3312,34.5581, 34.7745,34.9007,35.0677,35.0785,35.0841 ,36.4448,37.5782,38.4845,39.3907, 40.2968,41.203,42.3362,43.0164,43.6976, 44.8338,45.9724,46.8807,47.7934,48.4791 ,49.1652,50.0802,50.5393,51.4562, 51.9184,52.3779,52.8398,53.5325,54.2274 ,54.69,55.1533,55.6168,56.0811,56.5458, 57.0113,57.7105,57.9439,57.8665)
FOOTPRINT_POINT_LONGITUDE = (292.376,291.459,290.493,289.539, 288.596,287.547,286.452,286.395,286.28, 286.346,286.409,286.469,286.525,286.58, 286.632,286.681,286.728,286.773,286.816 ,286.856,286.895,286.931,286.966, 286.998,287.03,287.06,287.092,287.119, 287.146,287.171,287.193,287.216,287.236 ,287.252,287.271,287.286,287.301, 287.314,287.326,287.341,287.355,287.363 ,287.369,287.375,287.377,287.386, 287.389,287.387,287.392,287.392,287.391 ,287.389,287.386,287.382,287.378, 287.374,287.368,287.366,287.365,287.958 ,288.731,289.623,290.697,291.778, 292.442,293.35,293.411,293.441,293.406, 293.375,293.35,293.324,293.298,293.269, 293.234,293.212,293.19,293.152,293.113, 293.074,293.038,293.01,292.98,292.937, 292.915,292.867,292.845,292.819,292.794 ,292.754,292.713,292.683,292.652,292.62 ,292.587,292.552,292.517,292.461, 292.441,292.376)
ORBIT_NUMBER = 16147
ORBITAL_ECCENTRICITY = 0.571
ORBITAL_INCLINATION = 86.95
ORBITAL_SEMIMAJOR_AXIS = 8769.01
PERIAPSIS_ALTITUDE = 384.87
PERIAPSIS_ARGUMENT_ANGLE = 76.13
PERIAPSIS_TIME = 2016-09-29T03:50:32.000Z
SPACECRAFT_ORIENTATION = (0.0,-1.0,0.0)
^MEX_ORIENTATION_DESC = "MEX_ORIENTATION_DESC.TXT"
SPACECRAFT_POINTING_MODE = INERT
^MEX_POINTING_DESC = "MEX_POINTING_DESC.TXT"
RIGHT_ASCENSION = 141.682
DECLINATION = -38.939
OFFSET_ANGLE = -1e+32
SPACECRAFT_SOLAR_DISTANCE = 2.07622e+08
TARGET_NAME = MARS
/* CAMERA DATA ELEMENTS */
DETECTOR_TEMPERATURE = 18.5744
FOCAL_PLANE_TEMPERATURE = 7.9716
INST_CMPRS_NAME = "DISCRETE COSINE TRANSFORMATION (DCT)"
INST_CMPRS_RATIO = 6.38091
INST_CMPRS_QUALITY = 0
INST_CMPRS_QUANTZ_TBL_ID = 0
INSTRUMENT_TEMPERATURE = 11.0301
LENS_TEMPERATURE = 8.9911
MACROPIXEL_SIZE = 1
MISSING_FRAMES = 0
PIXEL_SUBSAMPLING_FLAG = N
SIGNAL_CHAIN_ID = 0
/* RADIOMETRIC DATA ELEMENTS */
BANDWIDTH = 177.0
CENTER_FILTER_WAVELENGTH = 677.5
RADIANCE_OFFSET = 1.92501
RADIANCE_SCALING_FACTOR = 0.0342117
REFLECTANCE_SCALING_FACTOR = 0.000783436
MEX:REFLECTANCE_OFFSET = 0.0440821
/* IMAGE OBJECT DEFINITIONS */
OBJECT = IMAGE
  INTERCHANGE_FORMAT = BINARY
  LINES = 28627
  LINE_SAMPLES = 5934
  SAMPLE_TYPE = UNSIGNED_INTEGER
  SAMPLE_BITS = 8
  BANDS = 1
  BAND_STORAGE_TYPE = BAND_SEQUENTIAL
  MAXIMUM = 255
  MEAN = 120.333
  MINIMUM = 1
  STANDARD_DEVIATION = 53.9887
END_OBJECT = IMAGE
/* MAP OBJECT DEFINITIONS */
OBJECT = IMAGE_MAP_PROJECTION
  ^DATA_SET_MAP_PROJECTION_CATALOG= "DSMAP.CAT"
  A_AXIS_RADIUS = 3396.0
  B_AXIS_RADIUS = 3396.0
  C_AXIS_RADIUS = 3396.0
  CENTER_LATITUDE = 0.0
  CENTER_LONGITUDE = 290.0
  COORDINATE_SYSTEM_NAME = PLANETOGRAPHIC
  COORDINATE_SYSTEM_TYPE = "BODY-FIXED ROTATING"
  EASTERNMOST_LONGITUDE = 293.441
  FIRST_STANDARD_PARALLEL = "N/A"
  LINE_FIRST_PIXEL = 1
  LINE_LAST_PIXEL = 28627
  LINE_PROJECTION_OFFSET = 68710.0
  MAP_PROJECTION_ROTATION = 0.0
  MAP_PROJECTION_TYPE = SINUSOIDAL
  MAP_RESOLUTION = 1185.42760773333
  MAP_SCALE = 0.05
  MAXIMUM_LATITUDE = 57.9439
  MINIMUM_LATITUDE = 33.8139
  POSITIVE_LONGITUDE_DIRECTION = EAST
  REFERENCE_LATITUDE = "N/A"
  REFERENCE_LONGITUDE = "N/A"
  SAMPLE_FIRST_PIXEL = 1
  SAMPLE_LAST_PIXEL = 5934
  SAMPLE_PROJECTION_OFFSET = 2595.0
  SECOND_STANDARD_PARALLEL = "N/A"
  WESTERNMOST_LONGITUDE = 286.28
END_OBJECT = IMAGE_MAP_PROJECTION
END
