PDS_VERSION_ID = PDS3
/* FILE DATA ELEMENTS */
RECORD_TYPE = UNDEFINED
/* POINTERS TO DATA OBJECTS */
^IMAGE = ("HG146_0000_S24.TIF")
/* IDENTIFICATION DATA ELEMENTS */
DATA_SET_ID = "MEX-M-HRSC-4-REFDR-MAPPROJECT-EXT5-V4.0"
DATA_SET_NAME = "MARS EXPRESS HRSC MAP PROJECTED REFDR EXTENSION5 V4.0"
DETECTOR_ID = MEX_HRSC_S2
EVENT_TYPE = "MARS-REGIONAL-PHOTOMETRY-Te-Fl-Gl"
INSTRUMENT_HOST_ID = MEX
INSTRUMENT_HOST_NAME = "MARS EXPRESS"
INSTRUMENT_ID = HRSC
INSTRUMENT_NAME = "HIGH RESOLUTION STEREO CAMERA"
MISSION_NAME = "MARS EXPRESS"
MISSION_PHASE_NAME = ME_Phase_35
PROCESSING_LEVEL_ID = 4
PRODUCT_CREATION_TIME = 2023-02-01T10:02:00.000Z
PRODUCT_ID = "HG146_0000_S24.TIF"
RELEASE_ID = 0005
REVISION_ID = 0000
/* QUALITY DATA ELEMENTS */
DATA_QUALITY_ID = 1
DATA_QUALITY_DESC = "Data calculated based on original SPICE kernels"
/* TIME DATA ELEMENTS */
SPACECRAFT_CLOCK_START_COUNT = "1/0423176646.09045"
SPACECRAFT_CLOCK_STOP_COUNT = "1/0423177227.47745"
START_TIME = 2016-09-28T21:07:45.408Z
STOP_TIME = 2016-09-28T21:13:53.719Z
/* ORBITAL DATA ELEMENTS */
ASCENDING_NODE_LONGITUDE = 270.62
MAXIMUM_RESOLUTION = 0.2111
FOOTPRINT_POINT_LATITUDE = (55.2764,55.1139,54.9241,54.7302, 54.5324,54.3433,54.1239,53.9658,53.9525 ,54.1002,53.5102,52.9213,52.5291, 52.1378,51.5513,51.1599,50.5799,50.1917 ,49.6133,49.2285,48.8439,48.4607, 48.0768,47.6921,47.3102,46.9281,46.5447 ,45.975,45.59,45.0215,44.6421,44.2669, 43.8876,43.5105,43.1347,42.5621,42.0009 ,41.2552,40.8735,40.4996,39.7555, 39.3816,39.009,38.2655,37.7093,37.1534, 36.2303,35.3078,35.1234,35.0122,35.1415 ,35.2711,35.4394,35.6448,35.7906, 35.9222,36.1313,36.3291,36.4263,36.4382 ,36.4435,37.1781,37.906,38.8206,39.919, 40.6558,41.4079,42.1473,42.5234,43.0825 ,43.4554,44.0158,44.3899,44.7647, 45.1399,45.5145,45.8925,46.4594,46.8353 ,47.2136,47.5953,48.1669,48.736,49.1185 ,49.6922,50.077,50.4583,50.8419,51.426, 51.816,52.2031,52.5931,52.9823,53.3738, 53.7664,54.1616,54.7511,55.1448,55.3426 ,55.2764)
FOOTPRINT_POINT_LONGITUDE = (32.7549,31.8089,30.7395,29.6812, 28.6337,27.6602,26.564,25.7941,25.7301, 25.5554,25.643,25.7256,25.7784,25.8288, 25.9012,25.9483,26.0092,26.0499,26.1049 ,26.1393,26.1724,26.2032,26.2338, 26.2643,26.2909,26.317,26.3437,26.3764, 26.403,26.4319,26.4508,26.4643,26.4819, 26.4963,26.5088,26.537,26.5507,26.5643, 26.5813,26.5883,26.5966,26.6026,26.6066 ,26.6114,26.6123,26.6122,26.6056, 26.5967,26.5946,26.5934,27.1544,27.7179 ,28.4689,29.4058,30.0939,30.7195, 31.7214,32.7273,33.2313,33.2944,33.3154 ,33.314,33.3102,33.3044,33.2948,33.2873 ,33.2802,33.2698,33.2647,33.2557, 33.2492,33.2386,33.231,33.223,33.2146, 33.2056,33.1964,33.1815,33.1707,33.1595 ,33.148,33.1295,33.1095,33.0955,33.0732 ,33.0576,33.041,33.0238,32.9971,32.9782 ,32.9583,32.9377,32.9161,32.8937, 32.8704,32.8461,32.8076,32.7806,32.7667 ,32.7549)
ORBIT_NUMBER = 16146
ORBITAL_ECCENTRICITY = 0.571
ORBITAL_INCLINATION = 86.95
ORBITAL_SEMIMAJOR_AXIS = 8767.15
PERIAPSIS_ALTITUDE = 384.87
PERIAPSIS_ARGUMENT_ANGLE = 76.28
PERIAPSIS_TIME = 2016-09-28T20:50:43.000Z
SPACECRAFT_ORIENTATION = (0.0,-1.0,0.0)
^MEX_ORIENTATION_DESC = "MEX_ORIENTATION_DESC.TXT"
SPACECRAFT_POINTING_MODE = INERT
^MEX_POINTING_DESC = "MEX_POINTING_DESC.TXT"
RIGHT_ASCENSION = 141.698
DECLINATION = -39.101
OFFSET_ANGLE = -1e+32
SPACECRAFT_SOLAR_DISTANCE = 2.07641e+08
TARGET_NAME = MARS
/* CAMERA DATA ELEMENTS */
DETECTOR_TEMPERATURE = 18.3705
FOCAL_PLANE_TEMPERATURE = 7.9716
INST_CMPRS_NAME = "DISCRETE COSINE TRANSFORMATION (DCT)"
INST_CMPRS_RATIO = 14.3896
INST_CMPRS_QUALITY = 0
INST_CMPRS_QUANTZ_TBL_ID = 0
INSTRUMENT_TEMPERATURE = 11.234
LENS_TEMPERATURE = 8.3794
MACROPIXEL_SIZE = 4
MISSING_FRAMES = 0
PIXEL_SUBSAMPLING_FLAG = N
SIGNAL_CHAIN_ID = 3
/* RADIOMETRIC DATA ELEMENTS */
BANDWIDTH = 178.0
CENTER_FILTER_WAVELENGTH = 679.0
RADIANCE_OFFSET = 3.34282
RADIANCE_SCALING_FACTOR = 0.0237959
REFLECTANCE_SCALING_FACTOR = 0.000543317
MEX:REFLECTANCE_OFFSET = 0.0763247
/* IMAGE OBJECT DEFINITIONS */
OBJECT = IMAGE
  INTERCHANGE_FORMAT = BINARY
  LINES = 6015
  LINE_SAMPLES = 1449
  SAMPLE_TYPE = UNSIGNED_INTEGER
  SAMPLE_BITS = 8
  BANDS = 1
  BAND_STORAGE_TYPE = BAND_SEQUENTIAL
  MAXIMUM = 255
  MEAN = 100.364
  MINIMUM = 1
  STANDARD_DEVIATION = 53.3828
END_OBJECT = IMAGE
/* MAP OBJECT DEFINITIONS */
OBJECT = IMAGE_MAP_PROJECTION
  ^DATA_SET_MAP_PROJECTION_CATALOG= "DSMAP.CAT"
  A_AXIS_RADIUS = 3396.0
  B_AXIS_RADIUS = 3396.0
  C_AXIS_RADIUS = 3396.0
  CENTER_LATITUDE = 0.0
  CENTER_LONGITUDE = 32.0
  COORDINATE_SYSTEM_NAME = PLANETOGRAPHIC
  COORDINATE_SYSTEM_TYPE = "BODY-FIXED ROTATING"
  EASTERNMOST_LONGITUDE = 33.3154
  FIRST_STANDARD_PARALLEL = "N/A"
  LINE_FIRST_PIXEL = 1
  LINE_LAST_PIXEL = 6015
  LINE_PROJECTION_OFFSET = 16399.625
  MAP_PROJECTION_ROTATION = 0.0
  MAP_PROJECTION_TYPE = SINUSOIDAL
  MAP_RESOLUTION = 296.356901933333
  MAP_SCALE = 0.2
  MAXIMUM_LATITUDE = 55.3426
  MINIMUM_LATITUDE = 35.0122
  POSITIVE_LONGITUDE_DIRECTION = EAST
  REFERENCE_LATITUDE = "N/A"
  REFERENCE_LONGITUDE = "N/A"
  SAMPLE_FIRST_PIXEL = 1
  SAMPLE_LAST_PIXEL = 1449
  SAMPLE_PROJECTION_OFFSET = 559.625
  SECOND_STANDARD_PARALLEL = "N/A"
  WESTERNMOST_LONGITUDE = 25.5554
END_OBJECT = IMAGE_MAP_PROJECTION
END
