PDS_VERSION_ID = PDS3
/* FILE DATA ELEMENTS */
RECORD_TYPE = UNDEFINED
/* POINTERS TO DATA OBJECTS */
^IMAGE = ("HG023_0000_P14.TIF")
/* IDENTIFICATION DATA ELEMENTS */
DATA_SET_ID = "MEX-M-HRSC-4-REFDR-MAPPROJECT-EXT5-V4.0"
DATA_SET_NAME = "MARS EXPRESS HRSC MAP PROJECTED REFDR EXTENSION5 V4.0"
DETECTOR_ID = MEX_HRSC_P1
EVENT_TYPE = "MARS-REGIONAL-MAPPING-Im-Pf"
INSTRUMENT_HOST_ID = MEX
INSTRUMENT_HOST_NAME = "MARS EXPRESS"
INSTRUMENT_ID = HRSC
INSTRUMENT_NAME = "HIGH RESOLUTION STEREO CAMERA"
MISSION_NAME = "MARS EXPRESS"
MISSION_PHASE_NAME = ME_Phase_35
PROCESSING_LEVEL_ID = 4
PRODUCT_CREATION_TIME = 2023-02-01T10:02:00.000Z
PRODUCT_ID = "HG023_0000_P14.TIF"
RELEASE_ID = 0005
REVISION_ID = 0000
/* QUALITY DATA ELEMENTS */
DATA_QUALITY_ID = 1
DATA_QUALITY_DESC = "Data calculated based on original SPICE kernels"
/* TIME DATA ELEMENTS */
SPACECRAFT_CLOCK_START_COUNT = "1/0420078506.09026"
SPACECRAFT_CLOCK_STOP_COUNT = "1/0420078891.12503"
START_TIME = 2016-08-24T00:28:46.995Z
STOP_TIME = 2016-08-24T00:33:10.025Z
/* ORBITAL DATA ELEMENTS */
ASCENDING_NODE_LONGITUDE = 272.9
MAXIMUM_RESOLUTION = 0.0351
FOOTPRINT_POINT_LATITUDE = (67.1729,67.117,67.0662,67.0113,67.0092 ,66.9204,66.1969,65.6183,65.0264, 64.7299,64.1375,63.6848,63.3813,62.9265 ,62.6238,62.314,62.004,61.6939,61.3839, 60.9099,60.5933,60.2773,59.9569,59.6337 ,59.3107,58.9881,58.6588,58.3292,58.0, 57.6663,57.3305,56.9951,56.6558,56.3137 ,55.9722,55.4514,55.1038,54.5747, 54.2208,53.683,53.3229,52.7754,52.4096, 52.0382,51.6664,51.2904,50.7222,50.53, 50.4867,50.5239,50.5492,50.5748,50.5751 ,50.576,50.9606,51.3398,51.7182,52.0912 ,52.4647,52.832,53.3827,53.7441,54.285, 54.6402,55.1722,55.5215,56.045,56.3881, 56.7316,57.0734,57.4102,57.7475,58.0836 ,58.4143,58.7453,59.2391,59.5636, 59.8881,60.3727,60.6907,61.168,61.4862, 61.7977,62.1092,62.4211,62.7332,63.0386 ,63.3432,63.6484,63.9543,64.2572, 64.5554,64.8536,65.152,65.4506,65.7489, 66.3317,66.915,67.0609,67.1729)
FOOTPRINT_POINT_LONGITUDE = (15.6392,14.1555,13.0665,12.0511, 12.0162,11.9373,12.1752,12.3529,12.5239 ,12.6057,12.7623,12.8754,12.9484, 13.0539,13.1219,13.1891,13.2543,13.3173 ,13.3784,13.4683,13.5263,13.5826, 13.6372,13.6911,13.7432,13.7937,13.8436 ,13.8917,13.9384,13.9842,14.0288, 14.0719,14.114,14.1549,14.1945,14.2521, 14.2891,14.3424,14.3767,14.4262,14.4577 ,14.5034,14.5324,14.5605,14.5876, 14.6139,14.6511,14.6631,14.6658,15.5838 ,16.626,17.7912,17.822,17.833,17.8086, 17.7839,17.7587,17.7334,17.7071,17.6805 ,17.6391,17.6112,17.5679,17.5386, 17.4931,17.4623,17.4146,17.3822,17.349, 17.3149,17.2808,17.2455,17.2095,17.173, 17.1356,17.0781,17.0389,16.9989,16.9372 ,16.8953,16.8304,16.7855,16.7405, 16.6944,16.6469,16.5983,16.5491,16.4995 ,16.4479,16.3943,16.341,16.2864,16.2307 ,16.1732,16.1141,16.0532,15.9296, 15.7988,15.765,15.6392)
ORBIT_NUMBER = 16023
ORBITAL_ECCENTRICITY = 0.571
ORBITAL_INCLINATION = 86.95
ORBITAL_SEMIMAJOR_AXIS = 8764.7
PERIAPSIS_ALTITUDE = 386.72
PERIAPSIS_ARGUMENT_ANGLE = 97.47
PERIAPSIS_TIME = 2016-08-24T00:25:13.000Z
SPACECRAFT_ORIENTATION = (0.0,-1.0,0.0)
^MEX_ORIENTATION_DESC = "MEX_ORIENTATION_DESC.TXT"
SPACECRAFT_POINTING_MODE = NADIR
^MEX_POINTING_DESC = "MEX_POINTING_DESC.TXT"
RIGHT_ASCENSION = -1e+32
DECLINATION = -1e+32
OFFSET_ANGLE = -1e+32
SPACECRAFT_SOLAR_DISTANCE = 2.11189e+08
TARGET_NAME = MARS
/* CAMERA DATA ELEMENTS */
DETECTOR_TEMPERATURE = 18.5744
FOCAL_PLANE_TEMPERATURE = 7.7677
INST_CMPRS_NAME = "DISCRETE COSINE TRANSFORMATION (DCT)"
INST_CMPRS_RATIO = 12.4922
INST_CMPRS_QUALITY = 0
INST_CMPRS_QUANTZ_TBL_ID = 0
INSTRUMENT_TEMPERATURE = 11.0301
LENS_TEMPERATURE = 8.7872
MACROPIXEL_SIZE = 2
MISSING_FRAMES = 0
PIXEL_SUBSAMPLING_FLAG = N
SIGNAL_CHAIN_ID = 3
/* RADIOMETRIC DATA ELEMENTS */
BANDWIDTH = 174.0
CENTER_FILTER_WAVELENGTH = 675.0
RADIANCE_OFFSET = 2.86461
RADIANCE_SCALING_FACTOR = 0.0142552
REFLECTANCE_SCALING_FACTOR = 0.00034198
MEX:REFLECTANCE_OFFSET = 0.0687213
/* IMAGE OBJECT DEFINITIONS */
OBJECT = IMAGE
  INTERCHANGE_FORMAT = BINARY
  LINES = 39364
  LINE_SAMPLES = 7268
  SAMPLE_TYPE = UNSIGNED_INTEGER
  SAMPLE_BITS = 8
  BANDS = 1
  BAND_STORAGE_TYPE = BAND_SEQUENTIAL
  MAXIMUM = 255
  MEAN = 146.992
  MINIMUM = 1
  STANDARD_DEVIATION = 67.8194
END_OBJECT = IMAGE
/* MAP OBJECT DEFINITIONS */
OBJECT = IMAGE_MAP_PROJECTION
  ^DATA_SET_MAP_PROJECTION_CATALOG= "DSMAP.CAT"
  A_AXIS_RADIUS = 3396.0
  B_AXIS_RADIUS = 3396.0
  C_AXIS_RADIUS = 3396.0
  CENTER_LATITUDE = 0.0
  CENTER_LONGITUDE = 15.0
  COORDINATE_SYSTEM_NAME = PLANETOGRAPHIC
  COORDINATE_SYSTEM_TYPE = "BODY-FIXED ROTATING"
  EASTERNMOST_LONGITUDE = 17.833
  FIRST_STANDARD_PARALLEL = "N/A"
  LINE_FIRST_PIXEL = 1
  LINE_LAST_PIXEL = 39364
  LINE_PROJECTION_OFFSET = 159083.25
  MAP_PROJECTION_ROTATION = 0.0
  MAP_PROJECTION_TYPE = SINUSOIDAL
  MAP_RESOLUTION = 2370.85521546667
  MAP_SCALE = 0.025
  MAXIMUM_LATITUDE = 67.1729
  MINIMUM_LATITUDE = 50.4867
  POSITIVE_LONGITUDE_DIRECTION = EAST
  REFERENCE_LATITUDE = "N/A"
  REFERENCE_LONGITUDE = "N/A"
  SAMPLE_FIRST_PIXEL = 1
  SAMPLE_LAST_PIXEL = 7268
  SAMPLE_PROJECTION_OFFSET = 2897.25
  SECOND_STANDARD_PARALLEL = "N/A"
  WESTERNMOST_LONGITUDE = 11.9373
END_OBJECT = IMAGE_MAP_PROJECTION
END
