PDS_VERSION_ID = PDS3
/* FILE DATA ELEMENTS */
RECORD_TYPE = UNDEFINED
/* POINTERS TO DATA OBJECTS */
^IMAGE = ("HG022_0000_S24.TIF")
/* IDENTIFICATION DATA ELEMENTS */
DATA_SET_ID = "MEX-M-HRSC-4-REFDR-MAPPROJECT-EXT5-V4.0"
DATA_SET_NAME = "MARS EXPRESS HRSC MAP PROJECTED REFDR EXTENSION5 V4.0"
DETECTOR_ID = MEX_HRSC_S2
EVENT_TYPE = "MARS-REGIONAL-MAPPING-Vo-Gl-Pf"
INSTRUMENT_HOST_ID = MEX
INSTRUMENT_HOST_NAME = "MARS EXPRESS"
INSTRUMENT_ID = HRSC
INSTRUMENT_NAME = "HIGH RESOLUTION STEREO CAMERA"
MISSION_NAME = "MARS EXPRESS"
MISSION_PHASE_NAME = ME_Phase_35
PROCESSING_LEVEL_ID = 4
PRODUCT_CREATION_TIME = 2023-02-01T10:02:00.000Z
PRODUCT_ID = "HG022_0000_S24.TIF"
RELEASE_ID = 0005
REVISION_ID = 0000
/* QUALITY DATA ELEMENTS */
DATA_QUALITY_ID = 1
DATA_QUALITY_DESC = "Data calculated based on original SPICE kernels"
/* TIME DATA ELEMENTS */
SPACECRAFT_CLOCK_START_COUNT = "1/0420053379.08401"
SPACECRAFT_CLOCK_STOP_COUNT = "1/0420053672.57382"
START_TIME = 2016-08-23T17:31:14.855Z
STOP_TIME = 2016-08-23T17:34:38.794Z
/* ORBITAL DATA ELEMENTS */
ASCENDING_NODE_LONGITUDE = 272.93
MAXIMUM_RESOLUTION = 0.0415
FOOTPRINT_POINT_LATITUDE = (63.3916,63.3707,63.3503,63.3281, 63.3044,63.2789,63.2447,63.243,63.3653, 62.8549,62.4479,61.9303,61.5173,61.0974 ,60.6785,60.4666,60.2536,60.0412, 59.8292,59.5067,59.291,59.076,58.859, 58.64,58.3136,57.9836,57.7626,57.5422, 57.2072,56.9836,56.7606,56.5338,56.3077 ,56.0818,55.8526,55.6237,55.2791, 55.0471,54.8158,54.5823,54.3485,53.9964 ,53.7599,53.4038,53.1647,52.9259, 52.6841,52.4429,52.3219,52.2654,52.2854 ,52.299,52.3161,52.3319,52.3453,52.3631 ,52.3637,52.3646,52.851,53.0938,53.3337 ,53.6935,53.9309,54.2873,54.6399, 54.8753,55.1075,55.3404,55.5723,55.802, 56.0323,56.2615,56.4885,56.7162,56.943, 57.1673,57.3921,57.6171,57.8383,58.0604 ,58.3928,58.6115,58.8308,59.1595, 59.3752,59.5919,59.8088,60.1305,60.3441 ,60.558,60.7721,61.193,61.4039,61.7197, 62.1349,62.6544,63.0639,63.3713,63.4742 ,63.3916)
FOOTPRINT_POINT_LONGITUDE = (119.873,119.224,118.65,118.08,117.514, 116.951,116.25,116.215,116.138,116.234, 116.307,116.395,116.462,116.527,116.589 ,116.619,116.649,116.678,116.706, 116.748,116.775,116.801,116.827,116.853 ,116.89,116.926,116.949,116.971,117.005 ,117.026,117.047,117.068,117.088, 117.107,117.127,117.145,117.172,117.19, 117.207,117.224,117.24,117.263,117.278, 117.299,117.313,117.327,117.34,117.352, 117.358,117.361,117.922,118.345,118.91, 119.477,120.048,120.98,121.016,121.029, 120.997,120.982,120.966,120.941,120.925 ,120.9,120.875,120.858,120.84,120.823, 120.805,120.788,120.77,120.752,120.733, 120.715,120.696,120.677,120.658,120.638 ,120.618,120.598,120.568,120.548, 120.527,120.495,120.474,120.452,120.43, 120.397,120.375,120.352,120.328,120.281 ,120.257,120.22,120.171,120.106,120.053 ,120.011,119.997,119.873)
ORBIT_NUMBER = 16022
ORBITAL_ECCENTRICITY = 0.571
ORBITAL_INCLINATION = 86.95
ORBITAL_SEMIMAJOR_AXIS = 8764.99
PERIAPSIS_ALTITUDE = 386.05
PERIAPSIS_ARGUMENT_ANGLE = 97.65
PERIAPSIS_TIME = 2016-08-23T17:25:32.000Z
SPACECRAFT_ORIENTATION = (0.0,-1.0,0.0)
^MEX_ORIENTATION_DESC = "MEX_ORIENTATION_DESC.TXT"
SPACECRAFT_POINTING_MODE = ACROSSTRACK
^MEX_POINTING_DESC = "MEX_POINTING_DESC.TXT"
RIGHT_ASCENSION = -1e+32
DECLINATION = -1e+32
OFFSET_ANGLE = 0.43
SPACECRAFT_SOLAR_DISTANCE = 2.11227e+08
TARGET_NAME = MARS
/* CAMERA DATA ELEMENTS */
DETECTOR_TEMPERATURE = 18.5744
FOCAL_PLANE_TEMPERATURE = 8.1755
INST_CMPRS_NAME = "DISCRETE COSINE TRANSFORMATION (DCT)"
INST_CMPRS_RATIO = 14.2505
INST_CMPRS_QUALITY = 0
INST_CMPRS_QUANTZ_TBL_ID = 0
INSTRUMENT_TEMPERATURE = 11.4379
LENS_TEMPERATURE = 8.5833
MACROPIXEL_SIZE = 2
MISSING_FRAMES = 0
PIXEL_SUBSAMPLING_FLAG = N
SIGNAL_CHAIN_ID = 1
/* RADIOMETRIC DATA ELEMENTS */
BANDWIDTH = 178.0
CENTER_FILTER_WAVELENGTH = 679.0
RADIANCE_OFFSET = 3.1673
RADIANCE_SCALING_FACTOR = 0.0105761
REFLECTANCE_SCALING_FACTOR = 0.000249893
MEX:REFLECTANCE_OFFSET = 0.0748371
/* IMAGE OBJECT DEFINITIONS */
OBJECT = IMAGE
  INTERCHANGE_FORMAT = BINARY
  LINES = 26644
  LINE_SAMPLES = 5586
  SAMPLE_TYPE = UNSIGNED_INTEGER
  SAMPLE_BITS = 8
  BANDS = 1
  BAND_STORAGE_TYPE = BAND_SEQUENTIAL
  MAXIMUM = 254
  MEAN = 142.472
  MINIMUM = 1
  STANDARD_DEVIATION = 61.6276
END_OBJECT = IMAGE
/* MAP OBJECT DEFINITIONS */
OBJECT = IMAGE_MAP_PROJECTION
  ^DATA_SET_MAP_PROJECTION_CATALOG= "DSMAP.CAT"
  A_AXIS_RADIUS = 3396.0
  B_AXIS_RADIUS = 3396.0
  C_AXIS_RADIUS = 3396.0
  CENTER_LATITUDE = 0.0
  CENTER_LONGITUDE = 119.0
  COORDINATE_SYSTEM_NAME = PLANETOGRAPHIC
  COORDINATE_SYSTEM_TYPE = "BODY-FIXED ROTATING"
  EASTERNMOST_LONGITUDE = 121.029
  FIRST_STANDARD_PARALLEL = "N/A"
  LINE_FIRST_PIXEL = 1
  LINE_LAST_PIXEL = 26644
  LINE_PROJECTION_OFFSET = 150528.75
  MAP_PROJECTION_ROTATION = 0.0
  MAP_PROJECTION_TYPE = SINUSOIDAL
  MAP_RESOLUTION = 2370.85521546667
  MAP_SCALE = 0.025
  MAXIMUM_LATITUDE = 63.4742
  MINIMUM_LATITUDE = 52.2654
  POSITIVE_LONGITUDE_DIRECTION = EAST
  REFERENCE_LATITUDE = "N/A"
  REFERENCE_LONGITUDE = "N/A"
  SAMPLE_FIRST_PIXEL = 1
  SAMPLE_LAST_PIXEL = 5586
  SAMPLE_PROJECTION_OFFSET = 2943.25
  SECOND_STANDARD_PARALLEL = "N/A"
  WESTERNMOST_LONGITUDE = 116.138
END_OBJECT = IMAGE_MAP_PROJECTION
END
