PDS_VERSION_ID = PDS3
/* FILE DATA ELEMENTS */
RECORD_TYPE = UNDEFINED
/* POINTERS TO DATA OBJECTS */
^IMAGE = ("HG022_0000_P14.TIF")
/* IDENTIFICATION DATA ELEMENTS */
DATA_SET_ID = "MEX-M-HRSC-4-REFDR-MAPPROJECT-EXT5-V4.0"
DATA_SET_NAME = "MARS EXPRESS HRSC MAP PROJECTED REFDR EXTENSION5 V4.0"
DETECTOR_ID = MEX_HRSC_P1
EVENT_TYPE = "MARS-REGIONAL-MAPPING-Vo-Gl-Pf"
INSTRUMENT_HOST_ID = MEX
INSTRUMENT_HOST_NAME = "MARS EXPRESS"
INSTRUMENT_ID = HRSC
INSTRUMENT_NAME = "HIGH RESOLUTION STEREO CAMERA"
MISSION_NAME = "MARS EXPRESS"
MISSION_PHASE_NAME = ME_Phase_35
PROCESSING_LEVEL_ID = 4
PRODUCT_CREATION_TIME = 2023-02-01T10:02:00.000Z
PRODUCT_ID = "HG022_0000_P14.TIF"
RELEASE_ID = 0005
REVISION_ID = 0000
/* QUALITY DATA ELEMENTS */
DATA_QUALITY_ID = 1
DATA_QUALITY_DESC = "Data calculated based on original SPICE kernels"
/* TIME DATA ELEMENTS */
SPACECRAFT_CLOCK_START_COUNT = "1/0420053379.08401"
SPACECRAFT_CLOCK_STOP_COUNT = "1/0420053672.57382"
START_TIME = 2016-08-23T17:30:00.651Z
STOP_TIME = 2016-08-23T17:32:58.353Z
/* ORBITAL DATA ELEMENTS */
ASCENDING_NODE_LONGITUDE = 272.93
MAXIMUM_RESOLUTION = 0.0368
FOOTPRINT_POINT_LATITUDE = (63.5495,63.5364,63.5244,63.5103, 63.4942,63.476,63.4559,63.4546,63.3754, 62.8674,62.4614,62.0473,61.5283,61.1134 ,60.9017,60.6896,60.4776,60.2657,59.948 ,59.7332,59.5167,59.3004,59.0843, 58.7605,58.5403,58.3197,58.099,57.8786, 57.5459,57.3211,57.0964,56.8718,56.6474 ,56.4185,56.1894,55.9609,55.7324, 55.5008,55.2681,55.0352,54.8027,54.567, 54.3298,54.0926,53.8558,53.4944,53.2534 ,53.0126,52.6461,52.4011,52.2788, 52.2507,52.2649,52.282,52.2932,52.2981, 52.3007,52.3007,52.3014,52.5472,52.7932 ,53.0384,53.2801,53.6431,53.8853, 54.1229,54.3606,54.5987,54.9526,55.1862 ,55.4201,55.7701,55.9996,56.2292, 56.4592,56.6892,56.9148,57.2531,57.4787 ,57.8155,58.037,58.2581,58.4797,58.7013 ,59.0291,59.3549,59.6807,59.898,60.1118 ,60.3245,60.6439,60.8568,61.2808, 61.6976,62.115,62.5318,62.9398,63.3484, 63.4507,63.5495)
FOOTPRINT_POINT_LONGITUDE = (119.678,118.95,118.424,117.901,117.381 ,116.864,116.35,116.318,116.292,116.39, 116.465,116.539,116.627,116.693,116.726 ,116.759,116.79,116.821,116.866,116.896 ,116.925,116.954,116.981,117.022, 117.049,117.075,117.101,117.126,117.163 ,117.187,117.21,117.233,117.255,117.278 ,117.299,117.32,117.341,117.361,117.381 ,117.401,117.419,117.438,117.456, 117.474,117.491,117.516,117.532,117.548 ,117.571,117.586,117.593,117.594, 118.079,118.81,119.546,120.04,120.722, 120.753,120.764,120.751,120.738,120.724 ,120.711,120.69,120.675,120.661,120.647 ,120.632,120.609,120.594,120.578, 120.554,120.539,120.522,120.506,120.489 ,120.472,120.446,120.428,120.402, 120.383,120.365,120.346,120.327,120.298 ,120.268,120.238,120.218,120.197, 120.176,120.144,120.122,120.077,120.032 ,119.984,119.935,119.886,119.834,119.82 ,119.678)
ORBIT_NUMBER = 16022
ORBITAL_ECCENTRICITY = 0.571
ORBITAL_INCLINATION = 86.95
ORBITAL_SEMIMAJOR_AXIS = 8764.99
PERIAPSIS_ALTITUDE = 386.05
PERIAPSIS_ARGUMENT_ANGLE = 97.65
PERIAPSIS_TIME = 2016-08-23T17:25:32.000Z
SPACECRAFT_ORIENTATION = (0.0,-1.0,0.0)
^MEX_ORIENTATION_DESC = "MEX_ORIENTATION_DESC.TXT"
SPACECRAFT_POINTING_MODE = ACROSSTRACK
^MEX_POINTING_DESC = "MEX_POINTING_DESC.TXT"
RIGHT_ASCENSION = -1e+32
DECLINATION = -1e+32
OFFSET_ANGLE = 0.43
SPACECRAFT_SOLAR_DISTANCE = 2.11227e+08
TARGET_NAME = MARS
/* CAMERA DATA ELEMENTS */
DETECTOR_TEMPERATURE = 17.351
FOCAL_PLANE_TEMPERATURE = 8.1755
INST_CMPRS_NAME = "DISCRETE COSINE TRANSFORMATION (DCT)"
INST_CMPRS_RATIO = 12.2126
INST_CMPRS_QUALITY = 0
INST_CMPRS_QUANTZ_TBL_ID = 0
INSTRUMENT_TEMPERATURE = 11.4379
LENS_TEMPERATURE = 8.5833
MACROPIXEL_SIZE = 2
MISSING_FRAMES = 0
PIXEL_SUBSAMPLING_FLAG = N
SIGNAL_CHAIN_ID = 3
/* RADIOMETRIC DATA ELEMENTS */
BANDWIDTH = 174.0
CENTER_FILTER_WAVELENGTH = 675.0
RADIANCE_OFFSET = 3.3737
RADIANCE_SCALING_FACTOR = 0.00826886
REFLECTANCE_SCALING_FACTOR = 0.00019844
MEX:REFLECTANCE_OFFSET = 0.0809635
/* IMAGE OBJECT DEFINITIONS */
OBJECT = IMAGE
  INTERCHANGE_FORMAT = BINARY
  LINES = 26644
  LINE_SAMPLES = 5586
  SAMPLE_TYPE = UNSIGNED_INTEGER
  SAMPLE_BITS = 8
  BANDS = 1
  BAND_STORAGE_TYPE = BAND_SEQUENTIAL
  MAXIMUM = 255
  MEAN = 147.137
  MINIMUM = 1
  STANDARD_DEVIATION = 60.5346
END_OBJECT = IMAGE
/* MAP OBJECT DEFINITIONS */
OBJECT = IMAGE_MAP_PROJECTION
  ^DATA_SET_MAP_PROJECTION_CATALOG= "DSMAP.CAT"
  A_AXIS_RADIUS = 3396.0
  B_AXIS_RADIUS = 3396.0
  C_AXIS_RADIUS = 3396.0
  CENTER_LATITUDE = 0.0
  CENTER_LONGITUDE = 119.0
  COORDINATE_SYSTEM_NAME = PLANETOGRAPHIC
  COORDINATE_SYSTEM_TYPE = "BODY-FIXED ROTATING"
  EASTERNMOST_LONGITUDE = 120.764
  FIRST_STANDARD_PARALLEL = "N/A"
  LINE_FIRST_PIXEL = 1
  LINE_LAST_PIXEL = 26644
  LINE_PROJECTION_OFFSET = 150528.75
  MAP_PROJECTION_ROTATION = 0.0
  MAP_PROJECTION_TYPE = SINUSOIDAL
  MAP_RESOLUTION = 2370.85521546667
  MAP_SCALE = 0.025
  MAXIMUM_LATITUDE = 63.5495
  MINIMUM_LATITUDE = 52.2507
  POSITIVE_LONGITUDE_DIRECTION = EAST
  REFERENCE_LATITUDE = "N/A"
  REFERENCE_LONGITUDE = "N/A"
  SAMPLE_FIRST_PIXEL = 1
  SAMPLE_LAST_PIXEL = 5586
  SAMPLE_PROJECTION_OFFSET = 2943.25
  SECOND_STANDARD_PARALLEL = "N/A"
  WESTERNMOST_LONGITUDE = 116.292
END_OBJECT = IMAGE_MAP_PROJECTION
END
