PDS_VERSION_ID = PDS3
/* FILE DATA ELEMENTS */
RECORD_TYPE = UNDEFINED
/* POINTERS TO DATA OBJECTS */
^IMAGE = ("HG022_0000_IR4.TIF")
/* IDENTIFICATION DATA ELEMENTS */
DATA_SET_ID = "MEX-M-HRSC-4-REFDR-MAPPROJECT-EXT5-V4.0"
DATA_SET_NAME = "MARS EXPRESS HRSC MAP PROJECTED REFDR EXTENSION5 V4.0"
DETECTOR_ID = MEX_HRSC_IR
EVENT_TYPE = "MARS-REGIONAL-MAPPING-Vo-Gl-Pf"
INSTRUMENT_HOST_ID = MEX
INSTRUMENT_HOST_NAME = "MARS EXPRESS"
INSTRUMENT_ID = HRSC
INSTRUMENT_NAME = "HIGH RESOLUTION STEREO CAMERA"
MISSION_NAME = "MARS EXPRESS"
MISSION_PHASE_NAME = ME_Phase_35
PROCESSING_LEVEL_ID = 4
PRODUCT_CREATION_TIME = 2023-02-01T10:02:00.000Z
PRODUCT_ID = "HG022_0000_IR4.TIF"
RELEASE_ID = 0005
REVISION_ID = 0000
/* QUALITY DATA ELEMENTS */
DATA_QUALITY_ID = 1
DATA_QUALITY_DESC = "Data calculated based on original SPICE kernels"
/* TIME DATA ELEMENTS */
SPACECRAFT_CLOCK_START_COUNT = "1/0420053379.08401"
SPACECRAFT_CLOCK_STOP_COUNT = "1/0420053672.57382"
START_TIME = 2016-08-23T17:29:53.929Z
STOP_TIME = 2016-08-23T17:32:49.720Z
/* ORBITAL DATA ELEMENTS */
ASCENDING_NODE_LONGITUDE = 272.93
MAXIMUM_RESOLUTION = 0.0743
FOOTPRINT_POINT_LATITUDE = (63.5488,63.5352,63.5243,63.5114, 63.4966,63.4799,63.4613,63.46,63.3597, 62.8504,62.545,62.1382,61.8304,61.414, 61.2058,60.6859,60.3681,60.1554,59.8366 ,59.624,59.4116,59.0862,58.8692,58.5443 ,58.3274,57.9964,57.775,57.443,57.222, 56.9974,56.7717,56.4331,56.2075,55.9792 ,55.7493,55.4047,55.1755,54.9419, 54.7076,54.4736,54.2395,53.8824,53.6439 ,53.4058,53.0439,52.8014,52.4381, 52.3156,52.2369,52.2522,52.2625,52.273, 52.2779,52.2801,52.2809,52.2809,52.2822 ,52.6498,52.8929,53.1363,53.379,53.6181 ,53.9768,54.3342,54.569,54.804,55.0393, 55.2729,55.6189,55.9651,56.196,56.4224, 56.7621,56.9888,57.3267,57.5488,57.7709 ,57.9934,58.2157,58.4357,58.6534, 58.8713,59.0893,59.4164,59.6308,59.844, 60.1643,60.3778,60.5917,60.803,61.0118, 61.2208,61.5344,61.7436,62.057,62.4658, 62.8749,63.2845,63.387,63.5488)
FOOTPRINT_POINT_LONGITUDE = (119.673,118.851,118.349,117.85,117.353 ,116.859,116.368,116.337,116.319, 116.418,116.475,116.548,116.601,116.67, 116.703,116.784,116.831,116.862,116.907 ,116.936,116.964,117.007,117.034, 117.074,117.1,117.139,117.164,117.2, 117.223,117.247,117.27,117.303,117.324, 117.346,117.366,117.397,117.416,117.436 ,117.455,117.473,117.491,117.517, 117.534,117.55,117.574,117.59,117.612, 117.62,117.624,118.171,118.634,119.304, 119.773,120.126,120.716,120.745,120.755 ,120.736,120.723,120.709,120.696, 120.682,120.661,120.639,120.625,120.61, 120.595,120.579,120.556,120.533,120.516 ,120.5,120.475,120.458,120.433,120.415, 120.398,120.379,120.361,120.343,120.324 ,120.305,120.286,120.256,120.236, 120.216,120.186,120.165,120.143,120.122 ,120.1,120.078,120.044,120.021,119.986, 119.938,119.889,119.837,119.824, 119.673)
ORBIT_NUMBER = 16022
ORBITAL_ECCENTRICITY = 0.571
ORBITAL_INCLINATION = 86.95
ORBITAL_SEMIMAJOR_AXIS = 8764.99
PERIAPSIS_ALTITUDE = 386.05
PERIAPSIS_ARGUMENT_ANGLE = 97.65
PERIAPSIS_TIME = 2016-08-23T17:25:32.000Z
SPACECRAFT_ORIENTATION = (0.0,-1.0,0.0)
^MEX_ORIENTATION_DESC = "MEX_ORIENTATION_DESC.TXT"
SPACECRAFT_POINTING_MODE = ACROSSTRACK
^MEX_POINTING_DESC = "MEX_POINTING_DESC.TXT"
RIGHT_ASCENSION = -1e+32
DECLINATION = -1e+32
OFFSET_ANGLE = 0.43
SPACECRAFT_SOLAR_DISTANCE = 2.11227e+08
TARGET_NAME = MARS
/* CAMERA DATA ELEMENTS */
DETECTOR_TEMPERATURE = 17.351
FOCAL_PLANE_TEMPERATURE = 8.1755
INST_CMPRS_NAME = "DISCRETE COSINE TRANSFORMATION (DCT)"
INST_CMPRS_RATIO = 12.545
INST_CMPRS_QUALITY = 0
INST_CMPRS_QUANTZ_TBL_ID = 0
INSTRUMENT_TEMPERATURE = 11.4379
LENS_TEMPERATURE = 8.5833
MACROPIXEL_SIZE = 4
MISSING_FRAMES = 0
PIXEL_SUBSAMPLING_FLAG = N
SIGNAL_CHAIN_ID = 2
/* RADIOMETRIC DATA ELEMENTS */
BANDWIDTH = 81.0
CENTER_FILTER_WAVELENGTH = 955.5
RADIANCE_OFFSET = 0.741009
RADIANCE_SCALING_FACTOR = 0.00224261
REFLECTANCE_SCALING_FACTOR = 0.000215864
MEX:REFLECTANCE_OFFSET = 0.0713262
/* IMAGE OBJECT DEFINITIONS */
OBJECT = IMAGE
  INTERCHANGE_FORMAT = BINARY
  LINES = 13322
  LINE_SAMPLES = 2793
  SAMPLE_TYPE = UNSIGNED_INTEGER
  SAMPLE_BITS = 8
  BANDS = 1
  BAND_STORAGE_TYPE = BAND_SEQUENTIAL
  MAXIMUM = 254
  MEAN = 149.925
  MINIMUM = 1
  STANDARD_DEVIATION = 56.1823
END_OBJECT = IMAGE
/* MAP OBJECT DEFINITIONS */
OBJECT = IMAGE_MAP_PROJECTION
  ^DATA_SET_MAP_PROJECTION_CATALOG= "DSMAP.CAT"
  A_AXIS_RADIUS = 3396.0
  B_AXIS_RADIUS = 3396.0
  C_AXIS_RADIUS = 3396.0
  CENTER_LATITUDE = 0.0
  CENTER_LONGITUDE = 119.0
  COORDINATE_SYSTEM_NAME = PLANETOGRAPHIC
  COORDINATE_SYSTEM_TYPE = "BODY-FIXED ROTATING"
  EASTERNMOST_LONGITUDE = 120.755
  FIRST_STANDARD_PARALLEL = "N/A"
  LINE_FIRST_PIXEL = 1
  LINE_LAST_PIXEL = 13322
  LINE_PROJECTION_OFFSET = 75264.125
  MAP_PROJECTION_ROTATION = 0.0
  MAP_PROJECTION_TYPE = SINUSOIDAL
  MAP_RESOLUTION = 1185.42760773333
  MAP_SCALE = 0.05
  MAXIMUM_LATITUDE = 63.5488
  MINIMUM_LATITUDE = 52.2369
  POSITIVE_LONGITUDE_DIRECTION = EAST
  REFERENCE_LATITUDE = "N/A"
  REFERENCE_LONGITUDE = "N/A"
  SAMPLE_FIRST_PIXEL = 1
  SAMPLE_LAST_PIXEL = 2793
  SAMPLE_PROJECTION_OFFSET = 1471.375
  SECOND_STANDARD_PARALLEL = "N/A"
  WESTERNMOST_LONGITUDE = 116.319
END_OBJECT = IMAGE_MAP_PROJECTION
END
