PDS_VERSION_ID = PDS3
/* FILE DATA ELEMENTS */
RECORD_TYPE = UNDEFINED
/* POINTERS TO DATA OBJECTS */
^IMAGE = ("HG013_0000_RE4.TIF")
/* IDENTIFICATION DATA ELEMENTS */
DATA_SET_ID = "MEX-M-HRSC-4-REFDR-MAPPROJECT-EXT5-V4.0"
DATA_SET_NAME = "MARS EXPRESS HRSC MAP PROJECTED REFDR EXTENSION5 V4.0"
DETECTOR_ID = MEX_HRSC_RED
EVENT_TYPE = "MARS-REGIONAL-MAPPING-Im-Gl-Pf"
INSTRUMENT_HOST_ID = MEX
INSTRUMENT_HOST_NAME = "MARS EXPRESS"
INSTRUMENT_ID = HRSC
INSTRUMENT_NAME = "HIGH RESOLUTION STEREO CAMERA"
MISSION_NAME = "MARS EXPRESS"
MISSION_PHASE_NAME = ME_Phase_35
PROCESSING_LEVEL_ID = 4
PRODUCT_CREATION_TIME = 2023-02-01T10:02:00.000Z
PRODUCT_ID = "HG013_0000_RE4.TIF"
RELEASE_ID = 0005
REVISION_ID = 0000
/* QUALITY DATA ELEMENTS */
DATA_QUALITY_ID = 1
DATA_QUALITY_DESC = "Data calculated based on original SPICE kernels"
/* TIME DATA ELEMENTS */
SPACECRAFT_CLOCK_START_COUNT = "1/0419826684.08304"
SPACECRAFT_CLOCK_STOP_COUNT = "1/0419827130.35700"
START_TIME = 2016-08-21T02:32:45.893Z
STOP_TIME = 2016-08-21T02:38:41.903Z
/* ORBITAL DATA ELEMENTS */
ASCENDING_NODE_LONGITUDE = 273.09
MAXIMUM_RESOLUTION = 0.0759
FOOTPRINT_POINT_LATITUDE = (65.0813,65.0521,65.0045,64.9402, 64.9385,65.042,64.2005,63.1774,62.1362, 61.7845,61.4319,61.0803,60.7229,60.3648 ,59.8253,59.4621,58.9149,58.546,58.1781 ,57.8037,57.4306,57.0522,56.6738, 56.2914,55.9079,55.5206,55.1319,54.7387 ,54.1457,53.7471,53.3452,52.7374, 52.1223,51.5011,51.0837,50.6615,50.2364 ,49.8091,49.3779,48.9421,48.5032,48.061 ,47.6158,47.167,46.7141,46.2637,45.816, 45.5931,45.5629,45.5766,45.5896,45.5987 ,45.6046,45.6078,45.6079,45.6093, 46.0585,46.51,46.9639,47.6437,48.0919, 48.5366,48.9779,49.4164,49.8498,50.2796 ,50.7073,51.1323,51.5517,52.1767, 52.7948,53.4062,53.8109,54.2108,54.8072 ,55.2027,55.593,55.9827,56.3682,56.7528 ,57.1331,57.5139,57.8889,58.4506, 58.8207,59.1918,59.5564,59.9218,60.2851 ,60.8245,61.1844,61.5382,61.8927, 62.2468,62.9437,63.2941,63.9806,65.0032 ,65.1721,65.0813)
FOOTPRINT_POINT_LONGITUDE = (319.213,318.31,317.076,315.679,315.646 ,315.513,315.736,315.981,316.207, 316.278,316.346,316.412,316.477,316.54, 316.63,316.687,316.771,316.824,316.876, 316.926,316.974,317.021,317.066,317.11, 317.152,317.193,317.233,317.271,317.325 ,317.359,317.392,317.439,317.484, 317.525,317.551,317.575,317.598,317.62, 317.641,317.661,317.679,317.696,317.712 ,317.726,317.739,317.751,317.762, 317.767,317.767,318.431,319.195,319.893 ,320.558,321.291,321.324,321.335, 321.311,321.286,321.26,321.22,321.193, 321.166,321.138,321.109,321.081,321.051 ,321.022,320.992,320.961,320.914, 320.865,320.816,320.782,320.747,320.694 ,320.658,320.621,320.583,320.545, 320.505,320.466,320.425,320.383,320.319 ,320.276,320.231,320.185,320.139, 320.091,320.017,319.967,319.916,319.863 ,319.809,319.697,319.639,319.52,319.329 ,319.295,319.213)
ORBIT_NUMBER = 16013
ORBITAL_ECCENTRICITY = 0.571
ORBITAL_INCLINATION = 86.96
ORBITAL_SEMIMAJOR_AXIS = 8763.8
PERIAPSIS_ALTITUDE = 386.03
PERIAPSIS_ARGUMENT_ANGLE = 99.22
PERIAPSIS_TIME = 2016-08-21T02:28:08.000Z
SPACECRAFT_ORIENTATION = (0.0,-1.0,0.0)
^MEX_ORIENTATION_DESC = "MEX_ORIENTATION_DESC.TXT"
SPACECRAFT_POINTING_MODE = NADIR
^MEX_POINTING_DESC = "MEX_POINTING_DESC.TXT"
RIGHT_ASCENSION = -1e+32
DECLINATION = -1e+32
OFFSET_ANGLE = -1e+32
SPACECRAFT_SOLAR_DISTANCE = 2.11575e+08
TARGET_NAME = MARS
/* CAMERA DATA ELEMENTS */
DETECTOR_TEMPERATURE = 18.5744
FOCAL_PLANE_TEMPERATURE = 8.5833
INST_CMPRS_NAME = "DISCRETE COSINE TRANSFORMATION (DCT)"
INST_CMPRS_RATIO = 33.6591
INST_CMPRS_QUALITY = 0
INST_CMPRS_QUANTZ_TBL_ID = 0
INSTRUMENT_TEMPERATURE = 11.0301
LENS_TEMPERATURE = 9.8067
MACROPIXEL_SIZE = 4
MISSING_FRAMES = 0
PIXEL_SUBSAMPLING_FLAG = N
SIGNAL_CHAIN_ID = 2
/* RADIOMETRIC DATA ELEMENTS */
BANDWIDTH = 48.0
CENTER_FILTER_WAVELENGTH = 748.0
RADIANCE_OFFSET = 0.64518
RADIANCE_SCALING_FACTOR = 0.00355683
REFLECTANCE_SCALING_FACTOR = 0.000363342
MEX:REFLECTANCE_OFFSET = 0.0659073
/* IMAGE OBJECT DEFINITIONS */
OBJECT = IMAGE
  INTERCHANGE_FORMAT = BINARY
  LINES = 23287
  LINE_SAMPLES = 3507
  SAMPLE_TYPE = UNSIGNED_INTEGER
  SAMPLE_BITS = 8
  BANDS = 1
  BAND_STORAGE_TYPE = BAND_SEQUENTIAL
  MAXIMUM = 255
  MEAN = 140.166
  MINIMUM = 1
  STANDARD_DEVIATION = 53.325
END_OBJECT = IMAGE
/* MAP OBJECT DEFINITIONS */
OBJECT = IMAGE_MAP_PROJECTION
  ^DATA_SET_MAP_PROJECTION_CATALOG= "DSMAP.CAT"
  A_AXIS_RADIUS = 3396.0
  B_AXIS_RADIUS = 3396.0
  C_AXIS_RADIUS = 3396.0
  CENTER_LATITUDE = 0.0
  CENTER_LONGITUDE = 319.0
  COORDINATE_SYSTEM_NAME = PLANETOGRAPHIC
  COORDINATE_SYSTEM_TYPE = "BODY-FIXED ROTATING"
  EASTERNMOST_LONGITUDE = 321.335
  FIRST_STANDARD_PARALLEL = "N/A"
  LINE_FIRST_PIXEL = 1
  LINE_LAST_PIXEL = 23287
  LINE_PROJECTION_OFFSET = 77247.375
  MAP_PROJECTION_ROTATION = 0.0
  MAP_PROJECTION_TYPE = SINUSOIDAL
  MAP_RESOLUTION = 1185.42760773333
  MAP_SCALE = 0.05
  MAXIMUM_LATITUDE = 65.1721
  MINIMUM_LATITUDE = 45.5629
  POSITIVE_LONGITUDE_DIRECTION = EAST
  REFERENCE_LATITUDE = "N/A"
  REFERENCE_LONGITUDE = "N/A"
  SAMPLE_FIRST_PIXEL = 1
  SAMPLE_LAST_PIXEL = 3507
  SAMPLE_PROJECTION_OFFSET = 1712.375
  SECOND_STANDARD_PARALLEL = "N/A"
  WESTERNMOST_LONGITUDE = 315.513
END_OBJECT = IMAGE_MAP_PROJECTION
END
