PDS_VERSION_ID = PDS3
/* FILE DATA ELEMENTS */
RECORD_TYPE = UNDEFINED
/* POINTERS TO DATA OBJECTS */
^IMAGE = ("HG013_0000_BL4.TIF")
/* IDENTIFICATION DATA ELEMENTS */
DATA_SET_ID = "MEX-M-HRSC-4-REFDR-MAPPROJECT-EXT5-V4.0"
DATA_SET_NAME = "MARS EXPRESS HRSC MAP PROJECTED REFDR EXTENSION5 V4.0"
DETECTOR_ID = MEX_HRSC_BLUE
EVENT_TYPE = "MARS-REGIONAL-MAPPING-Im-Gl-Pf"
INSTRUMENT_HOST_ID = MEX
INSTRUMENT_HOST_NAME = "MARS EXPRESS"
INSTRUMENT_ID = HRSC
INSTRUMENT_NAME = "HIGH RESOLUTION STEREO CAMERA"
MISSION_NAME = "MARS EXPRESS"
MISSION_PHASE_NAME = ME_Phase_35
PROCESSING_LEVEL_ID = 4
PRODUCT_CREATION_TIME = 2023-02-01T10:02:00.000Z
PRODUCT_ID = "HG013_0000_BL4.TIF"
RELEASE_ID = 0005
REVISION_ID = 0000
/* QUALITY DATA ELEMENTS */
DATA_QUALITY_ID = 1
DATA_QUALITY_DESC = "Data calculated based on original SPICE kernels"
/* TIME DATA ELEMENTS */
SPACECRAFT_CLOCK_START_COUNT = "1/0419826684.08304"
SPACECRAFT_CLOCK_STOP_COUNT = "1/0419827130.35700"
START_TIME = 2016-08-21T02:32:17.913Z
STOP_TIME = 2016-08-21T02:37:51.486Z
/* ORBITAL DATA ELEMENTS */
ASCENDING_NODE_LONGITUDE = 273.09
MAXIMUM_RESOLUTION = 0.0706
FOOTPRINT_POINT_LATITUDE = (65.1408,65.1061,65.0589,64.9995, 64.9978,65.0145,64.0095,63.326,62.643, 62.2946,61.7719,61.4241,61.0697,60.7147 ,60.3602,60.0014,59.6399,59.2791,58.914 ,58.5462,58.1793,57.6196,57.2463, 56.6782,56.2988,55.7213,55.3361,54.9437 ,54.5523,54.1555,53.7582,53.3559, 52.9527,52.5439,51.9272,51.5124,51.0932 ,50.4593,49.8173,49.3858,48.9487, 48.5092,47.8424,47.3939,46.9404,46.4826 ,45.789,45.5554,45.5349,45.5577,45.573, 45.5839,45.5896,45.5897,45.5912,46.2925 ,46.7539,47.2112,47.6649,48.1154, 48.5601,49.2214,49.8745,50.5195,51.1567 ,51.5779,51.9946,52.6143,53.0252, 53.4301,53.8345,54.2335,54.6324,55.0255 ,55.4195,55.8068,56.3872,56.7683, 57.3393,57.7143,58.277,58.6457,59.0152, 59.3824,59.7451,60.1084,60.4694,60.8257 ,61.1826,61.5392,61.889,62.4146,62.7653 ,63.1086,63.4523,63.7966,64.4772, 64.9832,65.1521,65.1408)
FOOTPRINT_POINT_LONGITUDE = (319.137,318.104,316.946,315.727, 315.695,315.59,315.855,316.02,316.174, 316.249,316.356,316.425,316.492,316.557 ,316.62,316.681,316.741,316.798,316.854 ,316.908,316.96,317.036,317.085,317.155 ,317.199,317.264,317.305,317.345, 317.384,317.421,317.457,317.491,317.524 ,317.556,317.602,317.63,317.658,317.696 ,317.733,317.755,317.777,317.797, 317.825,317.842,317.858,317.873,317.893 ,317.899,317.9,318.756,319.522,320.319, 321.148,321.179,321.189,321.155,321.132 ,321.108,321.084,321.06,321.035,320.996 ,320.956,320.915,320.873,320.844, 320.815,320.77,320.739,320.707,320.675, 320.642,320.608,320.574,320.539,320.503 ,320.448,320.41,320.352,320.312,320.251 ,320.209,320.166,320.122,320.078, 320.031,319.984,319.937,319.887,319.837 ,319.786,319.706,319.651,319.596, 319.538,319.48,319.358,319.263,319.23, 319.137)
ORBIT_NUMBER = 16013
ORBITAL_ECCENTRICITY = 0.571
ORBITAL_INCLINATION = 86.96
ORBITAL_SEMIMAJOR_AXIS = 8763.8
PERIAPSIS_ALTITUDE = 386.03
PERIAPSIS_ARGUMENT_ANGLE = 99.22
PERIAPSIS_TIME = 2016-08-21T02:28:08.000Z
SPACECRAFT_ORIENTATION = (0.0,-1.0,0.0)
^MEX_ORIENTATION_DESC = "MEX_ORIENTATION_DESC.TXT"
SPACECRAFT_POINTING_MODE = NADIR
^MEX_POINTING_DESC = "MEX_POINTING_DESC.TXT"
RIGHT_ASCENSION = -1e+32
DECLINATION = -1e+32
OFFSET_ANGLE = -1e+32
SPACECRAFT_SOLAR_DISTANCE = 2.11575e+08
TARGET_NAME = MARS
/* CAMERA DATA ELEMENTS */
DETECTOR_TEMPERATURE = 18.5744
FOCAL_PLANE_TEMPERATURE = 8.5833
INST_CMPRS_NAME = "DISCRETE COSINE TRANSFORMATION (DCT)"
INST_CMPRS_RATIO = 7.73121
INST_CMPRS_QUALITY = 0
INST_CMPRS_QUANTZ_TBL_ID = 0
INSTRUMENT_TEMPERATURE = 11.0301
LENS_TEMPERATURE = 9.8067
MACROPIXEL_SIZE = 4
MISSING_FRAMES = 0
PIXEL_SUBSAMPLING_FLAG = N
SIGNAL_CHAIN_ID = 2
/* RADIOMETRIC DATA ELEMENTS */
BANDWIDTH = 76.0
CENTER_FILTER_WAVELENGTH = 444.0
RADIANCE_OFFSET = 0.722355
RADIANCE_SCALING_FACTOR = 0.0024204
REFLECTANCE_SCALING_FACTOR = 0.000111319
MEX:REFLECTANCE_OFFSET = 0.0332225
/* IMAGE OBJECT DEFINITIONS */
OBJECT = IMAGE
  INTERCHANGE_FORMAT = BINARY
  LINES = 23287
  LINE_SAMPLES = 3507
  SAMPLE_TYPE = UNSIGNED_INTEGER
  SAMPLE_BITS = 8
  BANDS = 1
  BAND_STORAGE_TYPE = BAND_SEQUENTIAL
  MAXIMUM = 255
  MEAN = 144.709
  MINIMUM = 1
  STANDARD_DEVIATION = 56.6465
END_OBJECT = IMAGE
/* MAP OBJECT DEFINITIONS */
OBJECT = IMAGE_MAP_PROJECTION
  ^DATA_SET_MAP_PROJECTION_CATALOG= "DSMAP.CAT"
  A_AXIS_RADIUS = 3396.0
  B_AXIS_RADIUS = 3396.0
  C_AXIS_RADIUS = 3396.0
  CENTER_LATITUDE = 0.0
  CENTER_LONGITUDE = 319.0
  COORDINATE_SYSTEM_NAME = PLANETOGRAPHIC
  COORDINATE_SYSTEM_TYPE = "BODY-FIXED ROTATING"
  EASTERNMOST_LONGITUDE = 321.189
  FIRST_STANDARD_PARALLEL = "N/A"
  LINE_FIRST_PIXEL = 1
  LINE_LAST_PIXEL = 23287
  LINE_PROJECTION_OFFSET = 77247.375
  MAP_PROJECTION_ROTATION = 0.0
  MAP_PROJECTION_TYPE = SINUSOIDAL
  MAP_RESOLUTION = 1185.42760773333
  MAP_SCALE = 0.05
  MAXIMUM_LATITUDE = 65.1521
  MINIMUM_LATITUDE = 45.5349
  POSITIVE_LONGITUDE_DIRECTION = EAST
  REFERENCE_LATITUDE = "N/A"
  REFERENCE_LONGITUDE = "N/A"
  SAMPLE_FIRST_PIXEL = 1
  SAMPLE_LAST_PIXEL = 3507
  SAMPLE_PROJECTION_OFFSET = 1712.375
  SECOND_STANDARD_PARALLEL = "N/A"
  WESTERNMOST_LONGITUDE = 315.59
END_OBJECT = IMAGE_MAP_PROJECTION
END
