PDS_VERSION_ID = PDS3
/* FILE DATA ELEMENTS */
RECORD_TYPE = UNDEFINED
/* POINTERS TO DATA OBJECTS */
^IMAGE = ("HF989_0000_P14.TIF")
/* IDENTIFICATION DATA ELEMENTS */
DATA_SET_ID = "MEX-M-HRSC-4-REFDR-MAPPROJECT-EXT5-V4.0"
DATA_SET_NAME = "MARS EXPRESS HRSC MAP PROJECTED REFDR EXTENSION5 V4.0"
DETECTOR_ID = MEX_HRSC_P1
EVENT_TYPE = "MARS-REGIONAL-STEREO-Vo-Te"
INSTRUMENT_HOST_ID = MEX
INSTRUMENT_HOST_NAME = "MARS EXPRESS"
INSTRUMENT_ID = HRSC
INSTRUMENT_NAME = "HIGH RESOLUTION STEREO CAMERA"
MISSION_NAME = "MARS EXPRESS"
MISSION_PHASE_NAME = ME_Phase_35
PROCESSING_LEVEL_ID = 4
PRODUCT_CREATION_TIME = 2023-01-31T07:53:46.000Z
PRODUCT_ID = "HF989_0000_P14.TIF"
RELEASE_ID = 0004
REVISION_ID = 0000
/* QUALITY DATA ELEMENTS */
DATA_QUALITY_ID = 1
DATA_QUALITY_DESC = "Data calculated based on original SPICE kernels"
/* TIME DATA ELEMENTS */
SPACECRAFT_CLOCK_START_COUNT = "1/0419222494.09058"
SPACECRAFT_CLOCK_STOP_COUNT = "1/0419222891.18137"
START_TIME = 2016-08-14T02:41:58.698Z
STOP_TIME = 2016-08-14T02:45:45.906Z
/* ORBITAL DATA ELEMENTS */
ASCENDING_NODE_LONGITUDE = 273.54
MAXIMUM_RESOLUTION = 0.043
FOOTPRINT_POINT_LATITUDE = (48.5668,48.5445,48.5201,48.4937,48.465 ,48.4341,48.3876,48.3854,48.3344, 47.8586,47.378,46.8934,46.4068,45.9127, 45.4175,45.0392,44.7873,44.5308,44.2741 ,43.8858,43.6249,43.3642,43.1005, 42.8361,42.4379,42.1698,41.9024,41.631, 41.2243,40.8115,40.5363,40.2565,39.9774 ,39.5529,39.2697,38.9815,38.6939, 38.4032,38.1117,37.8169,37.5216,37.2235 ,36.926,36.4799,36.1844,35.8878,35.4449 ,35.0019,34.8546,34.7922,34.8173, 34.8413,34.8567,34.8818,34.8967,34.9143 ,34.915,34.916,35.3606,35.6572,35.9511, 36.2535,36.5508,36.8492,37.1493,37.4478 ,37.8936,38.1893,38.4805,38.7724, 39.0606,39.4925,39.7769,40.0609,40.3414 ,40.7616,41.0383,41.4524,41.7252,42.134 ,42.4032,42.8069,43.2049,43.4701, 43.7315,43.993,44.2534,44.5099,44.7668, 45.0228,45.2753,45.5287,45.7806,46.2779 ,46.7726,47.1405,47.628,48.3522,48.4708 ,48.5668)
FOOTPRINT_POINT_LONGITUDE = (254.22,253.804,253.385,252.961,252.533 ,252.101,251.498,251.47,251.393,251.44, 251.483,251.528,251.571,251.613,251.655 ,251.682,251.699,251.716,251.732, 251.754,251.769,251.782,251.796,251.81, 251.83,251.842,251.855,251.868,251.886, 251.902,251.913,251.923,251.932,251.945 ,251.953,251.959,251.965,251.971, 251.977,251.981,251.986,251.989,251.994 ,252.0,252.005,252.007,252.011,252.013, 252.013,252.013,252.464,252.942,253.298 ,253.915,254.382,255.018,255.047, 255.057,255.039,255.027,255.015,255.003 ,254.99,254.977,254.964,254.95,254.93, 254.916,254.902,254.887,254.873,254.851 ,254.836,254.821,254.805,254.782, 254.766,254.742,254.726,254.701,254.684 ,254.659,254.633,254.615,254.597, 254.579,254.561,254.543,254.524,254.505 ,254.486,254.467,254.447,254.407, 254.366,254.335,254.293,254.228,254.217 ,254.22)
ORBIT_NUMBER = 15989
ORBITAL_ECCENTRICITY = 0.571
ORBITAL_INCLINATION = 86.95
ORBITAL_SEMIMAJOR_AXIS = 8766.38
PERIAPSIS_ALTITUDE = 384.59
PERIAPSIS_ARGUMENT_ANGLE = 103.33
PERIAPSIS_TIME = 2016-08-14T02:35:03.000Z
SPACECRAFT_ORIENTATION = (0.0,-1.0,0.0)
^MEX_ORIENTATION_DESC = "MEX_ORIENTATION_DESC.TXT"
SPACECRAFT_POINTING_MODE = ACROSSTRACK
^MEX_POINTING_DESC = "MEX_POINTING_DESC.TXT"
RIGHT_ASCENSION = -1e+32
DECLINATION = -1e+32
OFFSET_ANGLE = -1.2
SPACECRAFT_SOLAR_DISTANCE = 2.12551e+08
TARGET_NAME = MARS
/* CAMERA DATA ELEMENTS */
DETECTOR_TEMPERATURE = 17.9627
FOCAL_PLANE_TEMPERATURE = 8.5833
INST_CMPRS_NAME = "DISCRETE COSINE TRANSFORMATION (DCT)"
INST_CMPRS_RATIO = 4.21237
INST_CMPRS_QUALITY = 0
INST_CMPRS_QUANTZ_TBL_ID = 0
INSTRUMENT_TEMPERATURE = 11.8457
LENS_TEMPERATURE = 8.9911
MACROPIXEL_SIZE = 2
MISSING_FRAMES = 0
PIXEL_SUBSAMPLING_FLAG = N
SIGNAL_CHAIN_ID = 3
/* RADIOMETRIC DATA ELEMENTS */
BANDWIDTH = 174.0
CENTER_FILTER_WAVELENGTH = 675.0
RADIANCE_OFFSET = 1.97079
RADIANCE_SCALING_FACTOR = 0.0430342
REFLECTANCE_SCALING_FACTOR = 0.00104574
MEX:REFLECTANCE_OFFSET = 0.0478905
/* IMAGE OBJECT DEFINITIONS */
OBJECT = IMAGE
  INTERCHANGE_FORMAT = BINARY
  LINES = 16203
  LINE_SAMPLES = 3413
  SAMPLE_TYPE = UNSIGNED_INTEGER
  SAMPLE_BITS = 8
  BANDS = 1
  BAND_STORAGE_TYPE = BAND_SEQUENTIAL
  MAXIMUM = 255
  MEAN = 137.376
  MINIMUM = 1
  STANDARD_DEVIATION = 23.8268
END_OBJECT = IMAGE
/* MAP OBJECT DEFINITIONS */
OBJECT = IMAGE_MAP_PROJECTION
  ^DATA_SET_MAP_PROJECTION_CATALOG= "DSMAP.CAT"
  A_AXIS_RADIUS = 3396.0
  B_AXIS_RADIUS = 3396.0
  C_AXIS_RADIUS = 3396.0
  CENTER_LATITUDE = 0.0
  CENTER_LONGITUDE = 253.0
  COORDINATE_SYSTEM_NAME = PLANETOGRAPHIC
  COORDINATE_SYSTEM_TYPE = "BODY-FIXED ROTATING"
  EASTERNMOST_LONGITUDE = 255.057
  FIRST_STANDARD_PARALLEL = "N/A"
  LINE_FIRST_PIXEL = 1
  LINE_LAST_PIXEL = 16203
  LINE_PROJECTION_OFFSET = 57476.75
  MAP_PROJECTION_ROTATION = 0.0
  MAP_PROJECTION_TYPE = SINUSOIDAL
  MAP_RESOLUTION = 1185.42760773333
  MAP_SCALE = 0.05
  MAXIMUM_LATITUDE = 48.5668
  MINIMUM_LATITUDE = 34.7922
  POSITIVE_LONGITUDE_DIRECTION = EAST
  REFERENCE_LATITUDE = "N/A"
  REFERENCE_LONGITUDE = "N/A"
  SAMPLE_FIRST_PIXEL = 1
  SAMPLE_LAST_PIXEL = 3413
  SAMPLE_PROJECTION_OFFSET = 1314.25
  SECOND_STANDARD_PARALLEL = "N/A"
  WESTERNMOST_LONGITUDE = 251.393
END_OBJECT = IMAGE_MAP_PROJECTION
END
