PDS_VERSION_ID = PDS3
/* FILE DATA ELEMENTS */
RECORD_TYPE = UNDEFINED
/* POINTERS TO DATA OBJECTS */
^IMAGE = ("HF989_0000_ND4.TIF")
/* IDENTIFICATION DATA ELEMENTS */
DATA_SET_ID = "MEX-M-HRSC-4-REFDR-MAPPROJECT-EXT5-V4.0"
DATA_SET_NAME = "MARS EXPRESS HRSC MAP PROJECTED REFDR EXTENSION5 V4.0"
DETECTOR_ID = MEX_HRSC_NADIR
EVENT_TYPE = "MARS-REGIONAL-STEREO-Vo-Te"
INSTRUMENT_HOST_ID = MEX
INSTRUMENT_HOST_NAME = "MARS EXPRESS"
INSTRUMENT_ID = HRSC
INSTRUMENT_NAME = "HIGH RESOLUTION STEREO CAMERA"
MISSION_NAME = "MARS EXPRESS"
MISSION_PHASE_NAME = ME_Phase_35
PROCESSING_LEVEL_ID = 4
PRODUCT_CREATION_TIME = 2023-01-31T07:53:46.000Z
PRODUCT_ID = "HF989_0000_ND4.TIF"
RELEASE_ID = 0004
REVISION_ID = 0000
/* QUALITY DATA ELEMENTS */
DATA_QUALITY_ID = 1
DATA_QUALITY_DESC = "Data calculated based on original SPICE kernels"
/* TIME DATA ELEMENTS */
SPACECRAFT_CLOCK_START_COUNT = "1/0419222494.09058"
SPACECRAFT_CLOCK_STOP_COUNT = "1/0419222891.18137"
START_TIME = 2016-08-14T02:42:33.086Z
STOP_TIME = 2016-08-14T02:46:37.082Z
/* ORBITAL DATA ELEMENTS */
ASCENDING_NODE_LONGITUDE = 273.54
MAXIMUM_RESOLUTION = 0.0219
FOOTPRINT_POINT_LATITUDE = (48.4857,48.4733,48.459,48.4429,48.4248 ,48.4046,48.3765,48.375,48.3713,48.0123 ,47.5311,47.0461,46.5547,46.0595, 45.4348,44.9293,44.5457,44.2898,43.9015 ,43.6423,43.2493,42.9869,42.7213, 42.3228,42.0535,41.7847,41.5131,41.2411 ,40.967,40.6917,40.2752,39.997,39.7152, 39.4341,39.1537,38.8739,38.5947,38.3163 ,38.0385,37.7614,37.4849,37.1826, 36.8696,36.5574,36.2461,35.9357,35.6262 ,35.3176,35.0096,34.854,34.8178,34.8336 ,34.8413,34.85,34.8563,34.8603,34.8617, 34.8617,34.8621,35.1741,35.484,35.7947, 36.1066,36.4189,36.7323,37.0466,37.5124 ,37.7902,38.0688,38.348,38.6279,38.9084 ,39.1896,39.4714,39.7539,40.1774, 40.4571,40.7363,41.0128,41.2888,41.5621 ,41.8355,42.1056,42.5101,42.7771, 43.0445,43.3081,43.7035,43.9639,44.3545 ,44.7402,45.2513,45.758,46.2594,46.632, 47.1264,47.6138,48.3383,48.4586, 48.4857)
FOOTPRINT_POINT_LONGITUDE = (254.283,253.841,253.395,252.944, 252.489,252.029,251.445,251.416,251.33, 251.363,251.408,251.451,251.494,251.534 ,251.586,251.62,251.644,251.659,251.68, 251.694,251.714,251.726,251.739,251.757 ,251.769,251.78,251.792,251.803,251.814 ,251.824,251.838,251.846,251.854,251.86 ,251.866,251.871,251.876,251.881, 251.885,251.887,251.891,251.894,251.897 ,251.9,251.902,251.904,251.905,251.905, 251.905,251.904,251.905,252.56,252.949, 253.494,254.037,254.607,255.11,255.141, 255.156,255.143,255.129,255.116,255.102 ,255.087,255.073,255.058,255.035, 255.021,255.007,254.993,254.978,254.964 ,254.948,254.933,254.917,254.893, 254.877,254.861,254.844,254.827,254.811 ,254.793,254.776,254.75,254.732,254.714 ,254.696,254.669,254.65,254.622,254.593 ,254.554,254.513,254.472,254.441, 254.398,254.355,254.288,254.277, 254.283)
ORBIT_NUMBER = 15989
ORBITAL_ECCENTRICITY = 0.571
ORBITAL_INCLINATION = 86.95
ORBITAL_SEMIMAJOR_AXIS = 8766.38
PERIAPSIS_ALTITUDE = 384.59
PERIAPSIS_ARGUMENT_ANGLE = 103.33
PERIAPSIS_TIME = 2016-08-14T02:35:03.000Z
SPACECRAFT_ORIENTATION = (0.0,-1.0,0.0)
^MEX_ORIENTATION_DESC = "MEX_ORIENTATION_DESC.TXT"
SPACECRAFT_POINTING_MODE = ACROSSTRACK
^MEX_POINTING_DESC = "MEX_POINTING_DESC.TXT"
RIGHT_ASCENSION = -1e+32
DECLINATION = -1e+32
OFFSET_ANGLE = -1.2
SPACECRAFT_SOLAR_DISTANCE = 2.12551e+08
TARGET_NAME = MARS
/* CAMERA DATA ELEMENTS */
DETECTOR_TEMPERATURE = 18.9822
FOCAL_PLANE_TEMPERATURE = 8.5833
INST_CMPRS_NAME = "DISCRETE COSINE TRANSFORMATION (DCT)"
INST_CMPRS_RATIO = 4.45541
INST_CMPRS_QUALITY = 0
INST_CMPRS_QUANTZ_TBL_ID = 0
INSTRUMENT_TEMPERATURE = 11.8457
LENS_TEMPERATURE = 8.9911
MACROPIXEL_SIZE = 1
MISSING_FRAMES = 0
PIXEL_SUBSAMPLING_FLAG = N
SIGNAL_CHAIN_ID = 0
/* RADIOMETRIC DATA ELEMENTS */
BANDWIDTH = 177.0
CENTER_FILTER_WAVELENGTH = 677.5
RADIANCE_OFFSET = 1.76017
RADIANCE_SCALING_FACTOR = 0.0463771
REFLECTANCE_SCALING_FACTOR = 0.00111304
MEX:REFLECTANCE_OFFSET = 0.0422438
/* IMAGE OBJECT DEFINITIONS */
OBJECT = IMAGE
  INTERCHANGE_FORMAT = BINARY
  LINES = 32406
  LINE_SAMPLES = 6825
  SAMPLE_TYPE = UNSIGNED_INTEGER
  SAMPLE_BITS = 8
  BANDS = 1
  BAND_STORAGE_TYPE = BAND_SEQUENTIAL
  MAXIMUM = 255
  MEAN = 137.193
  MINIMUM = 1
  STANDARD_DEVIATION = 24.8106
END_OBJECT = IMAGE
/* MAP OBJECT DEFINITIONS */
OBJECT = IMAGE_MAP_PROJECTION
  ^DATA_SET_MAP_PROJECTION_CATALOG= "DSMAP.CAT"
  A_AXIS_RADIUS = 3396.0
  B_AXIS_RADIUS = 3396.0
  C_AXIS_RADIUS = 3396.0
  CENTER_LATITUDE = 0.0
  CENTER_LONGITUDE = 253.0
  COORDINATE_SYSTEM_NAME = PLANETOGRAPHIC
  COORDINATE_SYSTEM_TYPE = "BODY-FIXED ROTATING"
  EASTERNMOST_LONGITUDE = 255.156
  FIRST_STANDARD_PARALLEL = "N/A"
  LINE_FIRST_PIXEL = 1
  LINE_LAST_PIXEL = 32406
  LINE_PROJECTION_OFFSET = 114954.0
  MAP_PROJECTION_ROTATION = 0.0
  MAP_PROJECTION_TYPE = SINUSOIDAL
  MAP_RESOLUTION = 2370.85521546667
  MAP_SCALE = 0.025
  MAXIMUM_LATITUDE = 48.4857
  MINIMUM_LATITUDE = 34.8178
  POSITIVE_LONGITUDE_DIRECTION = EAST
  REFERENCE_LATITUDE = "N/A"
  REFERENCE_LONGITUDE = "N/A"
  SAMPLE_FIRST_PIXEL = 1
  SAMPLE_LAST_PIXEL = 6825
  SAMPLE_PROJECTION_OFFSET = 2629.0
  SECOND_STANDARD_PARALLEL = "N/A"
  WESTERNMOST_LONGITUDE = 251.33
END_OBJECT = IMAGE_MAP_PROJECTION
END
