PDS_VERSION_ID = PDS3
/* FILE DATA ELEMENTS */
RECORD_TYPE = UNDEFINED
/* POINTERS TO DATA OBJECTS */
^IMAGE = ("HF946_0000_S24.TIF")
/* IDENTIFICATION DATA ELEMENTS */
DATA_SET_ID = "MEX-M-HRSC-4-REFDR-MAPPROJECT-EXT5-V4.0"
DATA_SET_NAME = "MARS EXPRESS HRSC MAP PROJECTED REFDR EXTENSION5 V4.0"
DETECTOR_ID = MEX_HRSC_S2
EVENT_TYPE = "MARS-REGIONAL-MAPPING-Pf"
INSTRUMENT_HOST_ID = MEX
INSTRUMENT_HOST_NAME = "MARS EXPRESS"
INSTRUMENT_ID = HRSC
INSTRUMENT_NAME = "HIGH RESOLUTION STEREO CAMERA"
MISSION_NAME = "MARS EXPRESS"
MISSION_PHASE_NAME = ME_Phase_35
PROCESSING_LEVEL_ID = 4
PRODUCT_CREATION_TIME = 2023-01-31T07:53:46.000Z
PRODUCT_ID = "HF946_0000_S24.TIF"
RELEASE_ID = 0004
REVISION_ID = 0000
/* QUALITY DATA ELEMENTS */
DATA_QUALITY_ID = 1
DATA_QUALITY_DESC = "Data calculated based on original SPICE kernels"
/* TIME DATA ELEMENTS */
SPACECRAFT_CLOCK_START_COUNT = "1/0418139404.08244"
SPACECRAFT_CLOCK_STOP_COUNT = "1/0418139612.47755"
START_TIME = 2016-08-01T13:51:29.119Z
STOP_TIME = 2016-08-01T13:53:38.514Z
/* ORBITAL DATA ELEMENTS */
ASCENDING_NODE_LONGITUDE = 274.33
MAXIMUM_RESOLUTION = 0.0369
FOOTPRINT_POINT_LATITUDE = (56.4708,56.4528,56.4385,56.4233, 56.4073,56.3903,56.3724,56.3713,56.4886 ,56.1284,55.8411,55.6231,55.3292,55.036 ,54.7431,54.524,54.2296,54.0803,53.9312 ,53.7822,53.6332,53.4845,53.1136,52.887 ,52.66,52.5085,52.282,52.1311,51.9805, 51.8286,51.6747,51.521,51.3674,51.2142, 50.9846,50.8319,50.5985,50.4428,50.2873 ,50.1316,49.976,49.8209,49.6631,49.5043 ,49.2672,49.0312,48.9527,48.9058, 48.9165,48.9275,48.9422,48.9486,48.9577 ,48.9693,48.9753,48.9813,48.9818, 48.9826,49.1409,49.298,49.4572,49.6145, 49.7755,49.9336,50.0897,50.2449,50.3992 ,50.6338,50.7912,50.9465,51.1008, 51.3316,51.4855,51.6398,51.871,52.0249, 52.1759,52.3271,52.5538,52.7054,52.8573 ,53.0093,53.1613,53.3101,53.459,53.6081 ,53.8323,53.9819,54.131,54.2808,54.5041 ,54.7972,55.0911,55.3122,55.6068, 55.8282,56.0447,56.4781,56.5504, 56.4708)
FOOTPRINT_POINT_LONGITUDE = (335.165,334.594,334.181,333.771, 333.363,332.957,332.552,332.527,332.477 ,332.514,332.543,332.564,332.592, 332.619,332.645,332.664,332.689,332.701 ,332.713,332.725,332.737,332.748, 332.776,332.793,332.809,332.819,332.834 ,332.844,332.854,332.864,332.873, 332.883,332.892,332.901,332.914,332.923 ,332.936,332.944,332.952,332.96,332.968 ,332.976,332.983,332.991,333.002, 333.012,333.015,333.017,333.351,333.659 ,334.098,334.357,334.695,335.139, 335.375,335.664,335.69,335.699,335.692, 335.684,335.677,335.669,335.663,335.656 ,335.649,335.641,335.632,335.62,335.613 ,335.605,335.598,335.586,335.578,335.57 ,335.558,335.55,335.541,335.533,335.52, 335.511,335.503,335.494,335.485,335.476 ,335.467,335.459,335.445,335.436, 335.426,335.417,335.403,335.384,335.365 ,335.351,335.33,335.315,335.3,335.269, 335.263,335.165)
ORBIT_NUMBER = 15946
ORBITAL_ECCENTRICITY = 0.571
ORBITAL_INCLINATION = 86.96
ORBITAL_SEMIMAJOR_AXIS = 8772.9
PERIAPSIS_ALTITUDE = 382.83
PERIAPSIS_ARGUMENT_ANGLE = 110.76
PERIAPSIS_TIME = 2016-08-01T13:47:31.000Z
SPACECRAFT_ORIENTATION = (0.0,-1.0,0.0)
^MEX_ORIENTATION_DESC = "MEX_ORIENTATION_DESC.TXT"
SPACECRAFT_POINTING_MODE = ACROSSTRACK
^MEX_POINTING_DESC = "MEX_POINTING_DESC.TXT"
RIGHT_ASCENSION = -1e+32
DECLINATION = -1e+32
OFFSET_ANGLE = 0.4
SPACECRAFT_SOLAR_DISTANCE = 2.14465e+08
TARGET_NAME = MARS
/* CAMERA DATA ELEMENTS */
DETECTOR_TEMPERATURE = 20.0017
FOCAL_PLANE_TEMPERATURE = 10.2145
INST_CMPRS_NAME = "DISCRETE COSINE TRANSFORMATION (DCT)"
INST_CMPRS_RATIO = 13.0213
INST_CMPRS_QUALITY = 0
INST_CMPRS_QUANTZ_TBL_ID = 0
INSTRUMENT_TEMPERATURE = 12.4574
LENS_TEMPERATURE = 10.2145
MACROPIXEL_SIZE = 2
MISSING_FRAMES = 0
PIXEL_SUBSAMPLING_FLAG = N
SIGNAL_CHAIN_ID = 1
/* RADIOMETRIC DATA ELEMENTS */
BANDWIDTH = 178.0
CENTER_FILTER_WAVELENGTH = 679.0
RADIANCE_OFFSET = 4.1052
RADIANCE_SCALING_FACTOR = 0.0122083
REFLECTANCE_SCALING_FACTOR = 0.00029737
MEX:REFLECTANCE_OFFSET = 0.0999947
/* IMAGE OBJECT DEFINITIONS */
OBJECT = IMAGE
  INTERCHANGE_FORMAT = BINARY
  LINES = 18162
  LINE_SAMPLES = 4423
  SAMPLE_TYPE = UNSIGNED_INTEGER
  SAMPLE_BITS = 8
  BANDS = 1
  BAND_STORAGE_TYPE = BAND_SEQUENTIAL
  MAXIMUM = 255
  MEAN = 119.388
  MINIMUM = 1
  STANDARD_DEVIATION = 46.4717
END_OBJECT = IMAGE
/* MAP OBJECT DEFINITIONS */
OBJECT = IMAGE_MAP_PROJECTION
  ^DATA_SET_MAP_PROJECTION_CATALOG= "DSMAP.CAT"
  A_AXIS_RADIUS = 3396.0
  B_AXIS_RADIUS = 3396.0
  C_AXIS_RADIUS = 3396.0
  CENTER_LATITUDE = 0.0
  CENTER_LONGITUDE = 334.0
  COORDINATE_SYSTEM_NAME = PLANETOGRAPHIC
  COORDINATE_SYSTEM_TYPE = "BODY-FIXED ROTATING"
  EASTERNMOST_LONGITUDE = 335.699
  FIRST_STANDARD_PARALLEL = "N/A"
  LINE_FIRST_PIXEL = 1
  LINE_LAST_PIXEL = 18162
  LINE_PROJECTION_OFFSET = 134065.75
  MAP_PROJECTION_ROTATION = 0.0
  MAP_PROJECTION_TYPE = SINUSOIDAL
  MAP_RESOLUTION = 2370.85521546667
  MAP_SCALE = 0.025
  MAXIMUM_LATITUDE = 56.5504
  MINIMUM_LATITUDE = 48.9058
  POSITIVE_LONGITUDE_DIRECTION = EAST
  REFERENCE_LATITUDE = "N/A"
  REFERENCE_LONGITUDE = "N/A"
  SAMPLE_FIRST_PIXEL = 1
  SAMPLE_LAST_PIXEL = 4423
  SAMPLE_PROJECTION_OFFSET = 1932.75
  SECOND_STANDARD_PARALLEL = "N/A"
  WESTERNMOST_LONGITUDE = 332.477
END_OBJECT = IMAGE_MAP_PROJECTION
END
