PDS_VERSION_ID = PDS3
/* FILE DATA ELEMENTS */
RECORD_TYPE = UNDEFINED
/* POINTERS TO DATA OBJECTS */
^IMAGE = ("HF938_0000_P24.TIF")
/* IDENTIFICATION DATA ELEMENTS */
DATA_SET_ID = "MEX-M-HRSC-4-REFDR-MAPPROJECT-EXT5-V4.0"
DATA_SET_NAME = "MARS EXPRESS HRSC MAP PROJECTED REFDR EXTENSION5 V4.0"
DETECTOR_ID = MEX_HRSC_P2
EVENT_TYPE = "MARS-REGIONAL-MAPPING-Te-Im-Fl"
INSTRUMENT_HOST_ID = MEX
INSTRUMENT_HOST_NAME = "MARS EXPRESS"
INSTRUMENT_ID = HRSC
INSTRUMENT_NAME = "HIGH RESOLUTION STEREO CAMERA"
MISSION_NAME = "MARS EXPRESS"
MISSION_PHASE_NAME = ME_Phase_35
PROCESSING_LEVEL_ID = 4
PRODUCT_CREATION_TIME = 2023-01-31T07:53:46.000Z
PRODUCT_ID = "HF938_0000_P24.TIF"
RELEASE_ID = 0004
REVISION_ID = 0000
/* QUALITY DATA ELEMENTS */
DATA_QUALITY_ID = 1
DATA_QUALITY_DESC = "Data calculated based on original SPICE kernels"
/* TIME DATA ELEMENTS */
SPACECRAFT_CLOCK_START_COUNT = "1/0417937868.08244"
SPACECRAFT_CLOCK_STOP_COUNT = "1/0417938120.55896"
START_TIME = 2016-07-30T05:52:16.478Z
STOP_TIME = 2016-07-30T05:55:10.365Z
/* ORBITAL DATA ELEMENTS */
ASCENDING_NODE_LONGITUDE = 274.47
MAXIMUM_RESOLUTION = 0.0332
FOOTPRINT_POINT_LATITUDE = (60.0954,60.073,60.0555,60.0371,60.0178 ,59.9976,59.9765,59.9752,60.0509, 59.6426,59.235,58.8279,58.4221,58.214, 58.0056,57.7968,57.5891,57.1739,56.7596 ,56.3457,56.1354,55.9236,55.7123, 55.5006,55.2895,55.0786,54.868,54.6575, 54.4452,54.2296,54.0145,53.7996,53.5849 ,53.2636,53.0494,52.7229,52.5043, 52.2858,52.0677,51.8495,51.6319,51.4111 ,51.1885,50.9664,50.7446,50.5231, 50.3021,50.0764,49.8506,49.5125,49.3999 ,49.3923,49.4093,49.4255,49.4475, 49.4616,49.486,49.4868,49.4876,49.7133, 49.9393,50.1656,50.3923,50.7251,50.9472 ,51.1698,51.3927,51.7259,51.944,52.1626 ,52.4902,52.7094,52.9289,53.2545, 53.4692,53.6842,53.8993,54.1147,54.3306 ,54.654,54.865,55.1818,55.3932,55.6048, 55.8167,56.0288,56.2412,56.4524,56.8673 ,57.2827,57.595,57.8033,58.0119,58.2207 ,58.6361,59.0439,59.4525,60.0662, 60.1688,60.0954)
FOOTPRINT_POINT_LONGITUDE = (75.3163,74.684,74.2344,73.7926,73.3589 ,72.9325,72.5128,72.4868,72.5421, 72.5775,72.6111,72.643,72.6738,72.689, 72.7034,72.7171,72.7311,72.7576,72.7829 ,72.8065,72.8182,72.8295,72.8407, 72.8511,72.8615,72.8715,72.8813,72.8907 ,72.8997,72.9087,72.9174,72.9259,72.934 ,72.9458,72.9532,72.9641,72.9711, 72.9778,72.9842,72.9902,72.9961,73.0018 ,73.0071,73.0123,73.0173,73.022,73.0266 ,73.0309,73.035,73.0406,73.0424,73.0425 ,73.4324,73.8286,74.4086,74.8197, 75.6347,75.6614,75.6711,75.6694,75.6677 ,75.6659,75.6647,75.6622,75.6602, 75.6586,75.6569,75.654,75.652,75.65, 75.6457,75.6436,75.6416,75.6394,75.637, 75.6347,75.632,75.6293,75.6273,75.6234, 75.6209,75.617,75.614,75.611,75.608, 75.605,75.6019,75.5988,75.5925,75.5855, 75.5805,75.5766,75.5729,75.5694,75.5616 ,75.5539,75.5459,75.5324,75.5303, 75.3163)
ORBIT_NUMBER = 15938
ORBITAL_ECCENTRICITY = 0.572
ORBITAL_INCLINATION = 86.96
ORBITAL_SEMIMAJOR_AXIS = 8778.31
PERIAPSIS_ALTITUDE = 381.53
PERIAPSIS_ARGUMENT_ANGLE = 112.14
PERIAPSIS_TIME = 2016-07-30T05:49:52.000Z
SPACECRAFT_ORIENTATION = (0.0,-1.0,0.0)
^MEX_ORIENTATION_DESC = "MEX_ORIENTATION_DESC.TXT"
SPACECRAFT_POINTING_MODE = ACROSSTRACK
^MEX_POINTING_DESC = "MEX_POINTING_DESC.TXT"
RIGHT_ASCENSION = -1e+32
DECLINATION = -1e+32
OFFSET_ANGLE = 1.4
SPACECRAFT_SOLAR_DISTANCE = 2.14843e+08
TARGET_NAME = MARS
/* CAMERA DATA ELEMENTS */
DETECTOR_TEMPERATURE = 19.7978
FOCAL_PLANE_TEMPERATURE = 10.2145
INST_CMPRS_NAME = "DISCRETE COSINE TRANSFORMATION (DCT)"
INST_CMPRS_RATIO = 8.11177
INST_CMPRS_QUALITY = 0
INST_CMPRS_QUANTZ_TBL_ID = 0
INSTRUMENT_TEMPERATURE = 12.4574
LENS_TEMPERATURE = 10.4184
MACROPIXEL_SIZE = 2
MISSING_FRAMES = 0
PIXEL_SUBSAMPLING_FLAG = N
SIGNAL_CHAIN_ID = 3
/* RADIOMETRIC DATA ELEMENTS */
BANDWIDTH = 177.0
CENTER_FILTER_WAVELENGTH = 676.5
RADIANCE_OFFSET = 3.08846
RADIANCE_SCALING_FACTOR = 0.0113193
REFLECTANCE_SCALING_FACTOR = 0.000277022
MEX:REFLECTANCE_OFFSET = 0.0755856
/* IMAGE OBJECT DEFINITIONS */
OBJECT = IMAGE
  INTERCHANGE_FORMAT = BINARY
  LINES = 25368
  LINE_SAMPLES = 4198
  SAMPLE_TYPE = UNSIGNED_INTEGER
  SAMPLE_BITS = 8
  BANDS = 1
  BAND_STORAGE_TYPE = BAND_SEQUENTIAL
  MAXIMUM = 255
  MEAN = 91.6367
  MINIMUM = 1
  STANDARD_DEVIATION = 28.1673
END_OBJECT = IMAGE
/* MAP OBJECT DEFINITIONS */
OBJECT = IMAGE_MAP_PROJECTION
  ^DATA_SET_MAP_PROJECTION_CATALOG= "DSMAP.CAT"
  A_AXIS_RADIUS = 3396.0
  B_AXIS_RADIUS = 3396.0
  C_AXIS_RADIUS = 3396.0
  CENTER_LATITUDE = 0.0
  CENTER_LONGITUDE = 74.0
  COORDINATE_SYSTEM_NAME = PLANETOGRAPHIC
  COORDINATE_SYSTEM_TYPE = "BODY-FIXED ROTATING"
  EASTERNMOST_LONGITUDE = 75.6711
  FIRST_STANDARD_PARALLEL = "N/A"
  LINE_FIRST_PIXEL = 1
  LINE_LAST_PIXEL = 25368
  LINE_PROJECTION_OFFSET = 142551.25
  MAP_PROJECTION_ROTATION = 0.0
  MAP_PROJECTION_TYPE = SINUSOIDAL
  MAP_RESOLUTION = 2370.85521546667
  MAP_SCALE = 0.025
  MAXIMUM_LATITUDE = 60.1688
  MINIMUM_LATITUDE = 49.3923
  POSITIVE_LONGITUDE_DIRECTION = EAST
  REFERENCE_LATITUDE = "N/A"
  REFERENCE_LONGITUDE = "N/A"
  SAMPLE_FIRST_PIXEL = 1
  SAMPLE_LAST_PIXEL = 4198
  SAMPLE_PROJECTION_OFFSET = 1710.75
  SECOND_STANDARD_PARALLEL = "N/A"
  WESTERNMOST_LONGITUDE = 72.4868
END_OBJECT = IMAGE_MAP_PROJECTION
END
