PDS_VERSION_ID = PDS3
/* FILE DATA ELEMENTS */
RECORD_TYPE = UNDEFINED
/* POINTERS TO DATA OBJECTS */
^IMAGE = ("HF922_0000_S14.TIF")
/* IDENTIFICATION DATA ELEMENTS */
DATA_SET_ID = "MEX-M-HRSC-4-REFDR-MAPPROJECT-EXT5-V4.0"
DATA_SET_NAME = "MARS EXPRESS HRSC MAP PROJECTED REFDR EXTENSION5 V4.0"
DETECTOR_ID = MEX_HRSC_S1
EVENT_TYPE = "MARS-REGIONAL-STEREO-Vo-Te-Gl"
INSTRUMENT_HOST_ID = MEX
INSTRUMENT_HOST_NAME = "MARS EXPRESS"
INSTRUMENT_ID = HRSC
INSTRUMENT_NAME = "HIGH RESOLUTION STEREO CAMERA"
MISSION_NAME = "MARS EXPRESS"
MISSION_PHASE_NAME = ME_Phase_35
PROCESSING_LEVEL_ID = 4
PRODUCT_CREATION_TIME = 2023-01-31T07:53:46.000Z
PRODUCT_ID = "HF922_0000_S14.TIF"
RELEASE_ID = 0004
REVISION_ID = 0000
/* QUALITY DATA ELEMENTS */
DATA_QUALITY_ID = 1
DATA_QUALITY_DESC = "Data calculated based on original SPICE kernels"
/* TIME DATA ELEMENTS */
SPACECRAFT_CLOCK_START_COUNT = "1/0417535209.07336"
SPACECRAFT_CLOCK_STOP_COUNT = "1/0417535472.23031"
START_TIME = 2016-07-25T14:00:16.833Z
STOP_TIME = 2016-07-25T14:02:30.462Z
/* ORBITAL DATA ELEMENTS */
ASCENDING_NODE_LONGITUDE = 274.78
MAXIMUM_RESOLUTION = 0.0201
FOOTPRINT_POINT_LATITUDE = (40.4193,40.416,40.4121,40.4055,40.3983 ,40.3926,40.3817,40.3811,40.3371, 39.9459,39.7115,39.3935,38.9229,38.5159 ,38.1906,37.9466,37.6212,37.4563, 37.2905,37.1244,36.9586,36.7931,36.6279 ,36.3751,36.2066,36.0381,35.8697, 35.7014,35.5296,35.3571,35.1848,35.013, 34.7565,34.5801,34.4077,34.144,33.9682, 33.7016,33.5237,33.3459,33.1684,32.9889 ,32.808,32.6277,32.4468,32.1735,31.9898 ,31.8979,31.8731,31.879,31.8839,31.8881 ,31.8894,31.8888,31.8872,31.887,31.8873 ,32.1625,32.3477,32.6197,32.801,32.9826 ,33.1635,33.3428,33.5211,33.7006, 33.8801,34.0576,34.2328,34.4088,34.5848 ,34.7596,34.9325,35.1052,35.2773, 35.4495,35.6221,35.7903,35.9604,36.1286 ,36.2975,36.4666,36.6358,36.8022, 36.9685,37.1344,37.384,37.5505,37.7149, 38.0402,38.203,38.3658,38.6913,39.0103, 39.4103,39.7296,40.044,40.2787,40.357, 40.4193)
FOOTPRINT_POINT_LONGITUDE = (270.375,269.928,269.609,269.205, 268.865,268.631,268.248,268.227,268.202 ,268.209,268.214,268.22,268.23,268.234, 268.238,268.241,268.244,268.246,268.248 ,268.249,268.25,268.252,268.253,268.255 ,268.256,268.257,268.257,268.258, 268.259,268.259,268.259,268.259,268.26, 268.259,268.26,268.259,268.259,268.258, 268.257,268.256,268.255,268.255,268.254 ,268.253,268.251,268.249,268.248, 268.247,268.246,268.591,268.913,269.417 ,269.762,270.199,270.543,270.566, 270.578,270.574,270.57,270.566,270.563, 270.56,270.556,270.553,270.55,270.546, 270.543,270.539,270.536,270.532,270.528 ,270.525,270.522,270.518,270.515, 270.512,270.508,270.505,270.501,270.498 ,270.495,270.491,270.487,270.484,270.48 ,270.476,270.47,270.466,270.462,270.454 ,270.451,270.447,270.438,270.43,270.419 ,270.411,270.401,270.395,270.393, 270.375)
ORBIT_NUMBER = 15922
ORBITAL_ECCENTRICITY = 0.572
ORBITAL_INCLINATION = 86.94
ORBITAL_SEMIMAJOR_AXIS = 8779.78
PERIAPSIS_ALTITUDE = 380.99
PERIAPSIS_ARGUMENT_ANGLE = 114.89
PERIAPSIS_TIME = 2016-07-25T13:54:30.000Z
SPACECRAFT_ORIENTATION = (0.0,-1.0,0.0)
^MEX_ORIENTATION_DESC = "MEX_ORIENTATION_DESC.TXT"
SPACECRAFT_POINTING_MODE = NADIR
^MEX_POINTING_DESC = "MEX_POINTING_DESC.TXT"
RIGHT_ASCENSION = -1e+32
DECLINATION = -1e+32
OFFSET_ANGLE = -1e+32
SPACECRAFT_SOLAR_DISTANCE = 2.15615e+08
TARGET_NAME = MARS
/* CAMERA DATA ELEMENTS */
DETECTOR_TEMPERATURE = 17.9627
FOCAL_PLANE_TEMPERATURE = 8.7872
INST_CMPRS_NAME = "DISCRETE COSINE TRANSFORMATION (DCT)"
INST_CMPRS_RATIO = 6.85536
INST_CMPRS_QUALITY = 0
INST_CMPRS_QUANTZ_TBL_ID = 0
INSTRUMENT_TEMPERATURE = 11.6418
LENS_TEMPERATURE = 9.195
MACROPIXEL_SIZE = 1
MISSING_FRAMES = 0
PIXEL_SUBSAMPLING_FLAG = N
SIGNAL_CHAIN_ID = 2
/* RADIOMETRIC DATA ELEMENTS */
BANDWIDTH = 180.0
CENTER_FILTER_WAVELENGTH = 677.0
RADIANCE_OFFSET = 3.10444
RADIANCE_SCALING_FACTOR = 0.0373482
REFLECTANCE_SCALING_FACTOR = 0.000905873
MEX:REFLECTANCE_OFFSET = 0.0752976
/* IMAGE OBJECT DEFINITIONS */
OBJECT = IMAGE
  INTERCHANGE_FORMAT = BINARY
  LINES = 20151
  LINE_SAMPLES = 5038
  SAMPLE_TYPE = UNSIGNED_INTEGER
  SAMPLE_BITS = 8
  BANDS = 1
  BAND_STORAGE_TYPE = BAND_SEQUENTIAL
  MAXIMUM = 255
  MEAN = 129.241
  MINIMUM = 1
  STANDARD_DEVIATION = 18.5113
END_OBJECT = IMAGE
/* MAP OBJECT DEFINITIONS */
OBJECT = IMAGE_MAP_PROJECTION
  ^DATA_SET_MAP_PROJECTION_CATALOG= "DSMAP.CAT"
  A_AXIS_RADIUS = 3396.0
  B_AXIS_RADIUS = 3396.0
  C_AXIS_RADIUS = 3396.0
  CENTER_LATITUDE = 0.0
  CENTER_LONGITUDE = 269.0
  COORDINATE_SYSTEM_NAME = PLANETOGRAPHIC
  COORDINATE_SYSTEM_TYPE = "BODY-FIXED ROTATING"
  EASTERNMOST_LONGITUDE = 270.578
  FIRST_STANDARD_PARALLEL = "N/A"
  LINE_FIRST_PIXEL = 1
  LINE_LAST_PIXEL = 20151
  LINE_PROJECTION_OFFSET = 95698.0
  MAP_PROJECTION_ROTATION = 0.0
  MAP_PROJECTION_TYPE = SINUSOIDAL
  MAP_RESOLUTION = 2370.85521546667
  MAP_SCALE = 0.025
  MAXIMUM_LATITUDE = 40.4193
  MINIMUM_LATITUDE = 31.8731
  POSITIVE_LONGITUDE_DIRECTION = EAST
  REFERENCE_LATITUDE = "N/A"
  REFERENCE_LONGITUDE = "N/A"
  SAMPLE_FIRST_PIXEL = 1
  SAMPLE_LAST_PIXEL = 5038
  SAMPLE_PROJECTION_OFFSET = 1709.0
  SECOND_STANDARD_PARALLEL = "N/A"
  WESTERNMOST_LONGITUDE = 268.202
END_OBJECT = IMAGE_MAP_PROJECTION
END
