PDS_VERSION_ID = PDS3
/* FILE DATA ELEMENTS */
RECORD_TYPE = UNDEFINED
/* POINTERS TO DATA OBJECTS */
^IMAGE = ("HF883_0000_S14.TIF")
/* IDENTIFICATION DATA ELEMENTS */
DATA_SET_ID = "MEX-M-HRSC-4-REFDR-MAPPROJECT-EXT5-V4.0"
DATA_SET_NAME = "MARS EXPRESS HRSC MAP PROJECTED REFDR EXTENSION5 V4.0"
DETECTOR_ID = MEX_HRSC_S1
EVENT_TYPE = "MARS-REGIONAL-STEREO-Te"
INSTRUMENT_HOST_ID = MEX
INSTRUMENT_HOST_NAME = "MARS EXPRESS"
INSTRUMENT_ID = HRSC
INSTRUMENT_NAME = "HIGH RESOLUTION STEREO CAMERA"
MISSION_NAME = "MARS EXPRESS"
MISSION_PHASE_NAME = ME_Phase_35
PROCESSING_LEVEL_ID = 4
PRODUCT_CREATION_TIME = 2023-01-31T07:53:46.000Z
PRODUCT_ID = "HF883_0000_S14.TIF"
RELEASE_ID = 0004
REVISION_ID = 0000
/* QUALITY DATA ELEMENTS */
DATA_QUALITY_ID = 1
DATA_QUALITY_DESC = "Data calculated based on original SPICE kernels"
/* TIME DATA ELEMENTS */
SPACECRAFT_CLOCK_START_COUNT = "1/0416552778.09068"
SPACECRAFT_CLOCK_STOP_COUNT = "1/0416552952.16601"
START_TIME = 2016-07-14T05:06:25.813Z
STOP_TIME = 2016-07-14T05:08:03.405Z
/* ORBITAL DATA ELEMENTS */
ASCENDING_NODE_LONGITUDE = 275.51
MAXIMUM_RESOLUTION = 0.0162
FOOTPRINT_POINT_LATITUDE = (53.4954,53.4959,53.495,53.4929,53.4896 ,53.485,53.4794,53.479,53.3818,53.1323, 53.0067,52.8186,52.63,52.5041,52.378, 52.2519,52.1262,52.0002,51.8738,51.6839 ,51.4976,51.2455,51.1186,50.8684, 50.6176,50.4916,50.3657,50.2387,50.111, 49.9848,49.8571,49.7295,49.4817,49.3537 ,49.2277,49.0411,48.79,48.6632,48.536, 48.4092,48.283,48.1559,47.9657,47.7139, 47.587,47.4603,47.271,47.1443,47.081, 47.0744,47.0763,47.0771,47.0774,47.0751 ,47.0731,47.069,47.0687,47.0689,47.1959 ,47.3862,47.5769,47.704,47.8312,47.9576 ,48.1474,48.274,48.4638,48.5903,48.7171 ,48.9069,49.0336,49.1593,49.2859, 49.4123,49.5393,49.7292,49.9804,50.1705 ,50.3602,50.4868,50.6131,50.8637, 50.9906,51.1182,51.2455,51.3715,51.5597 ,51.8117,51.9388,52.1275,52.2536, 52.3803,52.5072,52.7574,52.8836,53.0097 ,53.1359,53.325,53.3881,53.4954)
FOOTPRINT_POINT_LONGITUDE = (300.378,299.942,299.596,299.252, 298.911,298.572,298.234,298.213,298.202 ,298.225,298.236,298.252,298.268, 298.278,298.289,298.299,298.309,298.319 ,298.329,298.343,298.358,298.376, 298.386,298.404,298.421,298.43,298.438, 298.447,298.455,298.463,298.471,298.479 ,298.495,298.502,298.51,298.521,298.536 ,298.543,298.55,298.557,298.564,298.57, 298.58,298.593,298.6,298.606,298.615, 298.621,298.624,298.624,298.941,299.241 ,299.562,300.048,300.272,300.641, 300.662,300.672,300.669,300.664,300.659 ,300.655,300.652,300.649,300.644, 300.641,300.636,300.633,300.629,300.624 ,300.62,300.617,300.614,300.61,300.606, 300.601,300.595,300.589,300.583,300.579 ,300.575,300.569,300.564,300.559, 300.554,300.55,300.544,300.536,300.531, 300.525,300.52,300.515,300.51,300.502, 300.497,300.492,300.487,300.48,300.477, 300.378)
ORBIT_NUMBER = 15883
ORBITAL_ECCENTRICITY = 0.572
ORBITAL_INCLINATION = 86.94
ORBITAL_SEMIMAJOR_AXIS = 8787.96
PERIAPSIS_ALTITUDE = 378.04
PERIAPSIS_ARGUMENT_ANGLE = 121.65
PERIAPSIS_TIME = 2016-07-14T05:05:45.000Z
SPACECRAFT_ORIENTATION = (0.0,-1.0,0.0)
^MEX_ORIENTATION_DESC = "MEX_ORIENTATION_DESC.TXT"
SPACECRAFT_POINTING_MODE = ACROSSTRACK
^MEX_POINTING_DESC = "MEX_POINTING_DESC.TXT"
RIGHT_ASCENSION = -1e+32
DECLINATION = -1e+32
OFFSET_ANGLE = 0.5
SPACECRAFT_SOLAR_DISTANCE = 2.17586e+08
TARGET_NAME = MARS
/* CAMERA DATA ELEMENTS */
DETECTOR_TEMPERATURE = 17.5549
FOCAL_PLANE_TEMPERATURE = 8.7872
INST_CMPRS_NAME = "DISCRETE COSINE TRANSFORMATION (DCT)"
INST_CMPRS_RATIO = 7.49776
INST_CMPRS_QUALITY = 0
INST_CMPRS_QUANTZ_TBL_ID = 0
INSTRUMENT_TEMPERATURE = 10.4184
LENS_TEMPERATURE = 9.3989
MACROPIXEL_SIZE = 1
MISSING_FRAMES = 0
PIXEL_SUBSAMPLING_FLAG = N
SIGNAL_CHAIN_ID = 2
/* RADIOMETRIC DATA ELEMENTS */
BANDWIDTH = 180.0
CENTER_FILTER_WAVELENGTH = 677.0
RADIANCE_OFFSET = 2.04487
RADIANCE_SCALING_FACTOR = 0.0204123
REFLECTANCE_SCALING_FACTOR = 0.000504193
MEX:REFLECTANCE_OFFSET = 0.0505093
/* IMAGE OBJECT DEFINITIONS */
OBJECT = IMAGE
  INTERCHANGE_FORMAT = BINARY
  LINES = 30195
  LINE_SAMPLES = 7719
  SAMPLE_TYPE = UNSIGNED_INTEGER
  SAMPLE_BITS = 8
  BANDS = 1
  BAND_STORAGE_TYPE = BAND_SEQUENTIAL
  MAXIMUM = 255
  MEAN = 124.113
  MINIMUM = 1
  STANDARD_DEVIATION = 13.1808
END_OBJECT = IMAGE
/* MAP OBJECT DEFINITIONS */
OBJECT = IMAGE_MAP_PROJECTION
  ^DATA_SET_MAP_PROJECTION_CATALOG= "DSMAP.CAT"
  A_AXIS_RADIUS = 3396.0
  B_AXIS_RADIUS = 3396.0
  C_AXIS_RADIUS = 3396.0
  CENTER_LATITUDE = 0.0
  CENTER_LONGITUDE = 299.0
  COORDINATE_SYSTEM_NAME = PLANETOGRAPHIC
  COORDINATE_SYSTEM_TYPE = "BODY-FIXED ROTATING"
  EASTERNMOST_LONGITUDE = 300.672
  FIRST_STANDARD_PARALLEL = "N/A"
  LINE_FIRST_PIXEL = 1
  LINE_LAST_PIXEL = 30195
  LINE_PROJECTION_OFFSET = 253331.0
  MAP_PROJECTION_ROTATION = 0.0
  MAP_PROJECTION_TYPE = SINUSOIDAL
  MAP_RESOLUTION = 4741.71043093333
  MAP_SCALE = 0.0125
  MAXIMUM_LATITUDE = 53.4959
  MINIMUM_LATITUDE = 47.0687
  POSITIVE_LONGITUDE_DIRECTION = EAST
  REFERENCE_LATITUDE = "N/A"
  REFERENCE_LONGITUDE = "N/A"
  SAMPLE_FIRST_PIXEL = 1
  SAMPLE_LAST_PIXEL = 7719
  SAMPLE_PROJECTION_OFFSET = 2301.0
  SECOND_STANDARD_PARALLEL = "N/A"
  WESTERNMOST_LONGITUDE = 298.202
END_OBJECT = IMAGE_MAP_PROJECTION
END
