PDS_VERSION_ID = PDS3
/* FILE DATA ELEMENTS */
RECORD_TYPE = UNDEFINED
/* POINTERS TO DATA OBJECTS */
^IMAGE = ("HF874_0000_IR4.TIF")
/* IDENTIFICATION DATA ELEMENTS */
DATA_SET_ID = "MEX-M-HRSC-4-REFDR-MAPPROJECT-EXT5-V4.0"
DATA_SET_NAME = "MARS EXPRESS HRSC MAP PROJECTED REFDR EXTENSION5 V4.0"
DETECTOR_ID = MEX_HRSC_IR
EVENT_TYPE = "MARS-REGIONAL-MAPPING-Vo-Te-Fl"
INSTRUMENT_HOST_ID = MEX
INSTRUMENT_HOST_NAME = "MARS EXPRESS"
INSTRUMENT_ID = HRSC
INSTRUMENT_NAME = "HIGH RESOLUTION STEREO CAMERA"
MISSION_NAME = "MARS EXPRESS"
MISSION_PHASE_NAME = ME_Phase_35
PROCESSING_LEVEL_ID = 4
PRODUCT_CREATION_TIME = 2023-01-31T07:53:46.000Z
PRODUCT_ID = "HF874_0000_IR4.TIF"
RELEASE_ID = 0004
REVISION_ID = 0000
/* QUALITY DATA ELEMENTS */
DATA_QUALITY_ID = 1
DATA_QUALITY_DESC = "Data calculated based on original SPICE kernels"
/* TIME DATA ELEMENTS */
SPACECRAFT_CLOCK_START_COUNT = "1/0416326544.08241"
SPACECRAFT_CLOCK_STOP_COUNT = "1/0416326889.54142"
START_TIME = 2016-07-11T14:16:00.499Z
STOP_TIME = 2016-07-11T14:18:53.215Z
/* ORBITAL DATA ELEMENTS */
ASCENDING_NODE_LONGITUDE = 275.67
MAXIMUM_RESOLUTION = 0.0917
FOOTPRINT_POINT_LATITUDE = (25.1587,25.1622,25.1652,25.1659, 25.1652,25.1609,25.1607,25.1407,24.7613 ,24.1923,23.6145,23.3219,23.1261, 22.8323,22.6338,22.4353,22.237,21.9364, 21.7343,21.5327,21.2271,21.0229,20.7164 ,20.5087,20.3009,20.0933,19.8836, 19.6726,19.249,18.9286,18.7149,18.4983, 18.1735,17.9548,17.7352,17.5166,17.1839 ,16.9621,16.7379,16.5133,16.2882, 16.0596,15.8257,15.5999,15.2653,15.0388 ,14.8123,14.6991,14.6693,14.6692, 14.6677,14.6657,14.6613,14.6546,14.649, 14.6383,14.6377,14.6391,14.8661,15.0935 ,15.3211,15.5492,15.8911,16.1193, 16.3475,16.686,16.9117,17.1345,17.358, 17.5799,17.8001,18.1302,18.347,18.5644, 18.7806,19.1025,19.3173,19.5296,19.741, 20.0578,20.2663,20.4747,20.7859,20.991, 21.1963,21.4012,21.6037,21.9049,22.1093 ,22.4078,22.607,22.9889,23.1942,23.5898 ,23.9762,24.3618,24.6462,25.0272, 25.1217,25.1587)
FOOTPRINT_POINT_LONGITUDE = (141.065,140.731,140.279,139.887, 139.573,138.983,138.964,138.952,138.944 ,138.933,138.92,138.913,138.908,138.901 ,138.896,138.891,138.886,138.878, 138.872,138.867,138.858,138.852,138.843 ,138.837,138.83,138.824,138.817,138.81, 138.796,138.785,138.778,138.77,138.759, 138.751,138.743,138.735,138.722,138.714 ,138.705,138.696,138.688,138.678, 138.666,138.658,138.646,138.636,138.626 ,138.621,138.62,138.83,139.161,139.467, 139.843,140.313,140.643,141.113,141.137 ,141.144,141.143,141.142,141.141, 141.139,141.138,141.137,141.135,141.133 ,141.132,141.131,141.129,141.128, 141.126,141.124,141.123,141.121,141.12, 141.117,141.116,141.114,141.113,141.11, 141.109,141.107,141.105,141.103,141.102 ,141.1,141.099,141.097,141.095,141.093, 141.091,141.093,141.088,141.083,141.08, 141.077,141.074,141.071,141.07,141.065)
ORBIT_NUMBER = 15874
ORBITAL_ECCENTRICITY = 0.572
ORBITAL_INCLINATION = 86.94
ORBITAL_SEMIMAJOR_AXIS = 8792.47
PERIAPSIS_ALTITUDE = 377.62
PERIAPSIS_ARGUMENT_ANGLE = 123.19
PERIAPSIS_TIME = 2016-07-11T14:08:16.000Z
SPACECRAFT_ORIENTATION = (0.0,-1.0,0.0)
^MEX_ORIENTATION_DESC = "MEX_ORIENTATION_DESC.TXT"
SPACECRAFT_POINTING_MODE = NADIR
^MEX_POINTING_DESC = "MEX_POINTING_DESC.TXT"
RIGHT_ASCENSION = -1e+32
DECLINATION = -1e+32
OFFSET_ANGLE = -1e+32
SPACECRAFT_SOLAR_DISTANCE = 2.18057e+08
TARGET_NAME = MARS
/* CAMERA DATA ELEMENTS */
DETECTOR_TEMPERATURE = 18.1666
FOCAL_PLANE_TEMPERATURE = 8.5833
INST_CMPRS_NAME = "DISCRETE COSINE TRANSFORMATION (DCT)"
INST_CMPRS_RATIO = 10.2702
INST_CMPRS_QUALITY = 0
INST_CMPRS_QUANTZ_TBL_ID = 0
INSTRUMENT_TEMPERATURE = 11.6418
LENS_TEMPERATURE = 8.7872
MACROPIXEL_SIZE = 4
MISSING_FRAMES = 0
PIXEL_SUBSAMPLING_FLAG = N
SIGNAL_CHAIN_ID = 2
/* RADIOMETRIC DATA ELEMENTS */
BANDWIDTH = 81.0
CENTER_FILTER_WAVELENGTH = 955.5
RADIANCE_OFFSET = 0.874348
RADIANCE_SCALING_FACTOR = 0.00827157
REFLECTANCE_SCALING_FACTOR = 0.000848501
MEX:REFLECTANCE_OFFSET = 0.089691
/* IMAGE OBJECT DEFINITIONS */
OBJECT = IMAGE
  INTERCHANGE_FORMAT = BINARY
  LINES = 6234
  LINE_SAMPLES = 1574
  SAMPLE_TYPE = UNSIGNED_INTEGER
  SAMPLE_BITS = 8
  BANDS = 1
  BAND_STORAGE_TYPE = BAND_SEQUENTIAL
  MAXIMUM = 255
  MEAN = 176.028
  MINIMUM = 1
  STANDARD_DEVIATION = 14.8887
END_OBJECT = IMAGE
/* MAP OBJECT DEFINITIONS */
OBJECT = IMAGE_MAP_PROJECTION
  ^DATA_SET_MAP_PROJECTION_CATALOG= "DSMAP.CAT"
  A_AXIS_RADIUS = 3396.0
  B_AXIS_RADIUS = 3396.0
  C_AXIS_RADIUS = 3396.0
  CENTER_LATITUDE = 0.0
  CENTER_LONGITUDE = 140.0
  COORDINATE_SYSTEM_NAME = PLANETOGRAPHIC
  COORDINATE_SYSTEM_TYPE = "BODY-FIXED ROTATING"
  EASTERNMOST_LONGITUDE = 141.144
  FIRST_STANDARD_PARALLEL = "N/A"
  LINE_FIRST_PIXEL = 1
  LINE_LAST_PIXEL = 6234
  LINE_PROJECTION_OFFSET = 14906.625
  MAP_PROJECTION_ROTATION = 0.0
  MAP_PROJECTION_TYPE = SINUSOIDAL
  MAP_RESOLUTION = 592.713803866667
  MAP_SCALE = 0.1
  MAXIMUM_LATITUDE = 25.1659
  MINIMUM_LATITUDE = 14.6377
  POSITIVE_LONGITUDE_DIRECTION = EAST
  REFERENCE_LATITUDE = "N/A"
  REFERENCE_LONGITUDE = "N/A"
  SAMPLE_FIRST_PIXEL = 1
  SAMPLE_LAST_PIXEL = 1574
  SAMPLE_PROJECTION_OFFSET = 861.125
  SECOND_STANDARD_PARALLEL = "N/A"
  WESTERNMOST_LONGITUDE = 138.62
END_OBJECT = IMAGE_MAP_PROJECTION
END
