PDS_VERSION_ID = PDS3
/* FILE DATA ELEMENTS */
RECORD_TYPE = UNDEFINED
/* POINTERS TO DATA OBJECTS */
^IMAGE = ("HF866_0074_SR4.TIF")
/* IDENTIFICATION DATA ELEMENTS */
DATA_SET_ID = "MEX-M-HRSC-4-REFDR-MAPPROJECT-EXT5-V4.0"
DATA_SET_NAME = "MARS EXPRESS HRSC MAP PROJECTED REFDR EXTENSION5 V4.0"
DETECTOR_ID = MEX_HRSC_SRC
EVENT_TYPE = "MARS-LOCAL-CARTOGRAPHY-Pf-Tc"
INSTRUMENT_HOST_ID = MEX
INSTRUMENT_HOST_NAME = "MARS EXPRESS"
INSTRUMENT_ID = HRSC
INSTRUMENT_NAME = "HIGH RESOLUTION STEREO CAMERA"
MISSION_NAME = "MARS EXPRESS"
MISSION_PHASE_NAME = ME_Phase_35
PROCESSING_LEVEL_ID = 4
PRODUCT_CREATION_TIME = 2023-01-31T07:53:46.000Z
PRODUCT_ID = "HF866_0074_SR4.TIF"
RELEASE_ID = 0004
REVISION_ID = 0000
/* QUALITY DATA ELEMENTS */
DATA_QUALITY_ID = 1
DATA_QUALITY_DESC = "Data calculated based on original SPICE kernels"
/* TIME DATA ELEMENTS */
SPACECRAFT_CLOCK_START_COUNT = "1/0416124330.09058"
SPACECRAFT_CLOCK_STOP_COUNT = "1/0416124492.24394"
IMAGE_TIME = 2016-07-09T06:07:28.046Z
START_TIME = 2016-07-09T06:07:28.044Z
STOP_TIME = 2016-07-09T06:07:28.049Z
/* ORBITAL DATA ELEMENTS */
ASCENDING_NODE_LONGITUDE = 275.83
MAXIMUM_RESOLUTION = 0.003758
FOOTPRINT_POINT_LATITUDE = (66.988,66.9911,66.9963,66.9994,67.0037 ,67.0058,67.0094,67.012,67.0149,67.0191 ,67.0229,67.0259,67.0282,67.0306, 67.0342,67.0369,67.0395,67.0417,67.0455 ,67.0487,67.0516,67.0517,67.0517,67.052 ,67.0523,67.0527,67.053,67.0533,67.0536 ,67.0539,67.0543,67.0546,67.0549, 67.0552,67.0555,67.0559,67.0562,67.0565 ,67.0568,67.0571,67.0574,67.0578, 67.0581,67.0584,67.0587,67.059,67.0593, 67.0596,67.0597,67.0598,67.0547,67.0507 ,67.0479,67.0446,67.0405,67.0379, 67.0355,67.0319,67.0293,67.0269,67.0239 ,67.0214,67.0181,67.0158,67.0121, 67.0098,67.0061,67.0038,67.0016,66.9993 ,66.9962,66.9961,66.9961,66.9958, 66.9955,66.9952,66.9948,66.9945,66.9942 ,66.9939,66.9936,66.9933,66.993,66.9926 ,66.9923,66.992,66.9917,66.9914,66.991, 66.9907,66.9904,66.9901,66.9898,66.9894 ,66.9891,66.9888,66.9885,66.9882, 66.9881,66.988)
FOOTPRINT_POINT_LONGITUDE = (234.589,234.588,234.586,234.585, 234.584,234.583,234.582,234.581,234.58, 234.579,234.578,234.577,234.576,234.575 ,234.574,234.573,234.572,234.572,234.57 ,234.569,234.568,234.568,234.569, 234.575,234.582,234.588,234.595,234.601 ,234.608,234.614,234.621,234.627, 234.633,234.64,234.646,234.653,234.659, 234.666,234.672,234.679,234.685,234.692 ,234.698,234.705,234.711,234.718, 234.724,234.731,234.733,234.734,234.735 ,234.737,234.737,234.739,234.74,234.741 ,234.741,234.743,234.743,234.744, 234.745,234.746,234.747,234.748,234.749 ,234.75,234.751,234.751,234.752,234.753 ,234.754,234.754,234.754,234.747, 234.741,234.734,234.728,234.721,234.715 ,234.708,234.702,234.695,234.689, 234.682,234.676,234.669,234.663,234.657 ,234.65,234.644,234.637,234.631,234.624 ,234.618,234.611,234.605,234.598, 234.592,234.59,234.589)
ORBIT_NUMBER = 15866
ORBITAL_ECCENTRICITY = 0.573
ORBITAL_INCLINATION = 86.95
ORBITAL_SEMIMAJOR_AXIS = 8794.17
PERIAPSIS_ALTITUDE = 375.64
PERIAPSIS_ARGUMENT_ANGLE = 124.54
PERIAPSIS_TIME = 2016-07-09T06:10:32.000Z
SPACECRAFT_ORIENTATION = (0.0,-1.0,0.0)
^MEX_ORIENTATION_DESC = "MEX_ORIENTATION_DESC.TXT"
SPACECRAFT_POINTING_MODE = ACROSSTRACK
^MEX_POINTING_DESC = "MEX_POINTING_DESC.TXT"
RIGHT_ASCENSION = -1e+32
DECLINATION = -1e+32
OFFSET_ANGLE = -0.26
SPACECRAFT_SOLAR_DISTANCE = 2.1848e+08
TARGET_NAME = MARS
/* CAMERA DATA ELEMENTS */
BUFFER_MODE_ID = DIRECT
EXPOSURE_DURATION = 5.04
INST_CMPRS_NAME = NONE
INST_CMPRS_RATIO = 1.0
INST_CMPRS_QUALITY = -2147483648
INST_CMPRS_QUANTZ_TBL_ID = -2147483648
INSTRUMENT_TEMPERATURE = 8.18182
MISSING_FRAMES = 0
START_BIT = 0
/* RADIOMETRIC DATA ELEMENTS */
BANDWIDTH = 250.0
CENTER_FILTER_WAVELENGTH = 600.0
RADIANCE_OFFSET = -9.99e+31
RADIANCE_SCALING_FACTOR = -9.99e+31
REFLECTANCE_SCALING_FACTOR = -9.99e+31
MEX:REFLECTANCE_OFFSET = -9.99e+31
/* IMAGE OBJECT DEFINITIONS */
OBJECT = IMAGE
  INTERCHANGE_FORMAT = BINARY
  LINES = 926
  LINE_SAMPLES = 930
  SAMPLE_TYPE = UNSIGNED_INTEGER
  SAMPLE_BITS = 8
  BANDS = 1
  BAND_STORAGE_TYPE = BAND_SEQUENTIAL
  MAXIMUM = 242
  MEAN = 119.863
  MINIMUM = 17
  STANDARD_DEVIATION = 20.9312
END_OBJECT = IMAGE
/* MAP OBJECT DEFINITIONS */
OBJECT = IMAGE_MAP_PROJECTION
  ^DATA_SET_MAP_PROJECTION_CATALOG= "DSMAP.CAT"
  A_AXIS_RADIUS = 3396.19
  B_AXIS_RADIUS = 3396.19
  C_AXIS_RADIUS = 3396.19
  CENTER_LATITUDE = 0.0
  CENTER_LONGITUDE = 235.0
  COORDINATE_SYSTEM_NAME = PLANETOGRAPHIC
  COORDINATE_SYSTEM_TYPE = "BODY-FIXED ROTATING"
  EASTERNMOST_LONGITUDE = 234.754
  FIRST_STANDARD_PARALLEL = "N/A"
  LINE_FIRST_PIXEL = 1
  LINE_LAST_PIXEL = 926
  LINE_PROJECTION_OFFSET = 793392.0
  MAP_PROJECTION_ROTATION = 0.0
  MAP_PROJECTION_TYPE = SINUSOIDAL
  MAP_RESOLUTION = 11854.9393024378
  MAP_SCALE = 0.005
  MAXIMUM_LATITUDE = 67.0598
  MINIMUM_LATITUDE = 66.988
  POSITIVE_LONGITUDE_DIRECTION = EAST
  REFERENCE_LATITUDE = "N/A"
  REFERENCE_LONGITUDE = "N/A"
  SAMPLE_FIRST_PIXEL = 1
  SAMPLE_LAST_PIXEL = 930
  SAMPLE_PROJECTION_OFFSET = 2171.0
  SECOND_STANDARD_PARALLEL = "N/A"
  WESTERNMOST_LONGITUDE = 234.568
END_OBJECT = IMAGE_MAP_PROJECTION
END
