PDS_VERSION_ID = PDS3
/* FILE DATA ELEMENTS */
RECORD_TYPE = UNDEFINED
/* POINTERS TO DATA OBJECTS */
^IMAGE = ("HF866_0025_SR4.TIF")
/* IDENTIFICATION DATA ELEMENTS */
DATA_SET_ID = "MEX-M-HRSC-4-REFDR-MAPPROJECT-EXT5-V4.0"
DATA_SET_NAME = "MARS EXPRESS HRSC MAP PROJECTED REFDR EXTENSION5 V4.0"
DETECTOR_ID = MEX_HRSC_SRC
EVENT_TYPE = "MARS-LOCAL-CARTOGRAPHY-Pf-Tc"
INSTRUMENT_HOST_ID = MEX
INSTRUMENT_HOST_NAME = "MARS EXPRESS"
INSTRUMENT_ID = HRSC
INSTRUMENT_NAME = "HIGH RESOLUTION STEREO CAMERA"
MISSION_NAME = "MARS EXPRESS"
MISSION_PHASE_NAME = ME_Phase_35
PROCESSING_LEVEL_ID = 4
PRODUCT_CREATION_TIME = 2023-01-31T07:53:46.000Z
PRODUCT_ID = "HF866_0025_SR4.TIF"
RELEASE_ID = 0004
REVISION_ID = 0000
/* QUALITY DATA ELEMENTS */
DATA_QUALITY_ID = 1
DATA_QUALITY_DESC = "Data calculated based on original SPICE kernels"
/* TIME DATA ELEMENTS */
SPACECRAFT_CLOCK_START_COUNT = "1/0416124330.09058"
SPACECRAFT_CLOCK_STOP_COUNT = "1/0416124492.24394"
IMAGE_TIME = 2016-07-09T06:07:01.340Z
START_TIME = 2016-07-09T06:07:01.338Z
STOP_TIME = 2016-07-09T06:07:01.343Z
/* ORBITAL DATA ELEMENTS */
ASCENDING_NODE_LONGITUDE = 275.83
MAXIMUM_RESOLUTION = 0.003845
FOOTPRINT_POINT_LATITUDE = (68.6591,68.6618,68.6646,68.6689, 68.6713,68.6762,68.6793,68.6827,68.6852 ,68.6882,68.6927,68.6955,68.6989, 68.7022,68.7045,68.7073,68.7094,68.7122 ,68.7159,68.7203,68.724,68.7241,68.7241 ,68.7245,68.7248,68.7252,68.7255, 68.7259,68.7263,68.7266,68.727,68.7273, 68.7277,68.7281,68.7284,68.7288,68.7291 ,68.7295,68.7298,68.7302,68.7306, 68.7309,68.7313,68.7316,68.732,68.7323, 68.7327,68.733,68.7331,68.7332,68.7276, 68.7233,68.7205,68.7182,68.7144,68.7122 ,68.7102,68.7073,68.7046,68.7025, 68.6998,68.6976,68.695,68.6909,68.688, 68.6859,68.6832,68.6799,68.6762,68.6732 ,68.6711,68.6682,68.6682,68.6681, 68.6677,68.6674,68.667,68.6666,68.6663, 68.6659,68.6656,68.6652,68.6649,68.6645 ,68.6641,68.6638,68.6634,68.6631, 68.6627,68.6624,68.662,68.6616,68.6613, 68.6609,68.6606,68.6602,68.6598,68.6592 ,68.6591,68.6591)
FOOTPRINT_POINT_LONGITUDE = (234.002,234.001,234.0,233.998,233.997, 233.995,233.994,233.993,233.992,233.991 ,233.989,233.988,233.987,233.985, 233.984,233.983,233.983,233.981,233.98, 233.978,233.977,233.977,233.977,233.984 ,233.991,233.998,234.006,234.013,234.02 ,234.027,234.034,234.041,234.048, 234.056,234.063,234.07,234.077,234.084, 234.091,234.098,234.105,234.113,234.12, 234.127,234.134,234.141,234.148,234.155 ,234.157,234.158,234.16,234.162,234.163 ,234.164,234.165,234.166,234.167, 234.168,234.169,234.17,234.171,234.172, 234.173,234.174,234.175,234.176,234.177 ,234.178,234.18,234.181,234.182,234.183 ,234.183,234.182,234.174,234.167, 234.159,234.152,234.145,234.138,234.131 ,234.124,234.117,234.11,234.103,234.095 ,234.088,234.081,234.074,234.067,234.06 ,234.053,234.046,234.039,234.031, 234.024,234.017,234.005,234.003, 234.002)
ORBIT_NUMBER = 15866
ORBITAL_ECCENTRICITY = 0.573
ORBITAL_INCLINATION = 86.95
ORBITAL_SEMIMAJOR_AXIS = 8794.17
PERIAPSIS_ALTITUDE = 375.64
PERIAPSIS_ARGUMENT_ANGLE = 124.54
PERIAPSIS_TIME = 2016-07-09T06:10:32.000Z
SPACECRAFT_ORIENTATION = (0.0,-1.0,0.0)
^MEX_ORIENTATION_DESC = "MEX_ORIENTATION_DESC.TXT"
SPACECRAFT_POINTING_MODE = ACROSSTRACK
^MEX_POINTING_DESC = "MEX_POINTING_DESC.TXT"
RIGHT_ASCENSION = -1e+32
DECLINATION = -1e+32
OFFSET_ANGLE = -0.26
SPACECRAFT_SOLAR_DISTANCE = 2.1848e+08
TARGET_NAME = MARS
/* CAMERA DATA ELEMENTS */
BUFFER_MODE_ID = DIRECT
EXPOSURE_DURATION = 5.04
INST_CMPRS_NAME = NONE
INST_CMPRS_RATIO = 1.0
INST_CMPRS_QUALITY = -2147483648
INST_CMPRS_QUANTZ_TBL_ID = -2147483648
INSTRUMENT_TEMPERATURE = 8.18182
MISSING_FRAMES = 0
START_BIT = 0
/* RADIOMETRIC DATA ELEMENTS */
BANDWIDTH = 250.0
CENTER_FILTER_WAVELENGTH = 600.0
RADIANCE_OFFSET = -9.99e+31
RADIANCE_SCALING_FACTOR = -9.99e+31
REFLECTANCE_SCALING_FACTOR = -9.99e+31
MEX:REFLECTANCE_OFFSET = -9.99e+31
/* IMAGE OBJECT DEFINITIONS */
OBJECT = IMAGE
  INTERCHANGE_FORMAT = BINARY
  LINES = 957
  LINE_SAMPLES = 965
  SAMPLE_TYPE = UNSIGNED_INTEGER
  SAMPLE_BITS = 8
  BANDS = 1
  BAND_STORAGE_TYPE = BAND_SEQUENTIAL
  MAXIMUM = 236
  MEAN = 129.792
  MINIMUM = 5
  STANDARD_DEVIATION = 19.5388
END_OBJECT = IMAGE
/* MAP OBJECT DEFINITIONS */
OBJECT = IMAGE_MAP_PROJECTION
  ^DATA_SET_MAP_PROJECTION_CATALOG= "DSMAP.CAT"
  A_AXIS_RADIUS = 3396.19
  B_AXIS_RADIUS = 3396.19
  C_AXIS_RADIUS = 3396.19
  CENTER_LATITUDE = 0.0
  CENTER_LONGITUDE = 234.0
  COORDINATE_SYSTEM_NAME = PLANETOGRAPHIC
  COORDINATE_SYSTEM_TYPE = "BODY-FIXED ROTATING"
  EASTERNMOST_LONGITUDE = 234.183
  FIRST_STANDARD_PARALLEL = "N/A"
  LINE_FIRST_PIXEL = 1
  LINE_LAST_PIXEL = 957
  LINE_PROJECTION_OFFSET = 813130.0
  MAP_PROJECTION_ROTATION = 0.0
  MAP_PROJECTION_TYPE = SINUSOIDAL
  MAP_RESOLUTION = 11854.9393024378
  MAP_SCALE = 0.005
  MAXIMUM_LATITUDE = 68.7332
  MINIMUM_LATITUDE = 68.6591
  POSITIVE_LONGITUDE_DIRECTION = EAST
  REFERENCE_LATITUDE = "N/A"
  REFERENCE_LONGITUDE = "N/A"
  SAMPLE_FIRST_PIXEL = 1
  SAMPLE_LAST_PIXEL = 965
  SAMPLE_PROJECTION_OFFSET = 286.0
  SECOND_STANDARD_PARALLEL = "N/A"
  WESTERNMOST_LONGITUDE = 233.977
END_OBJECT = IMAGE_MAP_PROJECTION
END
