PDS_VERSION_ID = PDS3
/* FILE DATA ELEMENTS */
RECORD_TYPE = UNDEFINED
/* POINTERS TO DATA OBJECTS */
^IMAGE = ("HF866_0008_SR4.TIF")
/* IDENTIFICATION DATA ELEMENTS */
DATA_SET_ID = "MEX-M-HRSC-4-REFDR-MAPPROJECT-EXT5-V4.0"
DATA_SET_NAME = "MARS EXPRESS HRSC MAP PROJECTED REFDR EXTENSION5 V4.0"
DETECTOR_ID = MEX_HRSC_SRC
EVENT_TYPE = "MARS-LOCAL-CARTOGRAPHY-Pf-Tc"
INSTRUMENT_HOST_ID = MEX
INSTRUMENT_HOST_NAME = "MARS EXPRESS"
INSTRUMENT_ID = HRSC
INSTRUMENT_NAME = "HIGH RESOLUTION STEREO CAMERA"
MISSION_NAME = "MARS EXPRESS"
MISSION_PHASE_NAME = ME_Phase_35
PROCESSING_LEVEL_ID = 4
PRODUCT_CREATION_TIME = 2023-01-31T07:53:46.000Z
PRODUCT_ID = "HF866_0008_SR4.TIF"
RELEASE_ID = 0004
REVISION_ID = 0000
/* QUALITY DATA ELEMENTS */
DATA_QUALITY_ID = 1
DATA_QUALITY_DESC = "Data calculated based on original SPICE kernels"
/* TIME DATA ELEMENTS */
SPACECRAFT_CLOCK_START_COUNT = "1/0416124330.09058"
SPACECRAFT_CLOCK_STOP_COUNT = "1/0416124492.24394"
IMAGE_TIME = 2016-07-09T06:06:52.075Z
START_TIME = 2016-07-09T06:06:52.072Z
STOP_TIME = 2016-07-09T06:06:52.077Z
/* ORBITAL DATA ELEMENTS */
ASCENDING_NODE_LONGITUDE = 275.83
MAXIMUM_RESOLUTION = 0.003878
FOOTPRINT_POINT_LATITUDE = (69.2361,69.2391,69.2419,69.2453, 69.2481,69.2507,69.2531,69.2563,69.2591 ,69.2615,69.2649,69.2678,69.2709, 69.2751,69.2786,69.2819,69.2841,69.2879 ,69.2903,69.2929,69.2967,69.3015, 69.3016,69.3016,69.3021,69.3025,69.3028 ,69.3032,69.3036,69.304,69.3044,69.3047 ,69.3051,69.3055,69.3059,69.3062, 69.3065,69.3069,69.3073,69.3076,69.308, 69.3084,69.3087,69.3091,69.3095,69.3099 ,69.3102,69.3106,69.311,69.3111,69.3111 ,69.3088,69.3066,69.303,69.2991,69.2967 ,69.2936,69.2913,69.2875,69.2849, 69.2817,69.2795,69.2762,69.2734,69.2694 ,69.2661,69.2625,69.2601,69.2566, 69.2523,69.2486,69.2456,69.2456,69.2456 ,69.2452,69.2448,69.2445,69.2441, 69.2437,69.2433,69.243,69.2426,69.2422, 69.2419,69.2415,69.2411,69.2407,69.2404 ,69.24,69.2393,69.239,69.2386,69.2382, 69.2378,69.2374,69.2371,69.2367,69.2362 ,69.2361,69.2361)
FOOTPRINT_POINT_LONGITUDE = (233.774,233.773,233.772,233.77,233.769 ,233.768,233.767,233.766,233.765, 233.764,233.762,233.761,233.76,233.758, 233.757,233.755,233.754,233.753,233.752 ,233.751,233.749,233.747,233.747, 233.747,233.757,233.764,233.771,233.779 ,233.786,233.793,233.801,233.808, 233.816,233.823,233.83,233.838,233.843, 233.851,233.858,233.865,233.873,233.88, 233.888,233.895,233.902,233.91,233.917, 233.924,233.932,233.934,233.935,233.936 ,233.937,233.938,233.94,233.941,233.942 ,233.943,233.944,233.945,233.947, 233.948,233.949,233.95,233.952,233.953, 233.954,233.955,233.957,233.958,233.96, 233.961,233.961,233.961,233.954,233.946 ,233.939,233.931,233.924,233.917, 233.909,233.902,233.895,233.887,233.88, 233.873,233.865,233.858,233.851,233.838 ,233.83,233.823,233.816,233.808,233.801 ,233.794,233.786,233.777,233.775, 233.774)
ORBIT_NUMBER = 15866
ORBITAL_ECCENTRICITY = 0.573
ORBITAL_INCLINATION = 86.95
ORBITAL_SEMIMAJOR_AXIS = 8794.17
PERIAPSIS_ALTITUDE = 375.64
PERIAPSIS_ARGUMENT_ANGLE = 124.54
PERIAPSIS_TIME = 2016-07-09T06:10:32.000Z
SPACECRAFT_ORIENTATION = (0.0,-1.0,0.0)
^MEX_ORIENTATION_DESC = "MEX_ORIENTATION_DESC.TXT"
SPACECRAFT_POINTING_MODE = ACROSSTRACK
^MEX_POINTING_DESC = "MEX_POINTING_DESC.TXT"
RIGHT_ASCENSION = -1e+32
DECLINATION = -1e+32
OFFSET_ANGLE = -0.26
SPACECRAFT_SOLAR_DISTANCE = 2.1848e+08
TARGET_NAME = MARS
/* CAMERA DATA ELEMENTS */
BUFFER_MODE_ID = DIRECT
EXPOSURE_DURATION = 5.04
INST_CMPRS_NAME = NONE
INST_CMPRS_RATIO = 1.0
INST_CMPRS_QUALITY = -2147483648
INST_CMPRS_QUANTZ_TBL_ID = -2147483648
INSTRUMENT_TEMPERATURE = 8.18182
MISSING_FRAMES = 0
START_BIT = 0
/* RADIOMETRIC DATA ELEMENTS */
BANDWIDTH = 250.0
CENTER_FILTER_WAVELENGTH = 600.0
RADIANCE_OFFSET = -9.99e+31
RADIANCE_SCALING_FACTOR = -9.99e+31
REFLECTANCE_SCALING_FACTOR = -9.99e+31
MEX:REFLECTANCE_OFFSET = -9.99e+31
/* IMAGE OBJECT DEFINITIONS */
OBJECT = IMAGE
  INTERCHANGE_FORMAT = BINARY
  LINES = 967
  LINE_SAMPLES = 974
  SAMPLE_TYPE = UNSIGNED_INTEGER
  SAMPLE_BITS = 8
  BANDS = 1
  BAND_STORAGE_TYPE = BAND_SEQUENTIAL
  MAXIMUM = 248
  MEAN = 135.527
  MINIMUM = 19
  STANDARD_DEVIATION = 18.8446
END_OBJECT = IMAGE
/* MAP OBJECT DEFINITIONS */
OBJECT = IMAGE_MAP_PROJECTION
  ^DATA_SET_MAP_PROJECTION_CATALOG= "DSMAP.CAT"
  A_AXIS_RADIUS = 3396.19
  B_AXIS_RADIUS = 3396.19
  C_AXIS_RADIUS = 3396.19
  CENTER_LATITUDE = 0.0
  CENTER_LONGITUDE = 234.0
  COORDINATE_SYSTEM_NAME = PLANETOGRAPHIC
  COORDINATE_SYSTEM_TYPE = "BODY-FIXED ROTATING"
  EASTERNMOST_LONGITUDE = 233.961
  FIRST_STANDARD_PARALLEL = "N/A"
  LINE_FIRST_PIXEL = 1
  LINE_LAST_PIXEL = 967
  LINE_PROJECTION_OFFSET = 819945.0
  MAP_PROJECTION_ROTATION = 0.0
  MAP_PROJECTION_TYPE = SINUSOIDAL
  MAP_RESOLUTION = 11854.9393024378
  MAP_SCALE = 0.005
  MAXIMUM_LATITUDE = 69.3111
  MINIMUM_LATITUDE = 69.23609999999999
  POSITIVE_LONGITUDE_DIRECTION = EAST
  REFERENCE_LATITUDE = "N/A"
  REFERENCE_LONGITUDE = "N/A"
  SAMPLE_FIRST_PIXEL = 1
  SAMPLE_LAST_PIXEL = 974
  SAMPLE_PROJECTION_OFFSET = 1241.0
  SECOND_STANDARD_PARALLEL = "N/A"
  WESTERNMOST_LONGITUDE = 233.747
END_OBJECT = IMAGE_MAP_PROJECTION
END
