PDS_VERSION_ID = PDS3
/* FILE DATA ELEMENTS */
RECORD_TYPE = UNDEFINED
/* POINTERS TO DATA OBJECTS */
^IMAGE = ("HF866_0005_SR4.TIF")
/* IDENTIFICATION DATA ELEMENTS */
DATA_SET_ID = "MEX-M-HRSC-4-REFDR-MAPPROJECT-EXT5-V4.0"
DATA_SET_NAME = "MARS EXPRESS HRSC MAP PROJECTED REFDR EXTENSION5 V4.0"
DETECTOR_ID = MEX_HRSC_SRC
EVENT_TYPE = "MARS-LOCAL-CARTOGRAPHY-Pf-Tc"
INSTRUMENT_HOST_ID = MEX
INSTRUMENT_HOST_NAME = "MARS EXPRESS"
INSTRUMENT_ID = HRSC
INSTRUMENT_NAME = "HIGH RESOLUTION STEREO CAMERA"
MISSION_NAME = "MARS EXPRESS"
MISSION_PHASE_NAME = ME_Phase_35
PROCESSING_LEVEL_ID = 4
PRODUCT_CREATION_TIME = 2023-01-31T07:53:46.000Z
PRODUCT_ID = "HF866_0005_SR4.TIF"
RELEASE_ID = 0004
REVISION_ID = 0000
/* QUALITY DATA ELEMENTS */
DATA_QUALITY_ID = 1
DATA_QUALITY_DESC = "Data calculated based on original SPICE kernels"
/* TIME DATA ELEMENTS */
SPACECRAFT_CLOCK_START_COUNT = "1/0416124330.09058"
SPACECRAFT_CLOCK_STOP_COUNT = "1/0416124492.24394"
IMAGE_TIME = 2016-07-09T06:06:50.440Z
START_TIME = 2016-07-09T06:06:50.437Z
STOP_TIME = 2016-07-09T06:06:50.442Z
/* ORBITAL DATA ELEMENTS */
ASCENDING_NODE_LONGITUDE = 275.83
MAXIMUM_RESOLUTION = 0.003883
FOOTPRINT_POINT_LATITUDE = (69.3377,69.3418,69.3451,69.349,69.3517 ,69.3556,69.3586,69.3609,69.3647,69.367 ,69.3702,69.374,69.3795,69.3835,69.3861 ,69.3886,69.3935,69.3978,69.4001, 69.4033,69.4034,69.4034,69.4037,69.4041 ,69.4044,69.4048,69.4052,69.4056, 69.4059,69.4063,69.4067,69.4071,69.4075 ,69.4078,69.4082,69.4086,69.409,69.4093 ,69.4097,69.4101,69.4106,69.4109, 69.4113,69.4117,69.4121,69.4124,69.4128 ,69.4129,69.413,69.4109,69.4088,69.4062 ,69.4023,69.3996,69.3956,69.3916, 69.3892,69.3863,69.3842,69.3809,69.3759 ,69.3735,69.3711,69.3679,69.3657, 69.3632,69.3593,69.3552,69.3531,69.3497 ,69.3474,69.3473,69.3473,69.3469, 69.3466,69.3462,69.3458,69.3454,69.3451 ,69.3447,69.3443,69.3439,69.3436, 69.3431,69.3427,69.3423,69.342,69.3416, 69.3412,69.3408,69.3405,69.3401,69.3397 ,69.3393,69.3389,69.3386,69.3382, 69.3379,69.3378,69.3377)
FOOTPRINT_POINT_LONGITUDE = (233.732,233.731,233.729,233.728, 233.727,233.725,233.724,233.723,233.721 ,233.72,233.719,233.717,233.715,233.714 ,233.712,233.711,233.709,233.708, 233.707,233.705,233.705,233.705,233.711 ,233.718,233.726,233.733,233.741, 233.748,233.756,233.763,233.77,233.778, 233.785,233.793,233.8,233.808,233.815, 233.822,233.83,233.837,233.847,233.854, 233.861,233.869,233.876,233.884,233.891 ,233.893,233.894,233.895,233.896, 233.897,233.898,233.899,233.901,233.903 ,233.904,233.905,233.906,233.907, 233.909,233.91,233.911,233.912,233.913, 233.914,233.916,233.917,233.918,233.92, 233.921,233.921,233.92,233.913,233.906, 233.898,233.891,233.883,233.876,233.869 ,233.861,233.854,233.846,233.837,233.83 ,233.822,233.815,233.808,233.8,233.793, 233.785,233.778,233.771,233.763,233.756 ,233.748,233.741,233.735,233.734, 233.732)
ORBIT_NUMBER = 15866
ORBITAL_ECCENTRICITY = 0.573
ORBITAL_INCLINATION = 86.95
ORBITAL_SEMIMAJOR_AXIS = 8794.17
PERIAPSIS_ALTITUDE = 375.64
PERIAPSIS_ARGUMENT_ANGLE = 124.54
PERIAPSIS_TIME = 2016-07-09T06:10:32.000Z
SPACECRAFT_ORIENTATION = (0.0,-1.0,0.0)
^MEX_ORIENTATION_DESC = "MEX_ORIENTATION_DESC.TXT"
SPACECRAFT_POINTING_MODE = ACROSSTRACK
^MEX_POINTING_DESC = "MEX_POINTING_DESC.TXT"
RIGHT_ASCENSION = -1e+32
DECLINATION = -1e+32
OFFSET_ANGLE = -0.26
SPACECRAFT_SOLAR_DISTANCE = 2.1848e+08
TARGET_NAME = MARS
/* CAMERA DATA ELEMENTS */
BUFFER_MODE_ID = DIRECT
EXPOSURE_DURATION = 5.04
INST_CMPRS_NAME = NONE
INST_CMPRS_RATIO = 1.0
INST_CMPRS_QUALITY = -2147483648
INST_CMPRS_QUANTZ_TBL_ID = -2147483648
INSTRUMENT_TEMPERATURE = 8.18182
MISSING_FRAMES = 0
START_BIT = 0
/* RADIOMETRIC DATA ELEMENTS */
BANDWIDTH = 250.0
CENTER_FILTER_WAVELENGTH = 600.0
RADIANCE_OFFSET = -9.99e+31
RADIANCE_SCALING_FACTOR = -9.99e+31
REFLECTANCE_SCALING_FACTOR = -9.99e+31
MEX:REFLECTANCE_OFFSET = -9.99e+31
/* IMAGE OBJECT DEFINITIONS */
OBJECT = IMAGE
  INTERCHANGE_FORMAT = BINARY
  LINES = 969
  LINE_SAMPLES = 975
  SAMPLE_TYPE = UNSIGNED_INTEGER
  SAMPLE_BITS = 8
  BANDS = 1
  BAND_STORAGE_TYPE = BAND_SEQUENTIAL
  MAXIMUM = 240
  MEAN = 132.258
  MINIMUM = 26
  STANDARD_DEVIATION = 19.5411
END_OBJECT = IMAGE
/* MAP OBJECT DEFINITIONS */
OBJECT = IMAGE_MAP_PROJECTION
  ^DATA_SET_MAP_PROJECTION_CATALOG= "DSMAP.CAT"
  A_AXIS_RADIUS = 3396.19
  B_AXIS_RADIUS = 3396.19
  C_AXIS_RADIUS = 3396.19
  CENTER_LATITUDE = 0.0
  CENTER_LONGITUDE = 234.0
  COORDINATE_SYSTEM_NAME = PLANETOGRAPHIC
  COORDINATE_SYSTEM_TYPE = "BODY-FIXED ROTATING"
  EASTERNMOST_LONGITUDE = 233.921
  FIRST_STANDARD_PARALLEL = "N/A"
  LINE_FIRST_PIXEL = 1
  LINE_LAST_PIXEL = 969
  LINE_PROJECTION_OFFSET = 821146.0
  MAP_PROJECTION_ROTATION = 0.0
  MAP_PROJECTION_TYPE = SINUSOIDAL
  MAP_RESOLUTION = 11854.9393024378
  MAP_SCALE = 0.005
  MAXIMUM_LATITUDE = 69.413
  MINIMUM_LATITUDE = 69.3377
  POSITIVE_LONGITUDE_DIRECTION = EAST
  REFERENCE_LATITUDE = "N/A"
  REFERENCE_LONGITUDE = "N/A"
  SAMPLE_FIRST_PIXEL = 1
  SAMPLE_LAST_PIXEL = 975
  SAMPLE_PROJECTION_OFFSET = 1410.0
  SECOND_STANDARD_PARALLEL = "N/A"
  WESTERNMOST_LONGITUDE = 233.705
END_OBJECT = IMAGE_MAP_PROJECTION
END
