PDS_VERSION_ID = PDS3
/* FILE DATA ELEMENTS */
RECORD_TYPE = UNDEFINED
/* POINTERS TO DATA OBJECTS */
^IMAGE = ("HF860_0005_SR4.TIF")
/* IDENTIFICATION DATA ELEMENTS */
DATA_SET_ID = "MEX-M-HRSC-4-REFDR-MAPPROJECT-EXT5-V4.0"
DATA_SET_NAME = "MARS EXPRESS HRSC MAP PROJECTED REFDR EXTENSION5 V4.0"
DETECTOR_ID = MEX_HRSC_SRC
EVENT_TYPE = "MARS-LOCAL-CARTOGRAPHY-Pf-Tc"
INSTRUMENT_HOST_ID = MEX
INSTRUMENT_HOST_NAME = "MARS EXPRESS"
INSTRUMENT_ID = HRSC
INSTRUMENT_NAME = "HIGH RESOLUTION STEREO CAMERA"
MISSION_NAME = "MARS EXPRESS"
MISSION_PHASE_NAME = ME_Phase_35
PROCESSING_LEVEL_ID = 4
PRODUCT_CREATION_TIME = 2023-01-31T07:53:46.000Z
PRODUCT_ID = "HF860_0005_SR4.TIF"
RELEASE_ID = 0004
REVISION_ID = 0000
/* QUALITY DATA ELEMENTS */
DATA_QUALITY_ID = 1
DATA_QUALITY_DESC = "Data calculated based on original SPICE kernels"
/* TIME DATA ELEMENTS */
SPACECRAFT_CLOCK_START_COUNT = "1/0415973570.09060"
SPACECRAFT_CLOCK_STOP_COUNT = "1/0415973714.34304"
IMAGE_TIME = 2016-07-07T12:13:54.146Z
START_TIME = 2016-07-07T12:13:54.143Z
STOP_TIME = 2016-07-07T12:13:54.149Z
/* ORBITAL DATA ELEMENTS */
ASCENDING_NODE_LONGITUDE = 275.94
MAXIMUM_RESOLUTION = 0.003642
FOOTPRINT_POINT_LATITUDE = (48.3562,48.3593,48.3627,48.3654,48.369 ,48.3711,48.3747,48.3778,48.38,48.3822, 48.3849,48.3867,48.3891,48.3917,48.3938 ,48.3968,48.3994,48.4022,48.4067, 48.4099,48.412,48.4155,48.4182,48.4183, 48.4183,48.4183,48.4184,48.4184,48.4184 ,48.4184,48.4184,48.4185,48.4185, 48.4185,48.4185,48.4185,48.4186,48.4186 ,48.4186,48.4186,48.4186,48.4187, 48.4187,48.4187,48.4187,48.4187,48.4188 ,48.4188,48.4188,48.4188,48.4188, 48.4188,48.416,48.4136,48.4097,48.4055, 48.4023,48.3997,48.3979,48.3944,48.3902 ,48.3876,48.3854,48.3832,48.38,48.3757, 48.373,48.3693,48.3656,48.3628,48.3606, 48.3567,48.3566,48.3566,48.3566,48.3566 ,48.3565,48.3565,48.3565,48.3565, 48.3565,48.3565,48.3565,48.3565,48.3564 ,48.3564,48.3564,48.3564,48.3564, 48.3564,48.3563,48.3563,48.3563,48.3563 ,48.3563,48.3563,48.3563,48.3562, 48.3562,48.3562)
FOOTPRINT_POINT_LONGITUDE = (134.252,134.252,134.252,134.252, 134.252,134.252,134.252,134.252,134.252 ,134.252,134.252,134.252,134.252, 134.252,134.252,134.252,134.252,134.252 ,134.252,134.252,134.252,134.251, 134.251,134.251,134.252,134.255,134.259 ,134.263,134.267,134.271,134.275, 134.279,134.283,134.286,134.29,134.294, 134.298,134.302,134.306,134.31,134.314, 134.318,134.321,134.325,134.329,134.333 ,134.337,134.341,134.345,134.349,134.35 ,134.35,134.35,134.35,134.35,134.35, 134.35,134.35,134.35,134.35,134.35, 134.35,134.35,134.35,134.35,134.351, 134.351,134.351,134.351,134.351,134.351 ,134.351,134.351,134.351,134.345, 134.341,134.337,134.333,134.329,134.325 ,134.322,134.318,134.314,134.31,134.306 ,134.302,134.298,134.292,134.288, 134.285,134.281,134.277,134.273,134.269 ,134.265,134.261,134.258,134.254, 134.253,134.252)
ORBIT_NUMBER = 15860
ORBITAL_ECCENTRICITY = 0.573
ORBITAL_INCLINATION = 86.94
ORBITAL_SEMIMAJOR_AXIS = 8797.4
PERIAPSIS_ALTITUDE = 376.04
PERIAPSIS_ARGUMENT_ANGLE = 125.61
PERIAPSIS_TIME = 2016-07-07T12:12:22.000Z
SPACECRAFT_ORIENTATION = (0.0,-1.0,0.0)
^MEX_ORIENTATION_DESC = "MEX_ORIENTATION_DESC.TXT"
SPACECRAFT_POINTING_MODE = ACROSSTRACK
^MEX_POINTING_DESC = "MEX_POINTING_DESC.TXT"
RIGHT_ASCENSION = -1e+32
DECLINATION = -1e+32
OFFSET_ANGLE = 1.61
SPACECRAFT_SOLAR_DISTANCE = 2.18799e+08
TARGET_NAME = MARS
/* CAMERA DATA ELEMENTS */
BUFFER_MODE_ID = DIRECT
EXPOSURE_DURATION = 5.04
INST_CMPRS_NAME = NONE
INST_CMPRS_RATIO = 1.0
INST_CMPRS_QUALITY = -2147483648
INST_CMPRS_QUANTZ_TBL_ID = -2147483648
INSTRUMENT_TEMPERATURE = 8.18182
MISSING_FRAMES = 0
START_BIT = 0
/* RADIOMETRIC DATA ELEMENTS */
BANDWIDTH = 250.0
CENTER_FILTER_WAVELENGTH = 600.0
RADIANCE_OFFSET = -9.99e+31
RADIANCE_SCALING_FACTOR = -9.99e+31
REFLECTANCE_SCALING_FACTOR = -9.99e+31
MEX:REFLECTANCE_OFFSET = -9.99e+31
/* IMAGE OBJECT DEFINITIONS */
OBJECT = IMAGE
  INTERCHANGE_FORMAT = BINARY
  LINES = 1566
  LINE_SAMPLES = 1650
  SAMPLE_TYPE = UNSIGNED_INTEGER
  SAMPLE_BITS = 8
  BANDS = 1
  BAND_STORAGE_TYPE = BAND_SEQUENTIAL
  MAXIMUM = 244
  MEAN = 136.452
  MINIMUM = 6
  STANDARD_DEVIATION = 19.5278
END_OBJECT = IMAGE
/* MAP OBJECT DEFINITIONS */
OBJECT = IMAGE_MAP_PROJECTION
  ^DATA_SET_MAP_PROJECTION_CATALOG= "DSMAP.CAT"
  A_AXIS_RADIUS = 3396.19
  B_AXIS_RADIUS = 3396.19
  C_AXIS_RADIUS = 3396.19
  CENTER_LATITUDE = 0.0
  CENTER_LONGITUDE = 134.0
  COORDINATE_SYSTEM_NAME = PLANETOGRAPHIC
  COORDINATE_SYSTEM_TYPE = "BODY-FIXED ROTATING"
  EASTERNMOST_LONGITUDE = 134.351
  FIRST_STANDARD_PARALLEL = "N/A"
  LINE_FIRST_PIXEL = 1
  LINE_LAST_PIXEL = 1566
  LINE_PROJECTION_OFFSET = 1146660.0
  MAP_PROJECTION_ROTATION = 0.0
  MAP_PROJECTION_TYPE = SINUSOIDAL
  MAP_RESOLUTION = 23709.8786048756
  MAP_SCALE = 0.0025
  MAXIMUM_LATITUDE = 48.4188
  MINIMUM_LATITUDE = 48.3562
  POSITIVE_LONGITUDE_DIRECTION = EAST
  REFERENCE_LATITUDE = "N/A"
  REFERENCE_LONGITUDE = "N/A"
  SAMPLE_FIRST_PIXEL = 1
  SAMPLE_LAST_PIXEL = 1650
  SAMPLE_PROJECTION_OFFSET = -5189.0
  SECOND_STANDARD_PARALLEL = "N/A"
  WESTERNMOST_LONGITUDE = 134.251
END_OBJECT = IMAGE_MAP_PROJECTION
END
