PDS_VERSION_ID = PDS3
/* FILE DATA ELEMENTS */
RECORD_TYPE = UNDEFINED
/* POINTERS TO DATA OBJECTS */
^IMAGE = ("HF852_0000_P24.TIF")
/* IDENTIFICATION DATA ELEMENTS */
DATA_SET_ID = "MEX-M-HRSC-4-REFDR-MAPPROJECT-EXT5-V4.0"
DATA_SET_NAME = "MARS EXPRESS HRSC MAP PROJECTED REFDR EXTENSION5 V4.0"
DETECTOR_ID = MEX_HRSC_P2
EVENT_TYPE = "MARS-REGIONAL-MAPPING-Te-Im-Pf"
INSTRUMENT_HOST_ID = MEX
INSTRUMENT_HOST_NAME = "MARS EXPRESS"
INSTRUMENT_ID = HRSC
INSTRUMENT_NAME = "HIGH RESOLUTION STEREO CAMERA"
MISSION_NAME = "MARS EXPRESS"
MISSION_PHASE_NAME = ME_Phase_35
PROCESSING_LEVEL_ID = 4
PRODUCT_CREATION_TIME = 2023-01-31T07:53:46.000Z
PRODUCT_ID = "HF852_0000_P24.TIF"
RELEASE_ID = 0004
REVISION_ID = 0000
/* QUALITY DATA ELEMENTS */
DATA_QUALITY_ID = 1
DATA_QUALITY_DESC = "Data calculated based on original SPICE kernels"
/* TIME DATA ELEMENTS */
SPACECRAFT_CLOCK_START_COUNT = "1/0415771914.09058"
SPACECRAFT_CLOCK_STOP_COUNT = "1/0415772095.30923"
START_TIME = 2016-07-05T04:13:01.383Z
STOP_TIME = 2016-07-05T04:14:49.486Z
/* ORBITAL DATA ELEMENTS */
ASCENDING_NODE_LONGITUDE = 276.09
MAXIMUM_RESOLUTION = 0.031
FOOTPRINT_POINT_LATITUDE = (60.6462,60.6222,60.6098,60.5946, 60.5815,60.5496,60.5485,60.6189,60.4114 ,60.273,60.1348,59.927,59.7885,59.6502, 59.5119,59.3044,59.1661,59.0278,58.8894 ,58.6818,58.5434,58.405,58.2667,58.1283 ,57.99,57.7825,57.6441,57.5059,57.3676, 57.1602,57.0219,56.8836,56.6762,56.5379 ,56.3997,56.2614,56.1232,55.9158, 55.7776,55.5013,55.156,54.88,54.6038, 54.4657,54.1899,53.776,53.7069,53.6594, 53.6759,53.69,53.7004,53.7074,53.7177, 53.7259,53.7264,53.7271,53.8655,54.0731 ,54.2116,54.4193,54.5579,54.6965, 54.8351,55.043,55.2511,55.3898,55.5979, 55.7369,55.8758,56.0145,56.1535,56.3618 ,56.5007,56.6397,56.7785,56.9869, 57.1954,57.3345,57.5429,57.6821,57.8214 ,57.9604,58.0995,58.3081,58.4474, 58.5865,58.7952,58.9343,59.1431,59.2823 ,59.491,59.6303,59.7695,59.9783,60.1175 ,60.3263,60.4657,60.6049,60.6745, 60.6462)
FOOTPRINT_POINT_LONGITUDE = (230.297,229.53,229.173,228.764,228.433 ,227.694,227.669,227.578,227.623, 227.652,227.68,227.723,227.75,227.778, 227.805,227.844,227.871,227.897,227.922 ,227.96,227.985,228.009,228.034,228.058 ,228.081,228.116,228.139,228.162, 228.184,228.217,228.239,228.26,228.292, 228.313,228.334,228.354,228.374,228.404 ,228.423,228.462,228.508,228.545,228.58 ,228.598,228.632,228.682,228.69,228.695 ,229.126,229.58,229.926,230.164,230.553 ,230.9,230.922,230.929,230.921,230.907, 230.898,230.885,230.876,230.866,230.857 ,230.843,230.828,230.819,230.804, 230.794,230.784,230.774,230.763,230.748 ,230.737,230.727,230.716,230.699, 230.683,230.671,230.654,230.643,230.631 ,230.619,230.607,230.589,230.577, 230.565,230.546,230.533,230.514,230.501 ,230.481,230.467,230.454,230.433, 230.419,230.398,230.383,230.369,230.362 ,230.297)
ORBIT_NUMBER = 15852
ORBITAL_ECCENTRICITY = 0.573
ORBITAL_INCLINATION = 86.95
ORBITAL_SEMIMAJOR_AXIS = 8797.65
PERIAPSIS_ALTITUDE = 374.32
PERIAPSIS_ARGUMENT_ANGLE = 126.97
PERIAPSIS_TIME = 2016-07-05T04:14:39.000Z
SPACECRAFT_ORIENTATION = (0.0,-1.0,0.0)
^MEX_ORIENTATION_DESC = "MEX_ORIENTATION_DESC.TXT"
SPACECRAFT_POINTING_MODE = NADIR
^MEX_POINTING_DESC = "MEX_POINTING_DESC.TXT"
RIGHT_ASCENSION = -1e+32
DECLINATION = -1e+32
OFFSET_ANGLE = -1e+32
SPACECRAFT_SOLAR_DISTANCE = 2.19229e+08
TARGET_NAME = MARS
/* CAMERA DATA ELEMENTS */
DETECTOR_TEMPERATURE = 19.1861
FOCAL_PLANE_TEMPERATURE = 9.8067
INST_CMPRS_NAME = "DISCRETE COSINE TRANSFORMATION (DCT)"
INST_CMPRS_RATIO = 7.47865
INST_CMPRS_QUALITY = 0
INST_CMPRS_QUANTZ_TBL_ID = 0
INSTRUMENT_TEMPERATURE = 12.2535
LENS_TEMPERATURE = 10.2145
MACROPIXEL_SIZE = 2
MISSING_FRAMES = 0
PIXEL_SUBSAMPLING_FLAG = N
SIGNAL_CHAIN_ID = 3
/* RADIOMETRIC DATA ELEMENTS */
BANDWIDTH = 177.0
CENTER_FILTER_WAVELENGTH = 676.5
RADIANCE_OFFSET = 2.91835
RADIANCE_SCALING_FACTOR = 0.0157856
REFLECTANCE_SCALING_FACTOR = 0.000402266
MEX:REFLECTANCE_OFFSET = 0.0743689
/* IMAGE OBJECT DEFINITIONS */
OBJECT = IMAGE
  INTERCHANGE_FORMAT = BINARY
  LINES = 16766
  LINE_SAMPLES = 4367
  SAMPLE_TYPE = UNSIGNED_INTEGER
  SAMPLE_BITS = 8
  BANDS = 1
  BAND_STORAGE_TYPE = BAND_SEQUENTIAL
  MAXIMUM = 255
  MEAN = 73.6928
  MINIMUM = 1
  STANDARD_DEVIATION = 24.2707
END_OBJECT = IMAGE
/* MAP OBJECT DEFINITIONS */
OBJECT = IMAGE_MAP_PROJECTION
  ^DATA_SET_MAP_PROJECTION_CATALOG= "DSMAP.CAT"
  A_AXIS_RADIUS = 3396.0
  B_AXIS_RADIUS = 3396.0
  C_AXIS_RADIUS = 3396.0
  CENTER_LATITUDE = 0.0
  CENTER_LONGITUDE = 229.0
  COORDINATE_SYSTEM_NAME = PLANETOGRAPHIC
  COORDINATE_SYSTEM_TYPE = "BODY-FIXED ROTATING"
  EASTERNMOST_LONGITUDE = 230.929
  FIRST_STANDARD_PARALLEL = "N/A"
  LINE_FIRST_PIXEL = 1
  LINE_LAST_PIXEL = 16766
  LINE_PROJECTION_OFFSET = 143962.75
  MAP_PROJECTION_ROTATION = 0.0
  MAP_PROJECTION_TYPE = SINUSOIDAL
  MAP_RESOLUTION = 2370.85521546667
  MAP_SCALE = 0.025
  MAXIMUM_LATITUDE = 60.6745
  MINIMUM_LATITUDE = 53.6594
  POSITIVE_LONGITUDE_DIRECTION = EAST
  REFERENCE_LATITUDE = "N/A"
  REFERENCE_LONGITUDE = "N/A"
  SAMPLE_FIRST_PIXEL = 1
  SAMPLE_LAST_PIXEL = 4367
  SAMPLE_PROJECTION_OFFSET = 1666.75
  SECOND_STANDARD_PARALLEL = "N/A"
  WESTERNMOST_LONGITUDE = 227.578
END_OBJECT = IMAGE_MAP_PROJECTION
END
