PDS_VERSION_ID = PDS3
/* FILE DATA ELEMENTS */
RECORD_TYPE = UNDEFINED
/* POINTERS TO DATA OBJECTS */
^IMAGE = ("HF852_0000_P14.TIF")
/* IDENTIFICATION DATA ELEMENTS */
DATA_SET_ID = "MEX-M-HRSC-4-REFDR-MAPPROJECT-EXT5-V4.0"
DATA_SET_NAME = "MARS EXPRESS HRSC MAP PROJECTED REFDR EXTENSION5 V4.0"
DETECTOR_ID = MEX_HRSC_P1
EVENT_TYPE = "MARS-REGIONAL-MAPPING-Te-Im-Pf"
INSTRUMENT_HOST_ID = MEX
INSTRUMENT_HOST_NAME = "MARS EXPRESS"
INSTRUMENT_ID = HRSC
INSTRUMENT_NAME = "HIGH RESOLUTION STEREO CAMERA"
MISSION_NAME = "MARS EXPRESS"
MISSION_PHASE_NAME = ME_Phase_35
PROCESSING_LEVEL_ID = 4
PRODUCT_CREATION_TIME = 2023-01-31T07:53:46.000Z
PRODUCT_ID = "HF852_0000_P14.TIF"
RELEASE_ID = 0004
REVISION_ID = 0000
/* QUALITY DATA ELEMENTS */
DATA_QUALITY_ID = 1
DATA_QUALITY_DESC = "Data calculated based on original SPICE kernels"
/* TIME DATA ELEMENTS */
SPACECRAFT_CLOCK_START_COUNT = "1/0415771914.09058"
SPACECRAFT_CLOCK_STOP_COUNT = "1/0415772095.30923"
START_TIME = 2016-07-05T04:12:14.400Z
STOP_TIME = 2016-07-05T04:14:04.651Z
/* ORBITAL DATA ELEMENTS */
ASCENDING_NODE_LONGITUDE = 276.09
MAXIMUM_RESOLUTION = 0.031
FOOTPRINT_POINT_LATITUDE = (60.7812,60.7553,60.7409,60.7294, 60.7116,60.6922,60.6753,60.674,60.5988, 60.3938,60.1886,59.9149,59.641,59.2976, 59.0226,58.7476,58.472,58.2652,58.1272, 57.9892,57.8511,57.7129,57.5746,57.4362 ,57.2979,57.0901,56.9516,56.7436, 56.6049,56.4662,56.3273,56.1885,56.0496 ,55.9105,55.7715,55.5628,55.4235, 55.2844,55.1448,55.0054,54.7963,54.6567 ,54.4474,54.3076,54.168,53.9585,53.7488 ,53.679,53.6457,53.6558,53.6736,53.6885 ,53.6973,53.7072,53.7185,53.719,53.7196 ,53.9305,54.0709,54.2113,54.3517,54.492 ,54.6323,54.7726,54.9126,55.053,55.193, 55.4029,55.5428,55.6827,55.8224,55.9622 ,56.102,56.2415,56.3812,56.5208,56.6603 ,56.7998,56.9394,57.0786,57.2179, 57.3572,57.4963,57.6355,57.7744,57.9828 ,58.1217,58.2605,58.4687,58.6766, 58.8152,58.9538,59.0922,59.438,59.7145, 59.9905,60.2663,60.6106,60.6795, 60.7812)
FOOTPRINT_POINT_LONGITUDE = (230.317,229.502,229.108,228.82,228.401 ,227.982,227.642,227.616,227.555,227.6, 227.644,227.701,227.757,227.825,227.878 ,227.931,227.981,228.019,228.043, 228.067,228.091,228.115,228.138,228.162 ,228.185,228.218,228.241,228.274, 228.295,228.317,228.338,228.359,228.379 ,228.4,228.42,228.45,228.469,228.489, 228.508,228.527,228.555,228.573,228.601 ,228.618,228.636,228.662,228.688, 228.697,228.701,228.979,229.391,229.822 ,230.103,230.449,230.904,230.925, 230.933,230.92,230.912,230.903,230.895, 230.886,230.877,230.868,230.86,230.85, 230.841,230.827,230.818,230.809,230.799 ,230.79,230.78,230.77,230.76,230.75, 230.74,230.73,230.719,230.709,230.698, 230.688,230.677,230.666,230.655,230.639 ,230.627,230.616,230.599,230.581,230.57 ,230.558,230.546,230.515,230.49,230.464 ,230.438,230.404,230.397,230.317)
ORBIT_NUMBER = 15852
ORBITAL_ECCENTRICITY = 0.573
ORBITAL_INCLINATION = 86.95
ORBITAL_SEMIMAJOR_AXIS = 8797.65
PERIAPSIS_ALTITUDE = 374.32
PERIAPSIS_ARGUMENT_ANGLE = 126.97
PERIAPSIS_TIME = 2016-07-05T04:14:39.000Z
SPACECRAFT_ORIENTATION = (0.0,-1.0,0.0)
^MEX_ORIENTATION_DESC = "MEX_ORIENTATION_DESC.TXT"
SPACECRAFT_POINTING_MODE = NADIR
^MEX_POINTING_DESC = "MEX_POINTING_DESC.TXT"
RIGHT_ASCENSION = -1e+32
DECLINATION = -1e+32
OFFSET_ANGLE = -1e+32
SPACECRAFT_SOLAR_DISTANCE = 2.19229e+08
TARGET_NAME = MARS
/* CAMERA DATA ELEMENTS */
DETECTOR_TEMPERATURE = 18.3705
FOCAL_PLANE_TEMPERATURE = 9.8067
INST_CMPRS_NAME = "DISCRETE COSINE TRANSFORMATION (DCT)"
INST_CMPRS_RATIO = 9.80063
INST_CMPRS_QUALITY = 0
INST_CMPRS_QUANTZ_TBL_ID = 0
INSTRUMENT_TEMPERATURE = 12.2535
LENS_TEMPERATURE = 10.2145
MACROPIXEL_SIZE = 2
MISSING_FRAMES = 0
PIXEL_SUBSAMPLING_FLAG = N
SIGNAL_CHAIN_ID = 3
/* RADIOMETRIC DATA ELEMENTS */
BANDWIDTH = 174.0
CENTER_FILTER_WAVELENGTH = 675.0
RADIANCE_OFFSET = 2.94051
RADIANCE_SCALING_FACTOR = 0.0175653
REFLECTANCE_SCALING_FACTOR = 0.000454086
MEX:REFLECTANCE_OFFSET = 0.076016
/* IMAGE OBJECT DEFINITIONS */
OBJECT = IMAGE
  INTERCHANGE_FORMAT = BINARY
  LINES = 16766
  LINE_SAMPLES = 4367
  SAMPLE_TYPE = UNSIGNED_INTEGER
  SAMPLE_BITS = 8
  BANDS = 1
  BAND_STORAGE_TYPE = BAND_SEQUENTIAL
  MAXIMUM = 255
  MEAN = 64.6207
  MINIMUM = 1
  STANDARD_DEVIATION = 21.9493
END_OBJECT = IMAGE
/* MAP OBJECT DEFINITIONS */
OBJECT = IMAGE_MAP_PROJECTION
  ^DATA_SET_MAP_PROJECTION_CATALOG= "DSMAP.CAT"
  A_AXIS_RADIUS = 3396.0
  B_AXIS_RADIUS = 3396.0
  C_AXIS_RADIUS = 3396.0
  CENTER_LATITUDE = 0.0
  CENTER_LONGITUDE = 229.0
  COORDINATE_SYSTEM_NAME = PLANETOGRAPHIC
  COORDINATE_SYSTEM_TYPE = "BODY-FIXED ROTATING"
  EASTERNMOST_LONGITUDE = 230.933
  FIRST_STANDARD_PARALLEL = "N/A"
  LINE_FIRST_PIXEL = 1
  LINE_LAST_PIXEL = 16766
  LINE_PROJECTION_OFFSET = 143962.75
  MAP_PROJECTION_ROTATION = 0.0
  MAP_PROJECTION_TYPE = SINUSOIDAL
  MAP_RESOLUTION = 2370.85521546667
  MAP_SCALE = 0.025
  MAXIMUM_LATITUDE = 60.7812
  MINIMUM_LATITUDE = 53.6457
  POSITIVE_LONGITUDE_DIRECTION = EAST
  REFERENCE_LATITUDE = "N/A"
  REFERENCE_LONGITUDE = "N/A"
  SAMPLE_FIRST_PIXEL = 1
  SAMPLE_LAST_PIXEL = 4367
  SAMPLE_PROJECTION_OFFSET = 1666.75
  SECOND_STANDARD_PARALLEL = "N/A"
  WESTERNMOST_LONGITUDE = 227.555
END_OBJECT = IMAGE_MAP_PROJECTION
END
