PDS_VERSION_ID = PDS3
/* FILE DATA ELEMENTS */
RECORD_TYPE = UNDEFINED
/* POINTERS TO DATA OBJECTS */
^IMAGE = ("HF838_0000_S24.TIF")
/* IDENTIFICATION DATA ELEMENTS */
DATA_SET_ID = "MEX-M-HRSC-4-REFDR-MAPPROJECT-EXT5-V4.0"
DATA_SET_NAME = "MARS EXPRESS HRSC MAP PROJECTED REFDR EXTENSION5 V4.0"
DETECTOR_ID = MEX_HRSC_S2
EVENT_TYPE = "MARS-REGIONAL-STEREO-Te"
INSTRUMENT_HOST_ID = MEX
INSTRUMENT_HOST_NAME = "MARS EXPRESS"
INSTRUMENT_ID = HRSC
INSTRUMENT_NAME = "HIGH RESOLUTION STEREO CAMERA"
MISSION_NAME = "MARS EXPRESS"
MISSION_PHASE_NAME = ME_Phase_35
PROCESSING_LEVEL_ID = 4
PRODUCT_CREATION_TIME = 2023-01-31T07:53:46.000Z
PRODUCT_ID = "HF838_0000_S24.TIF"
RELEASE_ID = 0004
REVISION_ID = 0000
/* QUALITY DATA ELEMENTS */
DATA_QUALITY_ID = 1
DATA_QUALITY_DESC = "Data calculated based on original SPICE kernels"
/* TIME DATA ELEMENTS */
SPACECRAFT_CLOCK_START_COUNT = "1/0415419610.09054"
SPACECRAFT_CLOCK_STOP_COUNT = "1/0415419796.24235"
START_TIME = 2016-07-01T02:21:28.467Z
STOP_TIME = 2016-07-01T02:23:21.960Z
/* ORBITAL DATA ELEMENTS */
ASCENDING_NODE_LONGITUDE = 276.35
MAXIMUM_RESOLUTION = 0.0169
FOOTPRINT_POINT_LATITUDE = (42.173,42.1707,42.1681,42.164,42.1607, 42.156,42.1509,42.1446,42.1442,42.2155, 42.0778,41.94,41.8023,41.6649,41.5272, 41.321,41.1151,40.8416,40.5677,40.2266, 39.9542,39.7479,39.6105,39.4706,39.1954 ,38.996,38.7894,38.6505,38.4488,38.1753 ,37.9681,37.8301,37.6906,37.5496, 37.2783,37.0745,36.7982,36.5869,36.4462 ,36.3059,36.1657,36.0257,35.8156, 35.6754,35.5369,35.3934,35.3199,35.3184 ,35.3253,35.3226,35.3249,35.3256, 35.3273,35.3281,35.3295,35.33,35.3301, 35.3304,35.4736,35.6157,35.8257,35.966, 36.106,36.2462,36.3868,36.5271,36.6677, 36.8088,36.9502,37.091,37.2285,37.3657, 37.5706,37.7742,37.9111,38.1857,38.3252 ,38.4667,38.6045,38.8769,39.0802,39.354 ,39.6295,39.7667,39.9057,40.1786, 40.3838,40.5205,40.6576,40.8629,41.0005 ,41.1383,41.2757,41.4134,41.6198, 41.7578,41.9648,42.1721,42.2413,42.173)
FOOTPRINT_POINT_LONGITUDE = (223.635,223.436,223.237,222.948, 222.731,222.443,222.154,221.828,221.81, 221.769,221.774,221.78,221.785,221.79, 221.795,221.802,221.809,221.818,221.827 ,221.837,221.845,221.852,221.856, 221.861,221.87,221.874,221.88,221.885, 221.889,221.893,221.897,221.9,221.903, 221.907,221.911,221.913,221.917,221.92, 221.923,221.925,221.927,221.928,221.931 ,221.933,221.934,221.936,221.937, 221.937,222.198,222.516,222.796,222.964 ,223.188,223.356,223.598,223.803, 223.822,223.831,223.828,223.825,223.821 ,223.818,223.814,223.811,223.808, 223.805,223.802,223.798,223.795,223.793 ,223.79,223.787,223.781,223.775,223.771 ,223.763,223.76,223.758,223.755,223.749 ,223.744,223.738,223.732,223.729, 223.726,223.719,223.714,223.71,223.706, 223.7,223.697,223.693,223.689,223.685, 223.68,223.676,223.67,223.664,223.662, 223.635)
ORBIT_NUMBER = 15838
ORBITAL_ECCENTRICITY = 0.573
ORBITAL_INCLINATION = 86.95
ORBITAL_SEMIMAJOR_AXIS = 8800.72
PERIAPSIS_ALTITUDE = 373.03
PERIAPSIS_ARGUMENT_ANGLE = 129.38
PERIAPSIS_TIME = 2016-07-01T02:18:42.000Z
SPACECRAFT_ORIENTATION = (0.0,-1.0,0.0)
^MEX_ORIENTATION_DESC = "MEX_ORIENTATION_DESC.TXT"
SPACECRAFT_POINTING_MODE = NADIR
^MEX_POINTING_DESC = "MEX_POINTING_DESC.TXT"
RIGHT_ASCENSION = -1e+32
DECLINATION = -1e+32
OFFSET_ANGLE = -1e+32
SPACECRAFT_SOLAR_DISTANCE = 2.19988e+08
TARGET_NAME = MARS
/* CAMERA DATA ELEMENTS */
DETECTOR_TEMPERATURE = 18.9822
FOCAL_PLANE_TEMPERATURE = 9.6028
INST_CMPRS_NAME = "DISCRETE COSINE TRANSFORMATION (DCT)"
INST_CMPRS_RATIO = 4.97781
INST_CMPRS_QUALITY = 0
INST_CMPRS_QUANTZ_TBL_ID = 0
INSTRUMENT_TEMPERATURE = 12.4574
LENS_TEMPERATURE = 10.2145
MACROPIXEL_SIZE = 1
MISSING_FRAMES = 0
PIXEL_SUBSAMPLING_FLAG = N
SIGNAL_CHAIN_ID = 1
/* RADIOMETRIC DATA ELEMENTS */
BANDWIDTH = 178.0
CENTER_FILTER_WAVELENGTH = 679.0
RADIANCE_OFFSET = 2.48851
RADIANCE_SCALING_FACTOR = 0.0373743
REFLECTANCE_SCALING_FACTOR = 0.000957861
MEX:REFLECTANCE_OFFSET = 0.0637776
/* IMAGE OBJECT DEFINITIONS */
OBJECT = IMAGE
  INTERCHANGE_FORMAT = BINARY
  LINES = 32884
  LINE_SAMPLES = 7236
  SAMPLE_TYPE = UNSIGNED_INTEGER
  SAMPLE_BITS = 8
  BANDS = 1
  BAND_STORAGE_TYPE = BAND_SEQUENTIAL
  MAXIMUM = 255
  MEAN = 122.135
  MINIMUM = 1
  STANDARD_DEVIATION = 17.0741
END_OBJECT = IMAGE
/* MAP OBJECT DEFINITIONS */
OBJECT = IMAGE_MAP_PROJECTION
  ^DATA_SET_MAP_PROJECTION_CATALOG= "DSMAP.CAT"
  A_AXIS_RADIUS = 3396.0
  B_AXIS_RADIUS = 3396.0
  C_AXIS_RADIUS = 3396.0
  CENTER_LATITUDE = 0.0
  CENTER_LONGITUDE = 223.0
  COORDINATE_SYSTEM_NAME = PLANETOGRAPHIC
  COORDINATE_SYSTEM_TYPE = "BODY-FIXED ROTATING"
  EASTERNMOST_LONGITUDE = 223.831
  FIRST_STANDARD_PARALLEL = "N/A"
  LINE_FIRST_PIXEL = 1
  LINE_LAST_PIXEL = 32884
  LINE_PROJECTION_OFFSET = 200269.0
  MAP_PROJECTION_ROTATION = 0.0
  MAP_PROJECTION_TYPE = SINUSOIDAL
  MAP_RESOLUTION = 4741.71043093333
  MAP_SCALE = 0.0125
  MAXIMUM_LATITUDE = 42.2413
  MINIMUM_LATITUDE = 35.3184
  POSITIVE_LONGITUDE_DIRECTION = EAST
  REFERENCE_LATITUDE = "N/A"
  REFERENCE_LONGITUDE = "N/A"
  SAMPLE_FIRST_PIXEL = 1
  SAMPLE_LAST_PIXEL = 7236
  SAMPLE_PROJECTION_OFFSET = 4220.0
  SECOND_STANDARD_PARALLEL = "N/A"
  WESTERNMOST_LONGITUDE = 221.769
END_OBJECT = IMAGE_MAP_PROJECTION
END
