PDS_VERSION_ID = PDS3
/* FILE DATA ELEMENTS */
RECORD_TYPE = UNDEFINED
/* POINTERS TO DATA OBJECTS */
^IMAGE = ("HF831_0000_P24.TIF")
/* IDENTIFICATION DATA ELEMENTS */
DATA_SET_ID = "MEX-M-HRSC-4-REFDR-MAPPROJECT-EXT5-V4.0"
DATA_SET_NAME = "MARS EXPRESS HRSC MAP PROJECTED REFDR EXTENSION5 V4.0"
DETECTOR_ID = MEX_HRSC_P2
EVENT_TYPE = "MARS-REGIONAL-MAPPING-Te-Pf"
INSTRUMENT_HOST_ID = MEX
INSTRUMENT_HOST_NAME = "MARS EXPRESS"
INSTRUMENT_ID = HRSC
INSTRUMENT_NAME = "HIGH RESOLUTION STEREO CAMERA"
MISSION_NAME = "MARS EXPRESS"
MISSION_PHASE_NAME = ME_Phase_34
PROCESSING_LEVEL_ID = 4
PRODUCT_CREATION_TIME = 2023-01-31T07:53:46.000Z
PRODUCT_ID = "HF831_0000_P24.TIF"
RELEASE_ID = 0004
REVISION_ID = 0000
/* QUALITY DATA ELEMENTS */
DATA_QUALITY_ID = 1
DATA_QUALITY_DESC = "Data calculated based on original SPICE kernels"
/* TIME DATA ELEMENTS */
SPACECRAFT_CLOCK_START_COUNT = "1/0415243190.09063"
SPACECRAFT_CLOCK_STOP_COUNT = "1/0415243414.40800"
START_TIME = 2016-06-29T01:20:53.962Z
STOP_TIME = 2016-06-29T01:23:27.344Z
/* ORBITAL DATA ELEMENTS */
ASCENDING_NODE_LONGITUDE = 276.48
MAXIMUM_RESOLUTION = 0.0309
FOOTPRINT_POINT_LATITUDE = (50.2348,50.2227,50.2131,50.203,50.1924 ,50.1812,50.1694,50.1687,50.2273, 49.9319,49.7347,49.4393,49.2426,48.9476 ,48.6528,48.3579,48.0633,47.867,47.6708 ,47.4747,47.1806,46.8867,46.6909, 46.4952,46.2019,46.0063,45.8109,45.5181 ,45.3227,45.1281,44.9334,44.7387, 44.5441,44.156,43.8649,43.6708,43.2817, 42.9914,42.7978,42.6044,42.4113,42.0253 ,41.6401,41.3512,40.9667,40.5826, 40.4867,40.4719,40.4799,40.4901,40.5022 ,40.5149,40.5152,40.5159,40.9006,41.382 ,41.6716,41.8647,42.0581,42.348,42.5414 ,42.7351,42.929,43.2198,43.4142,43.6084 ,43.8028,43.9975,44.1922,44.3871, 44.5817,44.7771,44.9722,45.1677,45.4609 ,45.6564,45.852,46.0478,46.244,46.44, 46.6362,46.8325,47.0286,47.225,47.4216, 47.6183,47.815,48.0116,48.2088,48.4056, 48.7013,48.8985,49.0959,49.2932,49.5893 ,49.7868,49.9842,50.182,50.2807, 50.2348)
FOOTPRINT_POINT_LONGITUDE = (220.228,219.796,219.485,219.176, 218.868,218.563,218.26,218.241,218.222, 218.243,218.257,218.276,218.289,218.308 ,218.327,218.344,218.362,218.373, 218.384,218.395,218.411,218.426,218.436 ,218.445,218.46,218.469,218.478,218.491 ,218.499,218.508,218.516,218.524, 218.531,218.546,218.557,218.564,218.577 ,218.587,218.593,218.599,218.605, 218.616,218.626,218.634,218.643,218.652 ,218.654,218.654,218.935,219.323, 219.839,220.469,220.487,220.494,220.488 ,220.481,220.477,220.474,220.471, 220.467,220.463,220.46,220.457,220.452, 220.449,220.446,220.442,220.439,220.435 ,220.432,220.428,220.425,220.421, 220.418,220.412,220.408,220.404,220.401 ,220.397,220.393,220.389,220.385, 220.381,220.376,220.372,220.368,220.363 ,220.359,220.355,220.35,220.343,220.338 ,220.333,220.328,220.321,220.316,220.31 ,220.305,220.302,220.228)
ORBIT_NUMBER = 15831
ORBITAL_ECCENTRICITY = 0.573
ORBITAL_INCLINATION = 86.95
ORBITAL_SEMIMAJOR_AXIS = 8802.12
PERIAPSIS_ALTITUDE = 372.49
PERIAPSIS_ARGUMENT_ANGLE = 130.59
PERIAPSIS_TIME = 2016-06-29T01:20:46.000Z
SPACECRAFT_ORIENTATION = (0.0,-1.0,0.0)
^MEX_ORIENTATION_DESC = "MEX_ORIENTATION_DESC.TXT"
SPACECRAFT_POINTING_MODE = ACROSSTRACK
^MEX_POINTING_DESC = "MEX_POINTING_DESC.TXT"
RIGHT_ASCENSION = -1e+32
DECLINATION = -1e+32
OFFSET_ANGLE = 0.5
SPACECRAFT_SOLAR_DISTANCE = 2.20372e+08
TARGET_NAME = MARS
/* CAMERA DATA ELEMENTS */
DETECTOR_TEMPERATURE = 19.1861
FOCAL_PLANE_TEMPERATURE = 9.8067
INST_CMPRS_NAME = "DISCRETE COSINE TRANSFORMATION (DCT)"
INST_CMPRS_RATIO = 5.98488
INST_CMPRS_QUALITY = 0
INST_CMPRS_QUANTZ_TBL_ID = 0
INSTRUMENT_TEMPERATURE = 12.6613
LENS_TEMPERATURE = 10.4184
MACROPIXEL_SIZE = 2
MISSING_FRAMES = 0
PIXEL_SUBSAMPLING_FLAG = N
SIGNAL_CHAIN_ID = 3
/* RADIOMETRIC DATA ELEMENTS */
BANDWIDTH = 177.0
CENTER_FILTER_WAVELENGTH = 676.5
RADIANCE_OFFSET = 2.18879
RADIANCE_SCALING_FACTOR = 0.0292958
REFLECTANCE_SCALING_FACTOR = 0.000754351
MEX:REFLECTANCE_OFFSET = 0.0563601
/* IMAGE OBJECT DEFINITIONS */
OBJECT = IMAGE
  INTERCHANGE_FORMAT = BINARY
  LINES = 23238
  LINE_SAMPLES = 3836
  SAMPLE_TYPE = UNSIGNED_INTEGER
  SAMPLE_BITS = 8
  BANDS = 1
  BAND_STORAGE_TYPE = BAND_SEQUENTIAL
  MAXIMUM = 255
  MEAN = 119.837
  MINIMUM = 1
  STANDARD_DEVIATION = 13.9246
END_OBJECT = IMAGE
/* MAP OBJECT DEFINITIONS */
OBJECT = IMAGE_MAP_PROJECTION
  ^DATA_SET_MAP_PROJECTION_CATALOG= "DSMAP.CAT"
  A_AXIS_RADIUS = 3396.0
  B_AXIS_RADIUS = 3396.0
  C_AXIS_RADIUS = 3396.0
  CENTER_LATITUDE = 0.0
  CENTER_LONGITUDE = 219.0
  COORDINATE_SYSTEM_NAME = PLANETOGRAPHIC
  COORDINATE_SYSTEM_TYPE = "BODY-FIXED ROTATING"
  EASTERNMOST_LONGITUDE = 220.494
  FIRST_STANDARD_PARALLEL = "N/A"
  LINE_FIRST_PIXEL = 1
  LINE_LAST_PIXEL = 23238
  LINE_PROJECTION_OFFSET = 119179.75
  MAP_PROJECTION_ROTATION = 0.0
  MAP_PROJECTION_TYPE = SINUSOIDAL
  MAP_RESOLUTION = 2370.85521546667
  MAP_SCALE = 0.025
  MAXIMUM_LATITUDE = 50.2807
  MINIMUM_LATITUDE = 40.4719
  POSITIVE_LONGITUDE_DIRECTION = EAST
  REFERENCE_LATITUDE = "N/A"
  REFERENCE_LONGITUDE = "N/A"
  SAMPLE_FIRST_PIXEL = 1
  SAMPLE_LAST_PIXEL = 3836
  SAMPLE_PROJECTION_OFFSET = 1179.75
  SECOND_STANDARD_PARALLEL = "N/A"
  WESTERNMOST_LONGITUDE = 218.222
END_OBJECT = IMAGE_MAP_PROJECTION
END
