PDS_VERSION_ID = PDS3
/* FILE DATA ELEMENTS */
RECORD_TYPE = UNDEFINED
/* POINTERS TO DATA OBJECTS */
^IMAGE = ("HF831_0000_GR4.TIF")
/* IDENTIFICATION DATA ELEMENTS */
DATA_SET_ID = "MEX-M-HRSC-4-REFDR-MAPPROJECT-EXT5-V4.0"
DATA_SET_NAME = "MARS EXPRESS HRSC MAP PROJECTED REFDR EXTENSION5 V4.0"
DETECTOR_ID = MEX_HRSC_GREEN
EVENT_TYPE = "MARS-REGIONAL-MAPPING-Te-Pf"
INSTRUMENT_HOST_ID = MEX
INSTRUMENT_HOST_NAME = "MARS EXPRESS"
INSTRUMENT_ID = HRSC
INSTRUMENT_NAME = "HIGH RESOLUTION STEREO CAMERA"
MISSION_NAME = "MARS EXPRESS"
MISSION_PHASE_NAME = ME_Phase_34
PROCESSING_LEVEL_ID = 4
PRODUCT_CREATION_TIME = 2023-01-31T07:53:46.000Z
PRODUCT_ID = "HF831_0000_GR4.TIF"
RELEASE_ID = 0004
REVISION_ID = 0000
/* QUALITY DATA ELEMENTS */
DATA_QUALITY_ID = 1
DATA_QUALITY_DESC = "Data calculated based on original SPICE kernels"
/* TIME DATA ELEMENTS */
SPACECRAFT_CLOCK_START_COUNT = "1/0415243190.09063"
SPACECRAFT_CLOCK_STOP_COUNT = "1/0415243414.40800"
START_TIME = 2016-06-29T01:20:25.920Z
STOP_TIME = 2016-06-29T01:22:57.841Z
/* ORBITAL DATA ELEMENTS */
ASCENDING_NODE_LONGITUDE = 276.48
MAXIMUM_RESOLUTION = 0.0599
FOOTPRINT_POINT_LATITUDE = (50.2778,50.2732,50.2642,50.2522, 50.2437,50.2432,50.2286,49.9363,49.7414 ,49.5466,49.3517,49.1567,48.9617, 48.6692,48.4742,48.2792,48.0842,47.8891 ,47.694,47.4989,47.3038,47.0112,46.7185 ,46.5234,46.3284,46.1333,45.9382, 45.7431,45.4504,45.1578,44.9627,44.7677 ,44.5726,44.2802,44.0849,43.8899,43.695 ,43.5001,43.208,43.0131,42.7209,42.5262 ,42.1367,41.7474,41.3582,40.9693, 40.5806,40.4835,40.4612,40.4678,40.4708 ,40.4727,40.4738,40.4739,40.4739, 40.4749,40.8644,41.0592,41.254,41.449, 41.6438,41.8388,42.0338,42.3265,42.5217 ,42.8145,43.0097,43.205,43.4979,43.7909 ,43.9863,44.1817,44.3771,44.5726, 44.8658,45.0613,45.3545,45.5501,45.7456 ,46.039,46.2345,46.4301,46.6257,46.8212 ,47.0169,47.2125,47.5058,47.7992, 47.9948,48.1903,48.4837,48.7769,48.9724 ,49.2657,49.4612,49.6566,49.9498, 50.1452,50.2429,50.2778)
FOOTPRINT_POINT_LONGITUDE = (220.22,219.788,219.194,218.608,218.262 ,218.244,218.232,218.254,218.267, 218.281,218.294,218.307,218.32,218.339, 218.351,218.363,218.375,218.387,218.398 ,218.409,218.42,218.436,218.451,218.461 ,218.471,218.481,218.49,218.499,218.513 ,218.526,218.534,218.543,218.551, 218.563,218.57,218.578,218.585,218.592, 218.603,218.609,218.619,218.625,218.637 ,218.649,218.66,218.67,218.68,218.682, 218.682,219.191,219.523,219.824,220.176 ,220.447,220.464,220.47,220.465,220.463 ,220.46,220.457,220.455,220.452,220.45, 220.445,220.443,220.438,220.435,220.432 ,220.428,220.423,220.421,220.417, 220.415,220.411,220.406,220.403,220.398 ,220.395,220.391,220.386,220.382, 220.379,220.375,220.371,220.367,220.363 ,220.358,220.352,220.347,220.344, 220.337,220.331,220.326,220.32,220.315, 220.31,220.303,220.298,220.295,220.22)
ORBIT_NUMBER = 15831
ORBITAL_ECCENTRICITY = 0.573
ORBITAL_INCLINATION = 86.95
ORBITAL_SEMIMAJOR_AXIS = 8802.12
PERIAPSIS_ALTITUDE = 372.49
PERIAPSIS_ARGUMENT_ANGLE = 130.59
PERIAPSIS_TIME = 2016-06-29T01:20:46.000Z
SPACECRAFT_ORIENTATION = (0.0,-1.0,0.0)
^MEX_ORIENTATION_DESC = "MEX_ORIENTATION_DESC.TXT"
SPACECRAFT_POINTING_MODE = ACROSSTRACK
^MEX_POINTING_DESC = "MEX_POINTING_DESC.TXT"
RIGHT_ASCENSION = -1e+32
DECLINATION = -1e+32
OFFSET_ANGLE = 0.5
SPACECRAFT_SOLAR_DISTANCE = 2.20372e+08
TARGET_NAME = MARS
/* CAMERA DATA ELEMENTS */
DETECTOR_TEMPERATURE = 18.9822
FOCAL_PLANE_TEMPERATURE = 9.8067
INST_CMPRS_NAME = "DISCRETE COSINE TRANSFORMATION (DCT)"
INST_CMPRS_RATIO = 10.0381
INST_CMPRS_QUALITY = 0
INST_CMPRS_QUANTZ_TBL_ID = 0
INSTRUMENT_TEMPERATURE = 12.6613
LENS_TEMPERATURE = 10.4184
MACROPIXEL_SIZE = 4
MISSING_FRAMES = 0
PIXEL_SUBSAMPLING_FLAG = N
SIGNAL_CHAIN_ID = 2
/* RADIOMETRIC DATA ELEMENTS */
BANDWIDTH = 88.0
CENTER_FILTER_WAVELENGTH = 538.0
RADIANCE_OFFSET = 0.66256
RADIANCE_SCALING_FACTOR = 0.0078632
REFLECTANCE_SCALING_FACTOR = 0.000328777
MEX:REFLECTANCE_OFFSET = 0.027703
/* IMAGE OBJECT DEFINITIONS */
OBJECT = IMAGE
  INTERCHANGE_FORMAT = BINARY
  LINES = 11619
  LINE_SAMPLES = 1918
  SAMPLE_TYPE = UNSIGNED_INTEGER
  SAMPLE_BITS = 8
  BANDS = 1
  BAND_STORAGE_TYPE = BAND_SEQUENTIAL
  MAXIMUM = 255
  MEAN = 124.119
  MINIMUM = 1
  STANDARD_DEVIATION = 13.1923
END_OBJECT = IMAGE
/* MAP OBJECT DEFINITIONS */
OBJECT = IMAGE_MAP_PROJECTION
  ^DATA_SET_MAP_PROJECTION_CATALOG= "DSMAP.CAT"
  A_AXIS_RADIUS = 3396.0
  B_AXIS_RADIUS = 3396.0
  C_AXIS_RADIUS = 3396.0
  CENTER_LATITUDE = 0.0
  CENTER_LONGITUDE = 219.0
  COORDINATE_SYSTEM_NAME = PLANETOGRAPHIC
  COORDINATE_SYSTEM_TYPE = "BODY-FIXED ROTATING"
  EASTERNMOST_LONGITUDE = 220.47
  FIRST_STANDARD_PARALLEL = "N/A"
  LINE_FIRST_PIXEL = 1
  LINE_LAST_PIXEL = 11619
  LINE_PROJECTION_OFFSET = 59589.625
  MAP_PROJECTION_ROTATION = 0.0
  MAP_PROJECTION_TYPE = SINUSOIDAL
  MAP_RESOLUTION = 1185.42760773333
  MAP_SCALE = 0.05
  MAXIMUM_LATITUDE = 50.2778
  MINIMUM_LATITUDE = 40.4612
  POSITIVE_LONGITUDE_DIRECTION = EAST
  REFERENCE_LATITUDE = "N/A"
  REFERENCE_LONGITUDE = "N/A"
  SAMPLE_FIRST_PIXEL = 1
  SAMPLE_LAST_PIXEL = 1918
  SAMPLE_PROJECTION_OFFSET = 589.625
  SECOND_STANDARD_PARALLEL = "N/A"
  WESTERNMOST_LONGITUDE = 218.232
END_OBJECT = IMAGE_MAP_PROJECTION
END
