PDS_VERSION_ID = PDS3
/* FILE DATA ELEMENTS */
RECORD_TYPE = UNDEFINED
/* POINTERS TO DATA OBJECTS */
^IMAGE = ("HF801_0000_S24.TIF")
/* IDENTIFICATION DATA ELEMENTS */
DATA_SET_ID = "MEX-M-HRSC-4-REFDR-MAPPROJECT-EXT5-V4.0"
DATA_SET_NAME = "MARS EXPRESS HRSC MAP PROJECTED REFDR EXTENSION5 V4.0"
DETECTOR_ID = MEX_HRSC_S2
EVENT_TYPE = "MARS-REGIONAL-MAPPING-Im-Fl"
INSTRUMENT_HOST_ID = MEX
INSTRUMENT_HOST_NAME = "MARS EXPRESS"
INSTRUMENT_ID = HRSC
INSTRUMENT_NAME = "HIGH RESOLUTION STEREO CAMERA"
MISSION_NAME = "MARS EXPRESS"
MISSION_PHASE_NAME = ME_Phase_34
PROCESSING_LEVEL_ID = 4
PRODUCT_CREATION_TIME = 2023-01-31T07:53:46.000Z
PRODUCT_ID = "HF801_0000_S24.TIF"
RELEASE_ID = 0004
REVISION_ID = 0000
/* QUALITY DATA ELEMENTS */
DATA_QUALITY_ID = 1
DATA_QUALITY_DESC = "Data calculated based on original SPICE kernels"
/* TIME DATA ELEMENTS */
SPACECRAFT_CLOCK_START_COUNT = "1/0414488069.07315"
SPACECRAFT_CLOCK_STOP_COUNT = "1/0414488512.52897"
START_TIME = 2016-06-20T07:36:05.883Z
STOP_TIME = 2016-06-20T07:41:58.425Z
/* ORBITAL DATA ELEMENTS */
ASCENDING_NODE_LONGITUDE = 277.04
MAXIMUM_RESOLUTION = 0.0421
FOOTPRINT_POINT_LATITUDE = (22.3636,22.3679,22.3711,22.3752, 22.3753,22.3878,21.9255,21.3053,20.8377 ,20.2049,19.5646,18.9223,18.5991, 18.2712,17.9424,17.6101,17.2779,16.9416 ,16.6055,16.2653,15.9253,15.5795, 15.2393,14.891,14.5405,14.1887,13.8274, 13.4691,13.1111,12.7493,12.3845,11.8322 ,11.2737,10.8998,10.3316,9.95112, 9.57375,9.19705,8.82268,8.4496,8.04801, 7.62597,7.00513,6.58736,6.17798,5.76567 ,5.34914,4.71793,4.50558,4.44941, 4.43899,4.42316,4.40823,4.396,4.38824, 4.37696,4.37632,4.37693,4.80299,5.44233 ,5.85956,6.26697,6.88921,7.5173,7.93441 ,8.34393,8.71732,9.28602,9.66499,10.038 ,10.421,10.8017,11.3681,11.9238,12.2934 ,12.8429,13.3861,13.9224,14.2785, 14.6321,14.9822,15.3321,15.6777,16.022, 16.3629,16.871,17.2084,17.5421,18.0412, 18.373,18.696,19.0204,19.3489,19.9941, 20.6256,21.0976,21.5615,22.181,22.3353, 22.3636)
FOOTPRINT_POINT_LONGITUDE = (49.047,48.3408,47.8342,47.2,47.1818, 47.1718,47.1631,47.1508,47.1408,47.1266 ,47.1117,47.0942,47.0853,47.076,47.0669 ,47.0574,47.0474,47.0373,47.0266, 47.0157,47.0044,46.993,46.9797,46.9673, 46.9546,46.9416,46.9297,46.9162,46.9016 ,46.8866,46.8716,46.8482,46.824,46.8069 ,46.7808,46.7631,46.7447,46.7265,46.708 ,46.6893,46.6689,46.6477,46.6133, 46.5919,46.5682,46.5438,46.5189,46.4805 ,46.4674,46.4639,46.7936,47.2341, 47.8379,48.3324,48.6896,49.2671,49.2946 ,49.3045,49.2959,49.2854,49.2773, 49.2673,49.2571,49.2472,49.2392,49.2327 ,49.2266,49.2193,49.2137,49.2056, 49.2001,49.1949,49.1873,49.1784,49.1736 ,49.1664,49.1593,49.1518,49.1474, 49.1429,49.1386,49.1345,49.1303,49.1261 ,49.1217,49.1155,49.1115,49.1077, 49.1022,49.099,49.0937,49.0896,49.0872, 49.0805,49.0724,49.0673,49.0599,49.0537 ,49.0518,49.047)
ORBIT_NUMBER = 15801
ORBITAL_ECCENTRICITY = 0.574
ORBITAL_INCLINATION = 86.94
ORBITAL_SEMIMAJOR_AXIS = 8815.56
PERIAPSIS_ALTITUDE = 370.12
PERIAPSIS_ARGUMENT_ANGLE = 135.82
PERIAPSIS_TIME = 2016-06-20T07:29:35.000Z
SPACECRAFT_ORIENTATION = (0.0,-1.0,0.0)
^MEX_ORIENTATION_DESC = "MEX_ORIENTATION_DESC.TXT"
SPACECRAFT_POINTING_MODE = NADIR
^MEX_POINTING_DESC = "MEX_POINTING_DESC.TXT"
RIGHT_ASCENSION = -1e+32
DECLINATION = -1e+32
OFFSET_ANGLE = -1e+32
SPACECRAFT_SOLAR_DISTANCE = 2.22036e+08
TARGET_NAME = MARS
/* CAMERA DATA ELEMENTS */
DETECTOR_TEMPERATURE = 18.7783
FOCAL_PLANE_TEMPERATURE = 8.5833
INST_CMPRS_NAME = "DISCRETE COSINE TRANSFORMATION (DCT)"
INST_CMPRS_RATIO = 9.37869
INST_CMPRS_QUALITY = 0
INST_CMPRS_QUANTZ_TBL_ID = 0
INSTRUMENT_TEMPERATURE = 12.0496
LENS_TEMPERATURE = 10.4184
MACROPIXEL_SIZE = 2
MISSING_FRAMES = 0
PIXEL_SUBSAMPLING_FLAG = N
SIGNAL_CHAIN_ID = 1
/* RADIOMETRIC DATA ELEMENTS */
BANDWIDTH = 178.0
CENTER_FILTER_WAVELENGTH = 679.0
RADIANCE_OFFSET = 3.64037
RADIANCE_SCALING_FACTOR = 0.0273332
REFLECTANCE_SCALING_FACTOR = 0.000713617
MEX:REFLECTANCE_OFFSET = 0.0950429
/* IMAGE OBJECT DEFINITIONS */
OBJECT = IMAGE
  INTERCHANGE_FORMAT = BINARY
  LINES = 42679
  LINE_SAMPLES = 5846
  SAMPLE_TYPE = UNSIGNED_INTEGER
  SAMPLE_BITS = 8
  BANDS = 1
  BAND_STORAGE_TYPE = BAND_SEQUENTIAL
  MAXIMUM = 255
  MEAN = 126.634
  MINIMUM = 1
  STANDARD_DEVIATION = 18.7068
END_OBJECT = IMAGE
/* MAP OBJECT DEFINITIONS */
OBJECT = IMAGE_MAP_PROJECTION
  ^DATA_SET_MAP_PROJECTION_CATALOG= "DSMAP.CAT"
  A_AXIS_RADIUS = 3396.0
  B_AXIS_RADIUS = 3396.0
  C_AXIS_RADIUS = 3396.0
  CENTER_LATITUDE = 0.0
  CENTER_LONGITUDE = 48.0
  COORDINATE_SYSTEM_NAME = PLANETOGRAPHIC
  COORDINATE_SYSTEM_TYPE = "BODY-FIXED ROTATING"
  EASTERNMOST_LONGITUDE = 49.3045
  FIRST_STANDARD_PARALLEL = "N/A"
  LINE_FIRST_PIXEL = 1
  LINE_LAST_PIXEL = 42679
  LINE_PROJECTION_OFFSET = 53070.25
  MAP_PROJECTION_ROTATION = 0.0
  MAP_PROJECTION_TYPE = SINUSOIDAL
  MAP_RESOLUTION = 2370.85521546667
  MAP_SCALE = 0.025
  MAXIMUM_LATITUDE = 22.3878
  MINIMUM_LATITUDE = 4.37632
  POSITIVE_LONGITUDE_DIRECTION = EAST
  REFERENCE_LATITUDE = "N/A"
  REFERENCE_LONGITUDE = "N/A"
  SAMPLE_FIRST_PIXEL = 1
  SAMPLE_LAST_PIXEL = 5846
  SAMPLE_PROJECTION_OFFSET = 3211.75
  SECOND_STANDARD_PARALLEL = "N/A"
  WESTERNMOST_LONGITUDE = 46.4639
END_OBJECT = IMAGE_MAP_PROJECTION
END
