PDS_VERSION_ID = PDS3
/* FILE DATA ELEMENTS */
RECORD_TYPE = UNDEFINED
/* POINTERS TO DATA OBJECTS */
^IMAGE = ("HF801_0000_P14.TIF")
/* IDENTIFICATION DATA ELEMENTS */
DATA_SET_ID = "MEX-M-HRSC-4-REFDR-MAPPROJECT-EXT5-V4.0"
DATA_SET_NAME = "MARS EXPRESS HRSC MAP PROJECTED REFDR EXTENSION5 V4.0"
DETECTOR_ID = MEX_HRSC_P1
EVENT_TYPE = "MARS-REGIONAL-MAPPING-Im-Fl"
INSTRUMENT_HOST_ID = MEX
INSTRUMENT_HOST_NAME = "MARS EXPRESS"
INSTRUMENT_ID = HRSC
INSTRUMENT_NAME = "HIGH RESOLUTION STEREO CAMERA"
MISSION_NAME = "MARS EXPRESS"
MISSION_PHASE_NAME = ME_Phase_34
PROCESSING_LEVEL_ID = 4
PRODUCT_CREATION_TIME = 2023-01-31T07:53:46.000Z
PRODUCT_ID = "HF801_0000_P14.TIF"
RELEASE_ID = 0004
REVISION_ID = 0000
/* QUALITY DATA ELEMENTS */
DATA_QUALITY_ID = 1
DATA_QUALITY_DESC = "Data calculated based on original SPICE kernels"
/* TIME DATA ELEMENTS */
SPACECRAFT_CLOCK_START_COUNT = "1/0414488069.07315"
SPACECRAFT_CLOCK_STOP_COUNT = "1/0414488512.52897"
START_TIME = 2016-06-20T07:34:50.527Z
STOP_TIME = 2016-06-20T07:39:43.084Z
/* ORBITAL DATA ELEMENTS */
ASCENDING_NODE_LONGITUDE = 277.04
MAXIMUM_RESOLUTION = 0.0368
FOOTPRINT_POINT_LATITUDE = (22.3831,22.3858,22.3876,22.3875, 22.3854,22.3853,22.3768,21.4593,20.8423 ,20.3703,19.7403,19.4197,19.0972, 18.7747,18.4486,18.1211,17.7941,17.4625 ,17.1287,16.7953,16.2867,15.947,15.6034 ,15.2555,14.7322,14.3806,14.0305, 13.6739,13.316,12.9516,12.5881,12.2195, 11.8503,11.4772,11.102,10.7222,10.342, 9.95587,9.37293,8.98117,8.58418,7.98455 ,7.37688,6.97067,6.34789,5.92935, 5.50523,5.07788,4.64718,4.42942,4.42461 ,4.41913,4.41425,4.40501,4.39131, 4.38389,4.38307,4.38367,5.03014,5.67075 ,6.09392,6.51624,6.93012,7.33964, 7.74678,8.15067,8.55038,8.94827,9.53436 ,9.92524,10.313,10.6943,11.0752,11.4507 ,11.8257,12.1953,12.5639,12.9279, 13.2924,13.651,14.1874,14.5394,15.0653, 15.4113,15.929,16.2696,16.7798,17.1138, 17.4481,17.7802,18.1039,18.4347,18.7639 ,19.4062,19.729,20.3572,21.2955,22.2198 ,22.3716,22.3831)
FOOTPRINT_POINT_LONGITUDE = (48.955,48.5955,48.1382,47.7628,47.2888 ,47.2724,47.2632,47.2507,47.2416, 47.2337,47.2227,47.2169,47.2103,47.2033 ,47.1963,47.1895,47.1825,47.1751, 47.1674,47.1595,47.1472,47.1386,47.1297 ,47.1195,47.1047,47.0949,47.0859, 47.0759,47.0648,47.0532,47.0416,47.0296 ,47.0173,47.0051,46.992,46.9787,46.9652 ,46.9512,46.9294,46.9144,46.899,46.8755 ,46.8509,46.835,46.8078,46.7899,46.7706 ,46.7507,46.7305,46.7202,46.72,47.2152, 47.5523,48.0015,48.6535,49.0131,49.0357 ,49.0438,49.0418,49.0386,49.0358, 49.0321,49.0307,49.029,49.0275,49.0257, 49.024,49.0224,49.0213,49.0181,49.0162, 49.0145,49.0129,49.0113,49.0095,49.0081 ,49.0067,49.0052,49.0037,49.0018, 48.9994,48.9979,48.996,48.9946,48.9924, 48.9907,48.9882,48.9867,48.9852,48.9838 ,48.9843,48.9815,48.9785,48.976,48.9738 ,48.972,48.9662,48.9602,48.9591,48.955)
ORBIT_NUMBER = 15801
ORBITAL_ECCENTRICITY = 0.574
ORBITAL_INCLINATION = 86.94
ORBITAL_SEMIMAJOR_AXIS = 8815.56
PERIAPSIS_ALTITUDE = 370.12
PERIAPSIS_ARGUMENT_ANGLE = 135.82
PERIAPSIS_TIME = 2016-06-20T07:29:35.000Z
SPACECRAFT_ORIENTATION = (0.0,-1.0,0.0)
^MEX_ORIENTATION_DESC = "MEX_ORIENTATION_DESC.TXT"
SPACECRAFT_POINTING_MODE = NADIR
^MEX_POINTING_DESC = "MEX_POINTING_DESC.TXT"
RIGHT_ASCENSION = -1e+32
DECLINATION = -1e+32
OFFSET_ANGLE = -1e+32
SPACECRAFT_SOLAR_DISTANCE = 2.22036e+08
TARGET_NAME = MARS
/* CAMERA DATA ELEMENTS */
DETECTOR_TEMPERATURE = 17.7588
FOCAL_PLANE_TEMPERATURE = 8.5833
INST_CMPRS_NAME = "DISCRETE COSINE TRANSFORMATION (DCT)"
INST_CMPRS_RATIO = 7.53848
INST_CMPRS_QUALITY = 0
INST_CMPRS_QUANTZ_TBL_ID = 0
INSTRUMENT_TEMPERATURE = 12.0496
LENS_TEMPERATURE = 10.4184
MACROPIXEL_SIZE = 2
MISSING_FRAMES = 0
PIXEL_SUBSAMPLING_FLAG = N
SIGNAL_CHAIN_ID = 3
/* RADIOMETRIC DATA ELEMENTS */
BANDWIDTH = 174.0
CENTER_FILTER_WAVELENGTH = 675.0
RADIANCE_OFFSET = 3.40224
RADIANCE_SCALING_FACTOR = 0.0260978
REFLECTANCE_SCALING_FACTOR = 0.000692047
MEX:REFLECTANCE_OFFSET = 0.0902188
/* IMAGE OBJECT DEFINITIONS */
OBJECT = IMAGE
  INTERCHANGE_FORMAT = BINARY
  LINES = 42679
  LINE_SAMPLES = 5846
  SAMPLE_TYPE = UNSIGNED_INTEGER
  SAMPLE_BITS = 8
  BANDS = 1
  BAND_STORAGE_TYPE = BAND_SEQUENTIAL
  MAXIMUM = 255
  MEAN = 128.205
  MINIMUM = 1
  STANDARD_DEVIATION = 17.6751
END_OBJECT = IMAGE
/* MAP OBJECT DEFINITIONS */
OBJECT = IMAGE_MAP_PROJECTION
  ^DATA_SET_MAP_PROJECTION_CATALOG= "DSMAP.CAT"
  A_AXIS_RADIUS = 3396.0
  B_AXIS_RADIUS = 3396.0
  C_AXIS_RADIUS = 3396.0
  CENTER_LATITUDE = 0.0
  CENTER_LONGITUDE = 48.0
  COORDINATE_SYSTEM_NAME = PLANETOGRAPHIC
  COORDINATE_SYSTEM_TYPE = "BODY-FIXED ROTATING"
  EASTERNMOST_LONGITUDE = 49.0438
  FIRST_STANDARD_PARALLEL = "N/A"
  LINE_FIRST_PIXEL = 1
  LINE_LAST_PIXEL = 42679
  LINE_PROJECTION_OFFSET = 53070.25
  MAP_PROJECTION_ROTATION = 0.0
  MAP_PROJECTION_TYPE = SINUSOIDAL
  MAP_RESOLUTION = 2370.85521546667
  MAP_SCALE = 0.025
  MAXIMUM_LATITUDE = 22.3876
  MINIMUM_LATITUDE = 4.38307
  POSITIVE_LONGITUDE_DIRECTION = EAST
  REFERENCE_LATITUDE = "N/A"
  REFERENCE_LONGITUDE = "N/A"
  SAMPLE_FIRST_PIXEL = 1
  SAMPLE_LAST_PIXEL = 5846
  SAMPLE_PROJECTION_OFFSET = 3211.75
  SECOND_STANDARD_PARALLEL = "N/A"
  WESTERNMOST_LONGITUDE = 46.72
END_OBJECT = IMAGE_MAP_PROJECTION
END
