PDS_VERSION_ID = PDS3
/* FILE DATA ELEMENTS */
RECORD_TYPE = UNDEFINED
/* POINTERS TO DATA OBJECTS */
^IMAGE = ("HF801_0000_GR4.TIF")
/* IDENTIFICATION DATA ELEMENTS */
DATA_SET_ID = "MEX-M-HRSC-4-REFDR-MAPPROJECT-EXT5-V4.0"
DATA_SET_NAME = "MARS EXPRESS HRSC MAP PROJECTED REFDR EXTENSION5 V4.0"
DETECTOR_ID = MEX_HRSC_GREEN
EVENT_TYPE = "MARS-REGIONAL-MAPPING-Im-Fl"
INSTRUMENT_HOST_ID = MEX
INSTRUMENT_HOST_NAME = "MARS EXPRESS"
INSTRUMENT_ID = HRSC
INSTRUMENT_NAME = "HIGH RESOLUTION STEREO CAMERA"
MISSION_NAME = "MARS EXPRESS"
MISSION_PHASE_NAME = ME_Phase_34
PROCESSING_LEVEL_ID = 4
PRODUCT_CREATION_TIME = 2023-01-31T07:53:46.000Z
PRODUCT_ID = "HF801_0000_GR4.TIF"
RELEASE_ID = 0004
REVISION_ID = 0000
/* QUALITY DATA ELEMENTS */
DATA_QUALITY_ID = 1
DATA_QUALITY_DESC = "Data calculated based on original SPICE kernels"
/* TIME DATA ELEMENTS */
SPACECRAFT_CLOCK_START_COUNT = "1/0414488069.07315"
SPACECRAFT_CLOCK_STOP_COUNT = "1/0414488512.52897"
START_TIME = 2016-06-20T07:35:11.213Z
STOP_TIME = 2016-06-20T07:40:16.910Z
/* ORBITAL DATA ELEMENTS */
ASCENDING_NODE_LONGITUDE = 277.04
MAXIMUM_RESOLUTION = 0.0735
FOOTPRINT_POINT_LATITUDE = (22.3663,22.3699,22.3722,22.3722, 22.3722,22.3691,21.7602,21.1463,20.6789 ,20.0537,19.7355,19.4172,19.0991, 18.7749,18.289,17.9618,17.6324,17.3033, 16.9683,16.4665,16.1263,15.6164,15.2699 ,14.9244,14.399,14.0485,13.6925,13.1554 ,12.7939,12.4295,12.0631,11.6927, 11.1335,10.7568,10.3766,9.80132,9.21908 ,8.82754,8.43156,8.03335,7.42927, 7.02253,6.39304,5.97748,5.55694,5.13731 ,4.71921,4.51074,4.42804,4.4154,4.40342 ,4.3963,4.38569,4.37786,4.37733,4.37868 ,5.00597,5.63723,6.05782,6.47564, 6.89957,7.30822,7.71406,8.11671,8.51452 ,8.90994,9.30206,9.69044,10.2691, 10.6515,11.029,11.5908,11.9631,12.3301, 12.6968,13.0587,13.4197,13.7767,14.1328 ,14.4842,14.8361,15.1819,15.7001, 16.0408,16.5506,16.886,17.3876,17.7174, 18.2106,18.5362,18.8612,19.1837,19.5021 ,19.8212,20.4509,21.0774,21.6935, 22.1536,22.3045,22.3663)
FOOTPRINT_POINT_LONGITUDE = (48.9716,48.507,47.9785,47.2734,47.2574 ,47.2493,47.2404,47.2307,47.223,47.2115 ,47.2056,47.1995,47.1926,47.1851, 47.1741,47.1668,47.1593,47.1512,47.1429 ,47.1303,47.1212,47.1074,47.0966, 47.0863,47.0707,47.0611,47.0508,47.0331 ,47.0209,47.0087,46.996,46.983,46.9629, 46.949,46.9348,46.9126,46.8897,46.8737, 46.8575,46.8411,46.816,46.7973,46.7698, 46.7509,46.731,46.7105,46.6899,46.6796, 46.6754,47.3508,47.9133,48.2512,48.7241 ,49.0622,49.0847,49.0923,49.0888, 49.0839,49.0801,49.0754,49.0731,49.0702 ,49.0677,49.0652,49.0627,49.0603, 49.0593,49.0566,49.0513,49.0489,49.0465 ,49.043,49.0409,49.039,49.0366,49.0345, 49.0323,49.0297,49.0276,49.0256,49.0236 ,49.0219,49.0189,49.0168,49.0135, 49.0115,49.0085,49.0066,49.0059,49.0012 ,48.9988,48.9968,48.9954,48.9937, 48.9903,48.9861,48.9796,48.9774,48.9761 ,48.9716)
ORBIT_NUMBER = 15801
ORBITAL_ECCENTRICITY = 0.574
ORBITAL_INCLINATION = 86.94
ORBITAL_SEMIMAJOR_AXIS = 8815.56
PERIAPSIS_ALTITUDE = 370.12
PERIAPSIS_ARGUMENT_ANGLE = 135.82
PERIAPSIS_TIME = 2016-06-20T07:29:35.000Z
SPACECRAFT_ORIENTATION = (0.0,-1.0,0.0)
^MEX_ORIENTATION_DESC = "MEX_ORIENTATION_DESC.TXT"
SPACECRAFT_POINTING_MODE = NADIR
^MEX_POINTING_DESC = "MEX_POINTING_DESC.TXT"
RIGHT_ASCENSION = -1e+32
DECLINATION = -1e+32
OFFSET_ANGLE = -1e+32
SPACECRAFT_SOLAR_DISTANCE = 2.22036e+08
TARGET_NAME = MARS
/* CAMERA DATA ELEMENTS */
DETECTOR_TEMPERATURE = 18.3705
FOCAL_PLANE_TEMPERATURE = 8.5833
INST_CMPRS_NAME = "DISCRETE COSINE TRANSFORMATION (DCT)"
INST_CMPRS_RATIO = 8.84756
INST_CMPRS_QUALITY = 0
INST_CMPRS_QUANTZ_TBL_ID = 0
INSTRUMENT_TEMPERATURE = 12.0496
LENS_TEMPERATURE = 10.4184
MACROPIXEL_SIZE = 4
MISSING_FRAMES = 1
PIXEL_SUBSAMPLING_FLAG = N
SIGNAL_CHAIN_ID = 2
/* RADIOMETRIC DATA ELEMENTS */
BANDWIDTH = 88.0
CENTER_FILTER_WAVELENGTH = 538.0
RADIANCE_OFFSET = 0.994597
RADIANCE_SCALING_FACTOR = 0.00706285
REFLECTANCE_SCALING_FACTOR = 0.000299787
MEX:REFLECTANCE_OFFSET = 0.0422163
/* IMAGE OBJECT DEFINITIONS */
OBJECT = IMAGE
  INTERCHANGE_FORMAT = BINARY
  LINES = 21340
  LINE_SAMPLES = 2923
  SAMPLE_TYPE = UNSIGNED_INTEGER
  SAMPLE_BITS = 8
  BANDS = 1
  BAND_STORAGE_TYPE = BAND_SEQUENTIAL
  MAXIMUM = 255
  MEAN = 128.315
  MINIMUM = 1
  STANDARD_DEVIATION = 17.9906
END_OBJECT = IMAGE
/* MAP OBJECT DEFINITIONS */
OBJECT = IMAGE_MAP_PROJECTION
  ^DATA_SET_MAP_PROJECTION_CATALOG= "DSMAP.CAT"
  A_AXIS_RADIUS = 3396.0
  B_AXIS_RADIUS = 3396.0
  C_AXIS_RADIUS = 3396.0
  CENTER_LATITUDE = 0.0
  CENTER_LONGITUDE = 48.0
  COORDINATE_SYSTEM_NAME = PLANETOGRAPHIC
  COORDINATE_SYSTEM_TYPE = "BODY-FIXED ROTATING"
  EASTERNMOST_LONGITUDE = 49.0923
  FIRST_STANDARD_PARALLEL = "N/A"
  LINE_FIRST_PIXEL = 1
  LINE_LAST_PIXEL = 21340
  LINE_PROJECTION_OFFSET = 26534.875
  MAP_PROJECTION_ROTATION = 0.0
  MAP_PROJECTION_TYPE = SINUSOIDAL
  MAP_RESOLUTION = 1185.42760773333
  MAP_SCALE = 0.05
  MAXIMUM_LATITUDE = 22.3722
  MINIMUM_LATITUDE = 4.37733
  POSITIVE_LONGITUDE_DIRECTION = EAST
  REFERENCE_LATITUDE = "N/A"
  REFERENCE_LONGITUDE = "N/A"
  SAMPLE_FIRST_PIXEL = 1
  SAMPLE_LAST_PIXEL = 2923
  SAMPLE_PROJECTION_OFFSET = 1605.625
  SECOND_STANDARD_PARALLEL = "N/A"
  WESTERNMOST_LONGITUDE = 46.6754
END_OBJECT = IMAGE_MAP_PROJECTION
END
