PDS_VERSION_ID = PDS3
/* FILE DATA ELEMENTS */
RECORD_TYPE = UNDEFINED
/* POINTERS TO DATA OBJECTS */
^IMAGE = ("HF784_0000_P14.TIF")
/* IDENTIFICATION DATA ELEMENTS */
DATA_SET_ID = "MEX-M-HRSC-4-REFDR-MAPPROJECT-EXT5-V4.0"
DATA_SET_NAME = "MARS EXPRESS HRSC MAP PROJECTED REFDR EXTENSION5 V4.0"
DETECTOR_ID = MEX_HRSC_P1
EVENT_TYPE = "MARS-LOCAL-STEREO-Tc-Ot-Ts"
INSTRUMENT_HOST_ID = MEX
INSTRUMENT_HOST_NAME = "MARS EXPRESS"
INSTRUMENT_ID = HRSC
INSTRUMENT_NAME = "HIGH RESOLUTION STEREO CAMERA"
MISSION_NAME = "MARS EXPRESS"
MISSION_PHASE_NAME = ME_Phase_34
PROCESSING_LEVEL_ID = 4
PRODUCT_CREATION_TIME = 2023-01-31T07:53:46.000Z
PRODUCT_ID = "HF784_0000_P14.TIF"
RELEASE_ID = 0004
REVISION_ID = 0000
/* QUALITY DATA ELEMENTS */
DATA_QUALITY_ID = 1
DATA_QUALITY_DESC = "Data calculated based on original SPICE kernels"
/* TIME DATA ELEMENTS */
SPACECRAFT_CLOCK_START_COUNT = "1/0414059984.08248"
SPACECRAFT_CLOCK_STOP_COUNT = "1/0414060251.24263"
START_TIME = 2016-06-15T08:40:07.771Z
STOP_TIME = 2016-06-15T08:42:17.258Z
/* ORBITAL DATA ELEMENTS */
ASCENDING_NODE_LONGITUDE = 277.37
MAXIMUM_RESOLUTION = 0.0422
FOOTPRINT_POINT_LATITUDE = (12.9352,12.9626,12.9813,12.9992, 13.0161,13.0321,13.0473,13.0483,13.0329 ,12.8149,12.5223,12.153,11.9312,11.7078 ,11.4068,11.1071,10.7266,10.4209, 10.1928,10.0389,9.88312,9.72714,9.57204 ,9.41673,9.25975,9.1013,8.9434,8.78592, 8.62808,8.38866,8.14861,7.98849,7.82852 ,7.6654,7.50285,7.34072,7.17886,7.01511 ,6.85016,6.68534,6.52041,6.26989, 6.01912,5.85194,5.68358,5.51385,5.25957 ,5.17497,5.11047,5.10245,5.09352, 5.08464,5.0684,5.05941,5.04767,5.02959, 5.01969,5.00832,4.99592,4.98527,4.98383 ,4.98407,5.14933,5.31643,5.48774, 5.74299,5.91504,6.08354,6.25042,6.41638 ,6.66513,6.91297,7.07662,7.31994, 7.56373,7.7267,7.88702,8.04682,8.20747, 8.36845,8.52785,8.76405,8.92179,9.08056 ,9.23828,9.39368,9.62692,9.8601,10.0154 ,10.3979,10.7045,11.0078,11.2304, 11.5358,11.834,12.2777,12.5738,12.7932, 12.8666,12.9352)
FOOTPRINT_POINT_LONGITUDE = (350.044,349.626,349.327,349.032, 348.742,348.456,348.173,348.155,348.154 ,348.147,348.137,348.123,348.116, 348.108,348.097,348.086,348.072,348.061 ,348.052,348.046,348.04,348.034,348.028 ,348.022,348.016,348.01,348.004,347.998 ,347.992,347.982,347.973,347.966,347.96 ,347.953,347.946,347.94,347.933,347.926 ,347.919,347.912,347.905,347.895, 347.884,347.877,347.87,347.862,347.851, 347.847,347.845,348.009,348.175,348.342 ,348.636,348.806,348.977,349.238, 349.411,349.627,349.867,350.023,350.045 ,350.053,350.058,350.06,350.059,350.056 ,350.051,350.05,350.05,350.05,350.049, 350.049,350.05,350.05,350.051,350.051, 350.051,350.051,350.051,350.051,350.051 ,350.052,350.053,350.052,350.052, 350.053,350.053,350.054,350.054,350.055 ,350.056,350.056,350.061,350.057, 350.058,350.061,350.061,350.061,350.06, 350.044)
ORBIT_NUMBER = 15784
ORBITAL_ECCENTRICITY = 0.574
ORBITAL_INCLINATION = 86.94
ORBITAL_SEMIMAJOR_AXIS = 8815.08
PERIAPSIS_ALTITUDE = 368.4
PERIAPSIS_ARGUMENT_ANGLE = 138.72
PERIAPSIS_TIME = 2016-06-15T08:33:10.000Z
SPACECRAFT_ORIENTATION = (0.0,-1.0,0.0)
^MEX_ORIENTATION_DESC = "MEX_ORIENTATION_DESC.TXT"
SPACECRAFT_POINTING_MODE = ACROSSTRACK
^MEX_POINTING_DESC = "MEX_POINTING_DESC.TXT"
RIGHT_ASCENSION = -1e+32
DECLINATION = -1e+32
OFFSET_ANGLE = 1.5
SPACECRAFT_SOLAR_DISTANCE = 2.22993e+08
TARGET_NAME = MARS
/* CAMERA DATA ELEMENTS */
DETECTOR_TEMPERATURE = 17.5549
FOCAL_PLANE_TEMPERATURE = 8.7872
INST_CMPRS_NAME = "DISCRETE COSINE TRANSFORMATION (DCT)"
INST_CMPRS_RATIO = 8.79498
INST_CMPRS_QUALITY = 0
INST_CMPRS_QUANTZ_TBL_ID = 0
INSTRUMENT_TEMPERATURE = 12.0496
LENS_TEMPERATURE = 9.3989
MACROPIXEL_SIZE = 2
MISSING_FRAMES = 0
PIXEL_SUBSAMPLING_FLAG = N
SIGNAL_CHAIN_ID = 3
/* RADIOMETRIC DATA ELEMENTS */
BANDWIDTH = 174.0
CENTER_FILTER_WAVELENGTH = 675.0
RADIANCE_OFFSET = 2.78101
RADIANCE_SCALING_FACTOR = 0.0169847
REFLECTANCE_SCALING_FACTOR = 0.000454279
MEX:REFLECTANCE_OFFSET = 0.0743822
/* IMAGE OBJECT DEFINITIONS */
OBJECT = IMAGE
  INTERCHANGE_FORMAT = BINARY
  LINES = 9442
  LINE_SAMPLES = 2759
  SAMPLE_TYPE = UNSIGNED_INTEGER
  SAMPLE_BITS = 8
  BANDS = 1
  BAND_STORAGE_TYPE = BAND_SEQUENTIAL
  MAXIMUM = 255
  MEAN = 119.036
  MINIMUM = 1
  STANDARD_DEVIATION = 21.2756
END_OBJECT = IMAGE
/* MAP OBJECT DEFINITIONS */
OBJECT = IMAGE_MAP_PROJECTION
  ^DATA_SET_MAP_PROJECTION_CATALOG= "DSMAP.CAT"
  A_AXIS_RADIUS = 3396.0
  B_AXIS_RADIUS = 3396.0
  C_AXIS_RADIUS = 3396.0
  CENTER_LATITUDE = 0.0
  CENTER_LONGITUDE = 349.0
  COORDINATE_SYSTEM_NAME = PLANETOGRAPHIC
  COORDINATE_SYSTEM_TYPE = "BODY-FIXED ROTATING"
  EASTERNMOST_LONGITUDE = 350.061
  FIRST_STANDARD_PARALLEL = "N/A"
  LINE_FIRST_PIXEL = 1
  LINE_LAST_PIXEL = 9442
  LINE_PROJECTION_OFFSET = 15416.25
  MAP_PROJECTION_ROTATION = 0.0
  MAP_PROJECTION_TYPE = SINUSOIDAL
  MAP_RESOLUTION = 1185.42760773333
  MAP_SCALE = 0.05
  MAXIMUM_LATITUDE = 13.0483
  MINIMUM_LATITUDE = 4.98383
  POSITIVE_LONGITUDE_DIRECTION = EAST
  REFERENCE_LATITUDE = "N/A"
  REFERENCE_LONGITUDE = "N/A"
  SAMPLE_FIRST_PIXEL = 1
  SAMPLE_LAST_PIXEL = 2759
  SAMPLE_PROJECTION_OFFSET = 1448.75
  SECOND_STANDARD_PARALLEL = "N/A"
  WESTERNMOST_LONGITUDE = 347.845
END_OBJECT = IMAGE_MAP_PROJECTION
END
