PDS_VERSION_ID = PDS3
/* FILE DATA ELEMENTS */
RECORD_TYPE = UNDEFINED
/* POINTERS TO DATA OBJECTS */
^IMAGE = ("HF772_0036_SR4.TIF")
/* IDENTIFICATION DATA ELEMENTS */
DATA_SET_ID = "MEX-M-HRSC-4-REFDR-MAPPROJECT-EXT5-V4.0"
DATA_SET_NAME = "MARS EXPRESS HRSC MAP PROJECTED REFDR EXTENSION5 V4.0"
DETECTOR_ID = MEX_HRSC_SRC
EVENT_TYPE = "MARS-LOCAL-CARTOGRAPHY-Pf-Tc-Ts"
INSTRUMENT_HOST_ID = MEX
INSTRUMENT_HOST_NAME = "MARS EXPRESS"
INSTRUMENT_ID = HRSC
INSTRUMENT_NAME = "HIGH RESOLUTION STEREO CAMERA"
MISSION_NAME = "MARS EXPRESS"
MISSION_PHASE_NAME = ME_Phase_34
PROCESSING_LEVEL_ID = 4
PRODUCT_CREATION_TIME = 2023-01-31T07:53:46.000Z
PRODUCT_ID = "HF772_0036_SR4.TIF"
RELEASE_ID = 0004
REVISION_ID = 0000
/* QUALITY DATA ELEMENTS */
DATA_QUALITY_ID = 1
DATA_QUALITY_DESC = "Data calculated based on original SPICE kernels"
/* TIME DATA ELEMENTS */
SPACECRAFT_CLOCK_START_COUNT = "1/0413757148.08308"
SPACECRAFT_CLOCK_STOP_COUNT = "1/0413757275.58058"
IMAGE_TIME = 2016-06-11T20:33:43.571Z
START_TIME = 2016-06-11T20:33:43.569Z
STOP_TIME = 2016-06-11T20:33:43.574Z
/* ORBITAL DATA ELEMENTS */
ASCENDING_NODE_LONGITUDE = 277.59
MAXIMUM_RESOLUTION = 0.003554
FOOTPRINT_POINT_LATITUDE = (47.3353,47.3387,47.342,47.3451,47.3471 ,47.3496,47.3533,47.3565,47.3586, 47.3606,47.3629,47.3665,47.3699,47.3724 ,47.3759,47.379,47.3817,47.3846,47.3865 ,47.3886,47.3919,47.3954,47.3954, 47.3954,47.3955,47.3956,47.3958,47.3959 ,47.396,47.3961,47.3962,47.3963,47.3964 ,47.3965,47.3966,47.3967,47.3968,47.397 ,47.3971,47.3972,47.3972,47.3974, 47.3975,47.3976,47.3977,47.3978,47.3979 ,47.398,47.3981,47.3981,47.3982,47.3945 ,47.3923,47.3891,47.3862,47.3829, 47.3808,47.3785,47.3755,47.3736,47.3717 ,47.3694,47.3656,47.3635,47.3604, 47.3562,47.3526,47.3505,47.3485,47.344, 47.3411,47.3381,47.3381,47.3381,47.338, 47.3378,47.3377,47.3376,47.3375,47.3374 ,47.3373,47.3372,47.3371,47.3369, 47.3368,47.3367,47.3366,47.3365,47.3364 ,47.3363,47.3362,47.3361,47.3359, 47.3358,47.3357,47.3356,47.3355,47.3353 ,47.3353,47.3353)
FOOTPRINT_POINT_LONGITUDE = (134.244,134.244,134.243,134.243, 134.243,134.243,134.243,134.242,134.242 ,134.242,134.242,134.242,134.241, 134.241,134.241,134.241,134.241,134.24, 134.24,134.24,134.24,134.24,134.24, 134.24,134.243,134.247,134.25,134.254, 134.258,134.261,134.265,134.268,134.272 ,134.275,134.279,134.283,134.286,134.29 ,134.293,134.297,134.3,134.303,134.307, 134.31,134.314,134.317,134.321,134.324, 134.328,134.329,134.329,134.33,134.33, 134.33,134.33,134.33,134.331,134.331, 134.331,134.331,134.331,134.331,134.332 ,134.332,134.332,134.332,134.332, 134.333,134.333,134.333,134.333,134.333 ,134.333,134.333,134.33,134.326,134.323 ,134.319,134.316,134.312,134.308, 134.305,134.301,134.297,134.293,134.29, 134.286,134.283,134.279,134.275,134.272 ,134.268,134.265,134.261,134.258, 134.254,134.251,134.245,134.244, 134.244)
ORBIT_NUMBER = 15772
ORBITAL_ECCENTRICITY = 0.574
ORBITAL_INCLINATION = 86.92
ORBITAL_SEMIMAJOR_AXIS = 8823.44
PERIAPSIS_ALTITUDE = 367.33
PERIAPSIS_ARGUMENT_ANGLE = 140.83
PERIAPSIS_TIME = 2016-06-11T20:35:52.000Z
SPACECRAFT_ORIENTATION = (0.0,-1.0,0.0)
^MEX_ORIENTATION_DESC = "MEX_ORIENTATION_DESC.TXT"
SPACECRAFT_POINTING_MODE = ACROSSTRACK
^MEX_POINTING_DESC = "MEX_POINTING_DESC.TXT"
RIGHT_ASCENSION = -1e+32
DECLINATION = -1e+32
OFFSET_ANGLE = -0.405
SPACECRAFT_SOLAR_DISTANCE = 2.23672e+08
TARGET_NAME = MARS
/* CAMERA DATA ELEMENTS */
BUFFER_MODE_ID = DIRECT
EXPOSURE_DURATION = 5.04
INST_CMPRS_NAME = "DISCRETE COSINE TRANSFORMATION (DCT)"
INST_CMPRS_RATIO = 16.6878
INST_CMPRS_QUALITY = 0
INST_CMPRS_QUANTZ_TBL_ID = 0
INSTRUMENT_TEMPERATURE = 7.33086
MISSING_FRAMES = 0
START_BIT = 0
/* RADIOMETRIC DATA ELEMENTS */
BANDWIDTH = 250.0
CENTER_FILTER_WAVELENGTH = 600.0
RADIANCE_OFFSET = -9.99e+31
RADIANCE_SCALING_FACTOR = -9.99e+31
REFLECTANCE_SCALING_FACTOR = -9.99e+31
MEX:REFLECTANCE_OFFSET = -9.99e+31
/* IMAGE OBJECT DEFINITIONS */
OBJECT = IMAGE
  INTERCHANGE_FORMAT = BINARY
  LINES = 1573
  LINE_SAMPLES = 1593
  SAMPLE_TYPE = UNSIGNED_INTEGER
  SAMPLE_BITS = 8
  BANDS = 1
  BAND_STORAGE_TYPE = BAND_SEQUENTIAL
  MAXIMUM = 249
  MEAN = 128.419
  MINIMUM = 4
  STANDARD_DEVIATION = 19.9206
END_OBJECT = IMAGE
/* MAP OBJECT DEFINITIONS */
OBJECT = IMAGE_MAP_PROJECTION
  ^DATA_SET_MAP_PROJECTION_CATALOG= "DSMAP.CAT"
  A_AXIS_RADIUS = 3396.19
  B_AXIS_RADIUS = 3396.19
  C_AXIS_RADIUS = 3396.19
  CENTER_LATITUDE = 0.0
  CENTER_LONGITUDE = 134.0
  COORDINATE_SYSTEM_NAME = PLANETOGRAPHIC
  COORDINATE_SYSTEM_TYPE = "BODY-FIXED ROTATING"
  EASTERNMOST_LONGITUDE = 134.333
  FIRST_STANDARD_PARALLEL = "N/A"
  LINE_FIRST_PIXEL = 1
  LINE_LAST_PIXEL = 1573
  LINE_PROJECTION_OFFSET = 1122517.0
  MAP_PROJECTION_ROTATION = 0.0
  MAP_PROJECTION_TYPE = SINUSOIDAL
  MAP_RESOLUTION = 23709.8786048756
  MAP_SCALE = 0.0025
  MAXIMUM_LATITUDE = 47.3982
  MINIMUM_LATITUDE = 47.3353
  POSITIVE_LONGITUDE_DIRECTION = EAST
  REFERENCE_LATITUDE = "N/A"
  REFERENCE_LONGITUDE = "N/A"
  SAMPLE_FIRST_PIXEL = 1
  SAMPLE_LAST_PIXEL = 1593
  SAMPLE_PROJECTION_OFFSET = -3488.0
  SECOND_STANDARD_PARALLEL = "N/A"
  WESTERNMOST_LONGITUDE = 134.24
END_OBJECT = IMAGE_MAP_PROJECTION
END
