PDS_VERSION_ID = PDS3
/* FILE DATA ELEMENTS */
RECORD_TYPE = UNDEFINED
/* POINTERS TO DATA OBJECTS */
^IMAGE = ("HF772_0029_SR4.TIF")
/* IDENTIFICATION DATA ELEMENTS */
DATA_SET_ID = "MEX-M-HRSC-4-REFDR-MAPPROJECT-EXT5-V4.0"
DATA_SET_NAME = "MARS EXPRESS HRSC MAP PROJECTED REFDR EXTENSION5 V4.0"
DETECTOR_ID = MEX_HRSC_SRC
EVENT_TYPE = "MARS-LOCAL-CARTOGRAPHY-Pf-Tc-Ts"
INSTRUMENT_HOST_ID = MEX
INSTRUMENT_HOST_NAME = "MARS EXPRESS"
INSTRUMENT_ID = HRSC
INSTRUMENT_NAME = "HIGH RESOLUTION STEREO CAMERA"
MISSION_NAME = "MARS EXPRESS"
MISSION_PHASE_NAME = ME_Phase_34
PROCESSING_LEVEL_ID = 4
PRODUCT_CREATION_TIME = 2023-01-31T07:53:46.000Z
PRODUCT_ID = "HF772_0029_SR4.TIF"
RELEASE_ID = 0004
REVISION_ID = 0000
/* QUALITY DATA ELEMENTS */
DATA_QUALITY_ID = 1
DATA_QUALITY_DESC = "Data calculated based on original SPICE kernels"
/* TIME DATA ELEMENTS */
SPACECRAFT_CLOCK_START_COUNT = "1/0413757148.08308"
SPACECRAFT_CLOCK_STOP_COUNT = "1/0413757275.58058"
IMAGE_TIME = 2016-06-11T20:33:39.756Z
START_TIME = 2016-06-11T20:33:39.754Z
STOP_TIME = 2016-06-11T20:33:39.759Z
/* ORBITAL DATA ELEMENTS */
ASCENDING_NODE_LONGITUDE = 277.59
MAXIMUM_RESOLUTION = 0.003563
FOOTPRINT_POINT_LATITUDE = (47.5788,47.5833,47.5853,47.5877, 47.5897,47.5926,47.5946,47.5966,47.5998 ,47.6016,47.6044,47.6076,47.6115,47.616 ,47.6188,47.6226,47.6261,47.6282, 47.6311,47.6347,47.6366,47.639,47.6391, 47.6391,47.6393,47.6394,47.6395,47.6396 ,47.6397,47.6398,47.6399,47.64,47.6401, 47.6403,47.6404,47.6405,47.6406,47.6407 ,47.6408,47.6409,47.641,47.6411,47.6413 ,47.6414,47.6415,47.6416,47.6417, 47.6418,47.6418,47.6419,47.6387,47.6363 ,47.6333,47.6295,47.6258,47.6233, 47.6196,47.6166,47.6141,47.6108,47.6087 ,47.6051,47.6027,47.6006,47.5973, 47.5954,47.5927,47.5895,47.5865,47.5844 ,47.5817,47.5816,47.5816,47.5815, 47.5814,47.5813,47.5812,47.5811,47.581, 47.5809,47.5808,47.5807,47.5805,47.5804 ,47.5803,47.5802,47.5801,47.58,47.5799, 47.5798,47.5796,47.5795,47.5794,47.5793 ,47.5792,47.5791,47.579,47.5789,47.5788 ,47.5788)
FOOTPRINT_POINT_LONGITUDE = (134.227,134.227,134.227,134.227, 134.226,134.226,134.226,134.226,134.226 ,134.226,134.225,134.225,134.225, 134.225,134.224,134.224,134.224,134.224 ,134.224,134.223,134.223,134.223, 134.223,134.223,134.228,134.232,134.236 ,134.239,134.243,134.246,134.25,134.254 ,134.257,134.261,134.264,134.268, 134.272,134.275,134.279,134.282,134.286 ,134.29,134.293,134.297,134.301,134.305 ,134.308,134.312,134.313,134.313, 134.314,134.314,134.314,134.314,134.314 ,134.315,134.315,134.315,134.315, 134.315,134.316,134.316,134.316,134.316 ,134.316,134.317,134.317,134.317, 134.317,134.317,134.317,134.317,134.317 ,134.314,134.31,134.307,134.303,134.299 ,134.297,134.293,134.29,134.286,134.282 ,134.279,134.275,134.272,134.268, 134.264,134.261,134.257,134.254,134.25, 134.247,134.243,134.239,134.236,134.232 ,134.229,134.228,134.227)
ORBIT_NUMBER = 15772
ORBITAL_ECCENTRICITY = 0.574
ORBITAL_INCLINATION = 86.92
ORBITAL_SEMIMAJOR_AXIS = 8823.44
PERIAPSIS_ALTITUDE = 367.33
PERIAPSIS_ARGUMENT_ANGLE = 140.83
PERIAPSIS_TIME = 2016-06-11T20:35:52.000Z
SPACECRAFT_ORIENTATION = (0.0,-1.0,0.0)
^MEX_ORIENTATION_DESC = "MEX_ORIENTATION_DESC.TXT"
SPACECRAFT_POINTING_MODE = ACROSSTRACK
^MEX_POINTING_DESC = "MEX_POINTING_DESC.TXT"
RIGHT_ASCENSION = -1e+32
DECLINATION = -1e+32
OFFSET_ANGLE = -0.405
SPACECRAFT_SOLAR_DISTANCE = 2.23672e+08
TARGET_NAME = MARS
/* CAMERA DATA ELEMENTS */
BUFFER_MODE_ID = DIRECT
EXPOSURE_DURATION = 5.04
INST_CMPRS_NAME = "DISCRETE COSINE TRANSFORMATION (DCT)"
INST_CMPRS_RATIO = 17.4612
INST_CMPRS_QUALITY = 0
INST_CMPRS_QUANTZ_TBL_ID = 0
INSTRUMENT_TEMPERATURE = 7.24055
MISSING_FRAMES = 0
START_BIT = 0
/* RADIOMETRIC DATA ELEMENTS */
BANDWIDTH = 250.0
CENTER_FILTER_WAVELENGTH = 600.0
RADIANCE_OFFSET = -9.99e+31
RADIANCE_SCALING_FACTOR = -9.99e+31
REFLECTANCE_SCALING_FACTOR = -9.99e+31
MEX:REFLECTANCE_OFFSET = -9.99e+31
/* IMAGE OBJECT DEFINITIONS */
OBJECT = IMAGE
  INTERCHANGE_FORMAT = BINARY
  LINES = 1578
  LINE_SAMPLES = 1597
  SAMPLE_TYPE = UNSIGNED_INTEGER
  SAMPLE_BITS = 8
  BANDS = 1
  BAND_STORAGE_TYPE = BAND_SEQUENTIAL
  MAXIMUM = 250
  MEAN = 124.928
  MINIMUM = 4
  STANDARD_DEVIATION = 18.7589
END_OBJECT = IMAGE
/* MAP OBJECT DEFINITIONS */
OBJECT = IMAGE_MAP_PROJECTION
  ^DATA_SET_MAP_PROJECTION_CATALOG= "DSMAP.CAT"
  A_AXIS_RADIUS = 3396.19
  B_AXIS_RADIUS = 3396.19
  C_AXIS_RADIUS = 3396.19
  CENTER_LATITUDE = 0.0
  CENTER_LONGITUDE = 134.0
  COORDINATE_SYSTEM_NAME = PLANETOGRAPHIC
  COORDINATE_SYSTEM_TYPE = "BODY-FIXED ROTATING"
  EASTERNMOST_LONGITUDE = 134.317
  FIRST_STANDARD_PARALLEL = "N/A"
  LINE_FIRST_PIXEL = 1
  LINE_LAST_PIXEL = 1578
  LINE_PROJECTION_OFFSET = 1128277.0
  MAP_PROJECTION_ROTATION = 0.0
  MAP_PROJECTION_TYPE = SINUSOIDAL
  MAP_RESOLUTION = 23709.8786048756
  MAP_SCALE = 0.0025
  MAXIMUM_LATITUDE = 47.6419
  MINIMUM_LATITUDE = 47.5788
  POSITIVE_LONGITUDE_DIRECTION = EAST
  REFERENCE_LATITUDE = "N/A"
  REFERENCE_LONGITUDE = "N/A"
  SAMPLE_FIRST_PIXEL = 1
  SAMPLE_LAST_PIXEL = 1597
  SAMPLE_PROJECTION_OFFSET = -3202.0
  SECOND_STANDARD_PARALLEL = "N/A"
  WESTERNMOST_LONGITUDE = 134.223
END_OBJECT = IMAGE_MAP_PROJECTION
END
