PDS_VERSION_ID = PDS3
/* FILE DATA ELEMENTS */
RECORD_TYPE = UNDEFINED
/* POINTERS TO DATA OBJECTS */
^IMAGE = ("HF772_0007_SR4.TIF")
/* IDENTIFICATION DATA ELEMENTS */
DATA_SET_ID = "MEX-M-HRSC-4-REFDR-MAPPROJECT-EXT5-V4.0"
DATA_SET_NAME = "MARS EXPRESS HRSC MAP PROJECTED REFDR EXTENSION5 V4.0"
DETECTOR_ID = MEX_HRSC_SRC
EVENT_TYPE = "MARS-LOCAL-CARTOGRAPHY-Pf-Tc-Ts"
INSTRUMENT_HOST_ID = MEX
INSTRUMENT_HOST_NAME = "MARS EXPRESS"
INSTRUMENT_ID = HRSC
INSTRUMENT_NAME = "HIGH RESOLUTION STEREO CAMERA"
MISSION_NAME = "MARS EXPRESS"
MISSION_PHASE_NAME = ME_Phase_34
PROCESSING_LEVEL_ID = 4
PRODUCT_CREATION_TIME = 2023-01-31T07:53:46.000Z
PRODUCT_ID = "HF772_0007_SR4.TIF"
RELEASE_ID = 0004
REVISION_ID = 0000
/* QUALITY DATA ELEMENTS */
DATA_QUALITY_ID = 1
DATA_QUALITY_DESC = "Data calculated based on original SPICE kernels"
/* TIME DATA ELEMENTS */
SPACECRAFT_CLOCK_START_COUNT = "1/0413757148.08308"
SPACECRAFT_CLOCK_STOP_COUNT = "1/0413757275.58058"
IMAGE_TIME = 2016-06-11T20:33:27.766Z
START_TIME = 2016-06-11T20:33:27.763Z
STOP_TIME = 2016-06-11T20:33:27.768Z
/* ORBITAL DATA ELEMENTS */
ASCENDING_NODE_LONGITUDE = 277.59
MAXIMUM_RESOLUTION = 0.00359
FOOTPRINT_POINT_LATITUDE = (48.3433,48.3465,48.3494,48.3514, 48.3545,48.3565,48.3591,48.3611,48.3635 ,48.3669,48.369,48.3728,48.3752,48.3784 ,48.3811,48.3842,48.3869,48.3893, 48.3926,48.395,48.3978,48.4016,48.404, 48.4041,48.4041,48.4042,48.4043,48.4044 ,48.4045,48.4046,48.4047,48.4049,48.405 ,48.4051,48.4052,48.4053,48.4054, 48.4056,48.4057,48.4058,48.4059,48.406, 48.4061,48.4063,48.4064,48.4065,48.4066 ,48.4067,48.4068,48.4069,48.407,48.407, 48.4033,48.3992,48.3966,48.392,48.389, 48.3866,48.3848,48.3818,48.3786,48.3766 ,48.3726,48.3693,48.367,48.3641,48.3608 ,48.3567,48.353,48.3499,48.3464,48.3463 ,48.3463,48.3462,48.3461,48.3459, 48.3458,48.3457,48.3456,48.3455,48.3454 ,48.3452,48.3451,48.345,48.3449,48.3448 ,48.3447,48.3445,48.3444,48.3443, 48.3442,48.3441,48.3439,48.3438,48.3437 ,48.3436,48.3435,48.3434,48.3433, 48.3433)
FOOTPRINT_POINT_LONGITUDE = (134.173,134.173,134.173,134.173, 134.172,134.172,134.172,134.172,134.172 ,134.172,134.171,134.171,134.171, 134.171,134.17,134.17,134.17,134.17, 134.17,134.169,134.169,134.169,134.169, 134.169,134.169,134.172,134.175,134.179 ,134.183,134.186,134.19,134.194,134.197 ,134.201,134.205,134.208,134.212, 134.216,134.219,134.223,134.227,134.23, 134.234,134.238,134.241,134.245,134.249 ,134.252,134.256,134.26,134.261,134.261 ,134.261,134.262,134.262,134.262, 134.263,134.263,134.263,134.263,134.263 ,134.263,134.264,134.264,134.264, 134.264,134.265,134.265,134.265,134.265 ,134.266,134.266,134.265,134.262, 134.258,134.254,134.251,134.247,134.243 ,134.24,134.236,134.232,134.229,134.225 ,134.221,134.218,134.214,134.21,134.207 ,134.203,134.199,134.196,134.192, 134.188,134.185,134.181,134.177,134.175 ,134.174,134.173)
ORBIT_NUMBER = 15772
ORBITAL_ECCENTRICITY = 0.574
ORBITAL_INCLINATION = 86.92
ORBITAL_SEMIMAJOR_AXIS = 8823.44
PERIAPSIS_ALTITUDE = 367.33
PERIAPSIS_ARGUMENT_ANGLE = 140.83
PERIAPSIS_TIME = 2016-06-11T20:35:52.000Z
SPACECRAFT_ORIENTATION = (0.0,-1.0,0.0)
^MEX_ORIENTATION_DESC = "MEX_ORIENTATION_DESC.TXT"
SPACECRAFT_POINTING_MODE = ACROSSTRACK
^MEX_POINTING_DESC = "MEX_POINTING_DESC.TXT"
RIGHT_ASCENSION = -1e+32
DECLINATION = -1e+32
OFFSET_ANGLE = -0.405
SPACECRAFT_SOLAR_DISTANCE = 2.23672e+08
TARGET_NAME = MARS
/* CAMERA DATA ELEMENTS */
BUFFER_MODE_ID = DIRECT
EXPOSURE_DURATION = 5.04
INST_CMPRS_NAME = "DISCRETE COSINE TRANSFORMATION (DCT)"
INST_CMPRS_RATIO = 19.2561
INST_CMPRS_QUALITY = 0
INST_CMPRS_QUANTZ_TBL_ID = 0
INSTRUMENT_TEMPERATURE = 6.95672
MISSING_FRAMES = 0
START_BIT = 0
/* RADIOMETRIC DATA ELEMENTS */
BANDWIDTH = 250.0
CENTER_FILTER_WAVELENGTH = 600.0
RADIANCE_OFFSET = -9.99e+31
RADIANCE_SCALING_FACTOR = -9.99e+31
REFLECTANCE_SCALING_FACTOR = -9.99e+31
MEX:REFLECTANCE_OFFSET = -9.99e+31
/* IMAGE OBJECT DEFINITIONS */
OBJECT = IMAGE
  INTERCHANGE_FORMAT = BINARY
  LINES = 1593
  LINE_SAMPLES = 1612
  SAMPLE_TYPE = UNSIGNED_INTEGER
  SAMPLE_BITS = 8
  BANDS = 1
  BAND_STORAGE_TYPE = BAND_SEQUENTIAL
  MAXIMUM = 255
  MEAN = 128.447
  MINIMUM = 10
  STANDARD_DEVIATION = 15.3671
END_OBJECT = IMAGE
/* MAP OBJECT DEFINITIONS */
OBJECT = IMAGE_MAP_PROJECTION
  ^DATA_SET_MAP_PROJECTION_CATALOG= "DSMAP.CAT"
  A_AXIS_RADIUS = 3396.19
  B_AXIS_RADIUS = 3396.19
  C_AXIS_RADIUS = 3396.19
  CENTER_LATITUDE = 0.0
  CENTER_LONGITUDE = 134.0
  COORDINATE_SYSTEM_NAME = PLANETOGRAPHIC
  COORDINATE_SYSTEM_TYPE = "BODY-FIXED ROTATING"
  EASTERNMOST_LONGITUDE = 134.266
  FIRST_STANDARD_PARALLEL = "N/A"
  LINE_FIRST_PIXEL = 1
  LINE_LAST_PIXEL = 1593
  LINE_PROJECTION_OFFSET = 1146359.0
  MAP_PROJECTION_ROTATION = 0.0
  MAP_PROJECTION_TYPE = SINUSOIDAL
  MAP_RESOLUTION = 23709.8786048756
  MAP_SCALE = 0.0025
  MAXIMUM_LATITUDE = 48.407
  MINIMUM_LATITUDE = 48.3433
  POSITIVE_LONGITUDE_DIRECTION = EAST
  REFERENCE_LATITUDE = "N/A"
  REFERENCE_LONGITUDE = "N/A"
  SAMPLE_FIRST_PIXEL = 1
  SAMPLE_LAST_PIXEL = 1612
  SAMPLE_PROJECTION_OFFSET = -2293.0
  SECOND_STANDARD_PARALLEL = "N/A"
  WESTERNMOST_LONGITUDE = 134.169
END_OBJECT = IMAGE_MAP_PROJECTION
END
