PDS_VERSION_ID = PDS3
/* FILE DATA ELEMENTS */
RECORD_TYPE = UNDEFINED
/* POINTERS TO DATA OBJECTS */
^IMAGE = ("HF772_0004_SR4.TIF")
/* IDENTIFICATION DATA ELEMENTS */
DATA_SET_ID = "MEX-M-HRSC-4-REFDR-MAPPROJECT-EXT5-V4.0"
DATA_SET_NAME = "MARS EXPRESS HRSC MAP PROJECTED REFDR EXTENSION5 V4.0"
DETECTOR_ID = MEX_HRSC_SRC
EVENT_TYPE = "MARS-LOCAL-CARTOGRAPHY-Pf-Tc-Ts"
INSTRUMENT_HOST_ID = MEX
INSTRUMENT_HOST_NAME = "MARS EXPRESS"
INSTRUMENT_ID = HRSC
INSTRUMENT_NAME = "HIGH RESOLUTION STEREO CAMERA"
MISSION_NAME = "MARS EXPRESS"
MISSION_PHASE_NAME = ME_Phase_34
PROCESSING_LEVEL_ID = 4
PRODUCT_CREATION_TIME = 2023-01-31T07:53:46.000Z
PRODUCT_ID = "HF772_0004_SR4.TIF"
RELEASE_ID = 0004
REVISION_ID = 0000
/* QUALITY DATA ELEMENTS */
DATA_QUALITY_ID = 1
DATA_QUALITY_DESC = "Data calculated based on original SPICE kernels"
/* TIME DATA ELEMENTS */
SPACECRAFT_CLOCK_START_COUNT = "1/0413757148.08308"
SPACECRAFT_CLOCK_STOP_COUNT = "1/0413757275.58058"
IMAGE_TIME = 2016-06-11T20:33:26.131Z
START_TIME = 2016-06-11T20:33:26.128Z
STOP_TIME = 2016-06-11T20:33:26.133Z
/* ORBITAL DATA ELEMENTS */
ASCENDING_NODE_LONGITUDE = 277.59
MAXIMUM_RESOLUTION = 0.003594 <m/pixel>
FOOTPRINT_POINT_LATITUDE = (48.4475,48.4504,48.4526,48.4548, 48.4576,48.4598,48.4617,48.4645,48.4664 ,48.4684,48.4708,48.474,48.476,48.478, 48.4799,48.4838,48.4862,48.4882,48.4907 ,48.4931,48.4951,48.4973,48.5005, 48.5028,48.5049,48.5082,48.5083,48.5083 ,48.5085,48.5086,48.5087,48.5089,48.509 ,48.5091,48.5092,48.5093,48.5094, 48.5096,48.5097,48.5098,48.5099,48.51, 48.5102,48.5103,48.5104,48.5105,48.5106 ,48.5107,48.5108,48.511,48.5111,48.5112 ,48.5112,48.5112,48.5083,48.5053, 48.5011,48.4971,48.4944,48.4915,48.4872 ,48.4836,48.4792,48.4767,48.473,48.47, 48.4671,48.4635,48.4596,48.4573,48.4533 ,48.4505,48.4505,48.4505,48.4503, 48.4502,48.4501,48.45,48.4499,48.4498, 48.4496,48.4495,48.4494,48.4493,48.4492 ,48.449,48.4489,48.4488,48.4487,48.4486 ,48.4485,48.4483,48.4482,48.4481,48.448 ,48.4479,48.4477,48.4475,48.4475, 48.4475)
FOOTPRINT_POINT_LONGITUDE = (134.166,134.165,134.165,134.165, 134.165,134.165,134.165,134.164,134.164 ,134.164,134.164,134.164,134.164, 134.163,134.163,134.163,134.163,134.163 ,134.163,134.162,134.162,134.162, 134.162,134.161,134.161,134.161,134.161 ,134.161,134.168,134.171,134.175, 134.179,134.182,134.186,134.19,134.193, 134.197,134.201,134.204,134.208,134.212 ,134.215,134.219,134.223,134.226,134.23 ,134.234,134.238,134.241,134.245, 134.249,134.252,134.253,134.254,134.254 ,134.254,134.254,134.255,134.255, 134.255,134.256,134.256,134.256,134.256 ,134.257,134.257,134.257,134.257, 134.258,134.258,134.258,134.258,134.258 ,134.258,134.255,134.251,134.247, 134.243,134.24,134.236,134.232,134.229, 134.225,134.221,134.218,134.214,134.21, 134.207,134.203,134.199,134.196,134.192 ,134.188,134.185,134.181,134.177, 134.174,134.167,134.166,134.166)
ORBIT_NUMBER = 15772
ORBITAL_ECCENTRICITY = 0.574
ORBITAL_INCLINATION = 86.92
ORBITAL_SEMIMAJOR_AXIS = 8823.44
PERIAPSIS_ALTITUDE = 367.33
PERIAPSIS_ARGUMENT_ANGLE = 140.83
PERIAPSIS_TIME = 2016-06-11T20:35:52.000Z
SPACECRAFT_ORIENTATION = (0.0,-1.0,0.0)
^MEX_ORIENTATION_DESC = "MEX_ORIENTATION_DESC.TXT"
SPACECRAFT_POINTING_MODE = ACROSSTRACK
^MEX_POINTING_DESC = "MEX_POINTING_DESC.TXT"
RIGHT_ASCENSION = -1e+32
DECLINATION = -1e+32
OFFSET_ANGLE = -0.405
SPACECRAFT_SOLAR_DISTANCE = 2.23672e+08
TARGET_NAME = MARS
/* CAMERA DATA ELEMENTS */
BUFFER_MODE_ID = DIRECT
EXPOSURE_DURATION = 5.04 <ms>
INST_CMPRS_NAME = "DISCRETE COSINE TRANSFORMATION (DCT)"
INST_CMPRS_RATIO = 19.3367
INST_CMPRS_QUALITY = 0
INST_CMPRS_QUANTZ_TBL_ID = 0
INSTRUMENT_TEMPERATURE = 6.91802 <degC>
MISSING_FRAMES = 0
START_BIT = 0
/* RADIOMETRIC DATA ELEMENTS */
BANDWIDTH = 250.0 <nm>
CENTER_FILTER_WAVELENGTH = 600.0 <nm>
RADIANCE_OFFSET = -9.99e+31 <W*m**-2*sr**-1>
RADIANCE_SCALING_FACTOR = -9.99e+31 <W*m**-2*sr**-1>
REFLECTANCE_SCALING_FACTOR = -9.99e+31
MEX:REFLECTANCE_OFFSET = -9.99e+31
/* IMAGE OBJECT DEFINITIONS */
OBJECT = IMAGE
  INTERCHANGE_FORMAT = BINARY
  LINES = 1596
  LINE_SAMPLES = 1615
  SAMPLE_TYPE = UNSIGNED_INTEGER
  SAMPLE_BITS = 8
  BANDS = 1
  BAND_STORAGE_TYPE = BAND_SEQUENTIAL
  MAXIMUM = 252
  MEAN = 131.37
  MINIMUM = 3
  STANDARD_DEVIATION = 14.6657
END_OBJECT = IMAGE
/* MAP OBJECT DEFINITIONS */
OBJECT = IMAGE_MAP_PROJECTION
  ^DATA_SET_MAP_PROJECTION_CATALOG= "DSMAP.CAT"
  A_AXIS_RADIUS = 3396.19 <km>
  B_AXIS_RADIUS = 3396.19 <km>
  C_AXIS_RADIUS = 3396.19 <km>
  CENTER_LATITUDE = 0.0
  CENTER_LONGITUDE = 134.0
  COORDINATE_SYSTEM_NAME = PLANETOGRAPHIC
  COORDINATE_SYSTEM_TYPE = "BODY-FIXED ROTATING"
  EASTERNMOST_LONGITUDE = 134.258
  FIRST_STANDARD_PARALLEL = "N/A"
  LINE_FIRST_PIXEL = 1
  LINE_LAST_PIXEL = 1596
  LINE_PROJECTION_OFFSET = 1148823.0
  MAP_PROJECTION_ROTATION = 0.0
  MAP_PROJECTION_TYPE = SINUSOIDAL
  MAP_RESOLUTION = 23709.8786048756 <pixel/degree>
  MAP_SCALE = 0.0025 <km/pixel>
  MAXIMUM_LATITUDE = 48.5112
  MINIMUM_LATITUDE = 48.4475
  POSITIVE_LONGITUDE_DIRECTION = EAST
  REFERENCE_LATITUDE = "N/A"
  REFERENCE_LONGITUDE = "N/A"
  SAMPLE_FIRST_PIXEL = 1
  SAMPLE_LAST_PIXEL = 1615
  SAMPLE_PROJECTION_OFFSET = -2164.0
  SECOND_STANDARD_PARALLEL = "N/A"
  WESTERNMOST_LONGITUDE = 134.161
END_OBJECT = IMAGE_MAP_PROJECTION
END
