PDS_VERSION_ID = PDS3
/* FILE DATA ELEMENTS */
RECORD_TYPE = UNDEFINED
/* POINTERS TO DATA OBJECTS */
^IMAGE = ("HF742_0000_ND4.TIF")
/* IDENTIFICATION DATA ELEMENTS */
DATA_SET_ID = "MEX-M-HRSC-4-REFDR-MAPPROJECT-EXT5-V4.0"
DATA_SET_NAME = "MARS EXPRESS HRSC MAP PROJECTED REFDR EXTENSION5 V4.0"
DETECTOR_ID = MEX_HRSC_NADIR
EVENT_TYPE = "MARS-REGIONAL-MAPPING-Im-Pf"
INSTRUMENT_HOST_ID = MEX
INSTRUMENT_HOST_NAME = "MARS EXPRESS"
INSTRUMENT_ID = HRSC
INSTRUMENT_NAME = "HIGH RESOLUTION STEREO CAMERA"
MISSION_NAME = "MARS EXPRESS"
MISSION_PHASE_NAME = ME_Phase_34
PROCESSING_LEVEL_ID = 4
PRODUCT_CREATION_TIME = 2023-01-31T07:53:46.000Z
PRODUCT_ID = "HF742_0000_ND4.TIF"
RELEASE_ID = 0004
REVISION_ID = 0000
/* QUALITY DATA ELEMENTS */
DATA_QUALITY_ID = 1
DATA_QUALITY_DESC = "Data calculated based on original SPICE kernels"
/* TIME DATA ELEMENTS */
SPACECRAFT_CLOCK_START_COUNT = "1/0413001725.07317"
SPACECRAFT_CLOCK_STOP_COUNT = "1/0413001934.48570"
START_TIME = 2016-06-03T02:42:45.430Z
STOP_TIME = 2016-06-03T02:45:04.419Z
/* ORBITAL DATA ELEMENTS */
ASCENDING_NODE_LONGITUDE = 278.16
MAXIMUM_RESOLUTION = 0.0147
FOOTPRINT_POINT_LATITUDE = (33.6454,33.6431,33.6409,33.6372, 33.6344,33.6279,33.6276,33.6275,33.4569 ,33.2011,33.0305,32.86,32.6894,32.5189, 32.3483,32.1778,32.0073,31.8368,31.6663 ,31.4958,31.3253,31.1548,30.814,30.4732 ,30.1324,29.7918,29.4513,29.1109, 28.7706,28.4304,28.0904,27.7505,27.4107 ,27.2244,27.0218,26.8193,26.6168, 26.4144,26.212,26.0097,25.8075,25.6054, 25.4033,25.2013,24.9994,24.7976,24.6967 ,24.6932,24.6953,24.6964,24.6972, 24.6974,24.6972,24.6971,24.6974,24.8994 ,25.1016,25.3039,25.5062,25.7086, 25.9111,26.1136,26.3163,26.519,26.7217, 26.9245,27.1274,27.416,27.7563,28.0967, 28.4373,28.778,29.1189,29.4598,29.6304, 29.8009,29.9715,30.1421,30.3127,30.4834 ,30.6541,30.8248,30.9955,31.1662,31.337 ,31.5077,31.6785,31.8493,32.0202,32.191 ,32.3618,32.5327,32.7035,32.8744, 33.0453,33.2161,33.387,33.5579,33.6434, 33.6454)
FOOTPRINT_POINT_LONGITUDE = (325.406,325.082,324.845,324.534, 324.326,323.924,323.909,323.871,323.875 ,323.882,323.887,323.891,323.895, 323.899,323.903,323.907,323.911,323.914 ,323.918,323.921,323.925,323.928, 323.935,323.941,323.947,323.952,323.957 ,323.962,323.966,323.97,323.974,323.978 ,323.981,323.983,323.984,323.986, 323.988,323.989,323.991,323.991,323.992 ,323.993,323.994,323.995,323.996, 323.996,323.997,323.997,324.32,324.568, 324.845,325.034,325.455,325.469,325.476 ,325.476,325.475,325.474,325.473, 325.472,325.471,325.47,325.469,325.468, 325.467,325.466,325.465,325.463,325.461 ,325.459,325.458,325.456,325.453, 325.451,325.45,325.449,325.448,325.447, 325.446,325.445,325.444,325.443,325.441 ,325.44,325.439,325.438,325.437,325.436 ,325.434,325.433,325.432,325.43,325.429 ,325.428,325.427,325.425,325.424, 325.422,325.422,325.406)
ORBIT_NUMBER = 15742
ORBITAL_ECCENTRICITY = 0.575
ORBITAL_INCLINATION = 86.94
ORBITAL_SEMIMAJOR_AXIS = 8825.41
PERIAPSIS_ALTITUDE = 363.96
PERIAPSIS_ARGUMENT_ANGLE = 146.01
PERIAPSIS_TIME = 2016-06-03T02:42:41.000Z
SPACECRAFT_ORIENTATION = (0.0,-1.0,0.0)
^MEX_ORIENTATION_DESC = "MEX_ORIENTATION_DESC.TXT"
SPACECRAFT_POINTING_MODE = ACROSSTRACK
^MEX_POINTING_DESC = "MEX_POINTING_DESC.TXT"
RIGHT_ASCENSION = -1e+32
DECLINATION = -1e+32
OFFSET_ANGLE = -0.2
SPACECRAFT_SOLAR_DISTANCE = 2.25379e+08
TARGET_NAME = MARS
/* CAMERA DATA ELEMENTS */
DETECTOR_TEMPERATURE = 18.5744
FOCAL_PLANE_TEMPERATURE = 8.5833
INST_CMPRS_NAME = "DISCRETE COSINE TRANSFORMATION (DCT)"
INST_CMPRS_RATIO = 5.95363
INST_CMPRS_QUALITY = 0
INST_CMPRS_QUANTZ_TBL_ID = 0
INSTRUMENT_TEMPERATURE = 11.8457
LENS_TEMPERATURE = 9.195
MACROPIXEL_SIZE = 1
MISSING_FRAMES = 0
PIXEL_SUBSAMPLING_FLAG = N
SIGNAL_CHAIN_ID = 0
/* RADIOMETRIC DATA ELEMENTS */
BANDWIDTH = 177.0
CENTER_FILTER_WAVELENGTH = 677.5
RADIANCE_OFFSET = 1.4463
RADIANCE_SCALING_FACTOR = 0.0124342
REFLECTANCE_SCALING_FACTOR = 0.000335528
MEX:REFLECTANCE_OFFSET = 0.0390272
/* IMAGE OBJECT DEFINITIONS */
OBJECT = IMAGE
  INTERCHANGE_FORMAT = BINARY
  LINES = 42453
  LINE_SAMPLES = 6512
  SAMPLE_TYPE = UNSIGNED_INTEGER
  SAMPLE_BITS = 8
  BANDS = 1
  BAND_STORAGE_TYPE = BAND_SEQUENTIAL
  MAXIMUM = 255
  MEAN = 87.5269
  MINIMUM = 1
  STANDARD_DEVIATION = 12.8711
END_OBJECT = IMAGE
/* MAP OBJECT DEFINITIONS */
OBJECT = IMAGE_MAP_PROJECTION
  ^DATA_SET_MAP_PROJECTION_CATALOG= "DSMAP.CAT"
  A_AXIS_RADIUS = 3396.0
  B_AXIS_RADIUS = 3396.0
  C_AXIS_RADIUS = 3396.0
  CENTER_LATITUDE = 0.0
  CENTER_LONGITUDE = 325.0
  COORDINATE_SYSTEM_NAME = PLANETOGRAPHIC
  COORDINATE_SYSTEM_TYPE = "BODY-FIXED ROTATING"
  EASTERNMOST_LONGITUDE = 325.476
  FIRST_STANDARD_PARALLEL = "N/A"
  LINE_FIRST_PIXEL = 1
  LINE_LAST_PIXEL = 42453
  LINE_PROJECTION_OFFSET = 159541.0
  MAP_PROJECTION_ROTATION = 0.0
  MAP_PROJECTION_TYPE = SINUSOIDAL
  MAP_RESOLUTION = 4741.71043093333
  MAP_SCALE = 0.0125
  MAXIMUM_LATITUDE = 33.6454
  MINIMUM_LATITUDE = 24.6932
  POSITIVE_LONGITUDE_DIRECTION = EAST
  REFERENCE_LATITUDE = "N/A"
  REFERENCE_LONGITUDE = "N/A"
  SAMPLE_FIRST_PIXEL = 1
  SAMPLE_LAST_PIXEL = 6512
  SAMPLE_PROJECTION_OFFSET = 4458.0
  SECOND_STANDARD_PARALLEL = "N/A"
  WESTERNMOST_LONGITUDE = 323.871
END_OBJECT = IMAGE_MAP_PROJECTION
END
