PDS_VERSION_ID = PDS3
/* FILE DATA ELEMENTS */
RECORD_TYPE = UNDEFINED
/* POINTERS TO DATA OBJECTS */
^IMAGE = ("HF702_0000_S14.TIF")
/* IDENTIFICATION DATA ELEMENTS */
DATA_SET_ID = "MEX-M-HRSC-4-REFDR-MAPPROJECT-EXT5-V4.0"
DATA_SET_NAME = "MARS EXPRESS HRSC MAP PROJECTED REFDR EXTENSION5 V4.0"
DETECTOR_ID = MEX_HRSC_S1
EVENT_TYPE = "MARS-REGIONAL-MAPPING-Vo-Pf-Eo"
INSTRUMENT_HOST_ID = MEX
INSTRUMENT_HOST_NAME = "MARS EXPRESS"
INSTRUMENT_ID = HRSC
INSTRUMENT_NAME = "HIGH RESOLUTION STEREO CAMERA"
MISSION_NAME = "MARS EXPRESS"
MISSION_PHASE_NAME = ME_Phase_34
PROCESSING_LEVEL_ID = 4
PRODUCT_CREATION_TIME = 2023-01-31T07:53:46.000Z
PRODUCT_ID = "HF702_0000_S14.TIF"
RELEASE_ID = 0004
REVISION_ID = 0000
/* QUALITY DATA ELEMENTS */
DATA_QUALITY_ID = 1
DATA_QUALITY_DESC = "Data calculated based on original SPICE kernels"
/* TIME DATA ELEMENTS */
SPACECRAFT_CLOCK_START_COUNT = "1/0411994064.08277"
SPACECRAFT_CLOCK_STOP_COUNT = "1/0411994280.17202"
START_TIME = 2016-05-22T10:47:51.542Z
STOP_TIME = 2016-05-22T10:50:19.371Z
/* ORBITAL DATA ELEMENTS */
ASCENDING_NODE_LONGITUDE = 278.91
MAXIMUM_RESOLUTION = 0.0316
FOOTPRINT_POINT_LATITUDE = (40.2148,40.2169,40.217,40.2161,40.2142 ,40.2113,40.2079,40.2076,40.1326, 39.8566,39.6725,39.489,39.2192,38.8589, 38.4977,38.1355,37.7726,37.5912,37.4095 ,37.2275,37.0453,36.8628,36.6801, 36.4056,36.1309,35.9475,35.7638,35.5798 ,35.3958,35.2119,35.0278,34.8436,34.659 ,34.4742,34.2894,34.1042,33.8262, 33.6408,33.455,33.2691,33.083,32.8968, 32.6173,32.3376,32.1507,31.8701,31.6831 ,31.4155,31.1013,31.0228,30.9872, 30.9861,30.9849,30.983,30.9806,30.9748, 30.9745,30.9748,31.4471,31.6297,31.8172 ,32.0043,32.1918,32.3788,32.6594, 32.8457,33.0321,33.2184,33.4046,33.5906 ,33.7764,33.9622,34.1479,34.426,34.611, 34.8884,35.0731,35.2577,35.442,35.6262, 35.8102,36.0862,36.2697,36.4531,36.728, 37.0024,37.1852,37.3676,37.55,37.732, 37.9138,38.0958,38.2775,38.5503,39.0022 ,39.453,39.7285,40.0052,40.0976, 40.2148)
FOOTPRINT_POINT_LONGITUDE = (98.7268,98.2891,97.9985,97.7088, 97.4203,97.1323,96.8809,96.8629,96.842, 96.8565,96.866,96.8754,96.8888,96.9063, 96.9232,96.9396,96.9556,96.9634,96.9711 ,96.9787,96.9861,96.9934,97.0006, 97.0111,97.0214,97.0282,97.0347,97.0412 ,97.0475,97.0539,97.0601,97.0662, 97.0721,97.0779,97.0837,97.0893,97.0975 ,97.1029,97.1082,97.1133,97.1183, 97.1233,97.1305,97.1376,97.1421,97.1487 ,97.153,97.159,97.1658,97.1675,97.1683, 97.5639,97.7994,98.0359,98.2584,98.6755 ,98.6905,98.6959,98.6994,98.7008, 98.7022,98.7037,98.705,98.7064,98.7084, 98.7101,98.7115,98.713,98.7145,98.716, 98.7175,98.7189,98.7203,98.7225,98.724, 98.7262,98.7277,98.7292,98.7307,98.7322 ,98.7337,98.7358,98.7374,98.7389, 98.7411,98.7433,98.7448,98.7463,98.7478 ,98.7494,98.751,98.7524,98.7538,98.7557 ,98.7598,98.7638,98.766,98.7685,98.7692 ,98.7268)
ORBIT_NUMBER = 15702
ORBITAL_ECCENTRICITY = 0.576
ORBITAL_INCLINATION = 86.92
ORBITAL_SEMIMAJOR_AXIS = 8845.56
PERIAPSIS_ALTITUDE = 359.19
PERIAPSIS_ARGUMENT_ANGLE = 152.93
PERIAPSIS_TIME = 2016-05-22T10:51:54.000Z
SPACECRAFT_ORIENTATION = (0.0,-1.0,0.0)
^MEX_ORIENTATION_DESC = "MEX_ORIENTATION_DESC.TXT"
SPACECRAFT_POINTING_MODE = ACROSSTRACK
^MEX_POINTING_DESC = "MEX_POINTING_DESC.TXT"
RIGHT_ASCENSION = -1e+32
DECLINATION = -1e+32
OFFSET_ANGLE = 0.269
SPACECRAFT_SOLAR_DISTANCE = 2.27658e+08
TARGET_NAME = MARS
/* CAMERA DATA ELEMENTS */
DETECTOR_TEMPERATURE = 17.5549
FOCAL_PLANE_TEMPERATURE = 8.3794
INST_CMPRS_NAME = "DISCRETE COSINE TRANSFORMATION (DCT)"
INST_CMPRS_RATIO = 7.64274
INST_CMPRS_QUALITY = 0
INST_CMPRS_QUANTZ_TBL_ID = 0
INSTRUMENT_TEMPERATURE = 11.6418
LENS_TEMPERATURE = 8.7872
MACROPIXEL_SIZE = 2
MISSING_FRAMES = 0
PIXEL_SUBSAMPLING_FLAG = N
SIGNAL_CHAIN_ID = 1
/* RADIOMETRIC DATA ELEMENTS */
BANDWIDTH = 180.0
CENTER_FILTER_WAVELENGTH = 677.0
RADIANCE_OFFSET = 1.80547
RADIANCE_SCALING_FACTOR = 0.0161213
REFLECTANCE_SCALING_FACTOR = 0.000435923
MEX:REFLECTANCE_OFFSET = 0.0488205
/* IMAGE OBJECT DEFINITIONS */
OBJECT = IMAGE
  INTERCHANGE_FORMAT = BINARY
  LINES = 21769
  LINE_SAMPLES = 3424
  SAMPLE_TYPE = UNSIGNED_INTEGER
  SAMPLE_BITS = 8
  BANDS = 1
  BAND_STORAGE_TYPE = BAND_SEQUENTIAL
  MAXIMUM = 255
  MEAN = 97.0113
  MINIMUM = 1
  STANDARD_DEVIATION = 21.1482
END_OBJECT = IMAGE
/* MAP OBJECT DEFINITIONS */
OBJECT = IMAGE_MAP_PROJECTION
  ^DATA_SET_MAP_PROJECTION_CATALOG= "DSMAP.CAT"
  A_AXIS_RADIUS = 3396.0
  B_AXIS_RADIUS = 3396.0
  C_AXIS_RADIUS = 3396.0
  CENTER_LATITUDE = 0.0
  CENTER_LONGITUDE = 98.0
  COORDINATE_SYSTEM_NAME = PLANETOGRAPHIC
  COORDINATE_SYSTEM_TYPE = "BODY-FIXED ROTATING"
  EASTERNMOST_LONGITUDE = 98.7692
  FIRST_STANDARD_PARALLEL = "N/A"
  LINE_FIRST_PIXEL = 1
  LINE_LAST_PIXEL = 21769
  LINE_PROJECTION_OFFSET = 95231.25
  MAP_PROJECTION_ROTATION = 0.0
  MAP_PROJECTION_TYPE = SINUSOIDAL
  MAP_RESOLUTION = 2370.85521546667
  MAP_SCALE = 0.025
  MAXIMUM_LATITUDE = 40.217
  MINIMUM_LATITUDE = 30.9745
  POSITIVE_LONGITUDE_DIRECTION = EAST
  REFERENCE_LATITUDE = "N/A"
  REFERENCE_LONGITUDE = "N/A"
  SAMPLE_FIRST_PIXEL = 1
  SAMPLE_LAST_PIXEL = 3424
  SAMPLE_PROJECTION_OFFSET = 2045.25
  SECOND_STANDARD_PARALLEL = "N/A"
  WESTERNMOST_LONGITUDE = 96.842
END_OBJECT = IMAGE_MAP_PROJECTION
END
