PDS_VERSION_ID = PDS3
/* FILE DATA ELEMENTS */
RECORD_TYPE = UNDEFINED
/* POINTERS TO DATA OBJECTS */
^IMAGE = ("HF702_0000_ND4.TIF")
/* IDENTIFICATION DATA ELEMENTS */
DATA_SET_ID = "MEX-M-HRSC-4-REFDR-MAPPROJECT-EXT5-V4.0"
DATA_SET_NAME = "MARS EXPRESS HRSC MAP PROJECTED REFDR EXTENSION5 V4.0"
DETECTOR_ID = MEX_HRSC_NADIR
EVENT_TYPE = "MARS-REGIONAL-MAPPING-Vo-Pf-Eo"
INSTRUMENT_HOST_ID = MEX
INSTRUMENT_HOST_NAME = "MARS EXPRESS"
INSTRUMENT_ID = HRSC
INSTRUMENT_NAME = "HIGH RESOLUTION STEREO CAMERA"
MISSION_NAME = "MARS EXPRESS"
MISSION_PHASE_NAME = ME_Phase_34
PROCESSING_LEVEL_ID = 4
PRODUCT_CREATION_TIME = 2023-01-31T07:53:46.000Z
PRODUCT_ID = "HF702_0000_ND4.TIF"
RELEASE_ID = 0004
REVISION_ID = 0000
/* QUALITY DATA ELEMENTS */
DATA_QUALITY_ID = 1
DATA_QUALITY_DESC = "Data calculated based on original SPICE kernels"
/* TIME DATA ELEMENTS */
SPACECRAFT_CLOCK_START_COUNT = "1/0411994064.08277"
SPACECRAFT_CLOCK_STOP_COUNT = "1/0411994280.17202"
START_TIME = 2016-05-22T10:48:29.889Z
STOP_TIME = 2016-05-22T10:50:52.867Z
/* ORBITAL DATA ELEMENTS */
ASCENDING_NODE_LONGITUDE = 278.91
MAXIMUM_RESOLUTION = 0.0147
FOOTPRINT_POINT_LATITUDE = (40.1662,40.1643,40.1616,40.1582, 40.1541,40.1487,40.1421,40.1418,40.1423 ,39.76,39.5686,39.3772,39.1857,38.9941, 38.8023,38.6105,38.4185,38.2265,38.0344 ,37.8422,37.6498,37.4574,37.2649, 37.0723,36.8796,36.6869,36.494,36.3011, 36.1081,35.915,35.7218,35.5286,35.3353, 35.1419,34.9484,34.7549,34.5613,34.3676 ,34.1739,33.9801,33.602,33.2769,32.9517 ,32.6263,32.3008,31.9752,31.6494, 31.3236,31.0791,30.9976,30.9861,30.9893 ,30.9921,30.994,30.9944,30.9944,30.9946 ,31.321,31.6474,31.9736,32.2997,32.6257 ,32.9516,33.2773,33.6029,33.8824, 34.0766,34.2707,34.4647,34.6587,34.8526 ,35.0464,35.2402,35.4339,35.6275, 35.8211,36.0146,36.208,36.4013,36.5946, 36.7878,36.9809,37.1739,37.3669,37.5597 ,37.7525,37.9452,38.1378,38.3303, 38.5227,38.715,38.9072,39.0993,39.2914, 39.4833,39.6751,39.8669,40.0585,40.1542 ,40.1662)
FOOTPRINT_POINT_LONGITUDE = (98.6813,98.4139,98.1298,97.8465, 97.5644,97.248,96.9147,96.8972,96.8713, 96.89,96.8992,96.9082,96.9171,96.9258, 96.9344,96.9429,96.9511,96.9593,96.9673 ,96.9751,96.9829,96.9906,96.9981, 97.0054,97.0126,97.0197,97.0266,97.0334 ,97.0401,97.0466,97.053,97.0593,97.0655 ,97.0716,97.0776,97.0834,97.0892, 97.0948,97.1003,97.1056,97.1158,97.1241 ,97.1322,97.14,97.1474,97.1545,97.1614, 97.168,97.1728,97.1743,97.1745,97.4977, 97.8813,98.3568,98.6557,98.6707,98.678, 98.6796,98.6814,98.6831,98.6846,98.6861 ,98.688,98.6898,98.6915,98.6929,98.6939 ,98.6947,98.6958,98.6967,98.6978, 98.6988,98.6998,98.7008,98.7017,98.7027 ,98.7037,98.7046,98.7056,98.7064, 98.7074,98.7084,98.7092,98.7103,98.7111 ,98.712,98.713,98.7138,98.7146,98.7152, 98.7162,98.717,98.718,98.719,98.7199, 98.7207,98.7215,98.7224,98.7227, 98.6813)
ORBIT_NUMBER = 15702
ORBITAL_ECCENTRICITY = 0.576
ORBITAL_INCLINATION = 86.92
ORBITAL_SEMIMAJOR_AXIS = 8845.56
PERIAPSIS_ALTITUDE = 359.19
PERIAPSIS_ARGUMENT_ANGLE = 152.93
PERIAPSIS_TIME = 2016-05-22T10:51:54.000Z
SPACECRAFT_ORIENTATION = (0.0,-1.0,0.0)
^MEX_ORIENTATION_DESC = "MEX_ORIENTATION_DESC.TXT"
SPACECRAFT_POINTING_MODE = ACROSSTRACK
^MEX_POINTING_DESC = "MEX_POINTING_DESC.TXT"
RIGHT_ASCENSION = -1e+32
DECLINATION = -1e+32
OFFSET_ANGLE = 0.269
SPACECRAFT_SOLAR_DISTANCE = 2.27658e+08
TARGET_NAME = MARS
/* CAMERA DATA ELEMENTS */
DETECTOR_TEMPERATURE = 18.9822
FOCAL_PLANE_TEMPERATURE = 8.3794
INST_CMPRS_NAME = "DISCRETE COSINE TRANSFORMATION (DCT)"
INST_CMPRS_RATIO = 5.23503
INST_CMPRS_QUALITY = 0
INST_CMPRS_QUANTZ_TBL_ID = 0
INSTRUMENT_TEMPERATURE = 11.6418
LENS_TEMPERATURE = 8.7872
MACROPIXEL_SIZE = 1
MISSING_FRAMES = 0
PIXEL_SUBSAMPLING_FLAG = N
SIGNAL_CHAIN_ID = 0
/* RADIOMETRIC DATA ELEMENTS */
BANDWIDTH = 177.0
CENTER_FILTER_WAVELENGTH = 677.5
RADIANCE_OFFSET = 1.41848
RADIANCE_SCALING_FACTOR = 0.0147247
REFLECTANCE_SCALING_FACTOR = 0.000405416
MEX:REFLECTANCE_OFFSET = 0.039055
/* IMAGE OBJECT DEFINITIONS */
OBJECT = IMAGE
  INTERCHANGE_FORMAT = BINARY
  LINES = 43537
  LINE_SAMPLES = 6848
  SAMPLE_TYPE = UNSIGNED_INTEGER
  SAMPLE_BITS = 8
  BANDS = 1
  BAND_STORAGE_TYPE = BAND_SEQUENTIAL
  MAXIMUM = 255
  MEAN = 95.0995
  MINIMUM = 1
  STANDARD_DEVIATION = 21.0479
END_OBJECT = IMAGE
/* MAP OBJECT DEFINITIONS */
OBJECT = IMAGE_MAP_PROJECTION
  ^DATA_SET_MAP_PROJECTION_CATALOG= "DSMAP.CAT"
  A_AXIS_RADIUS = 3396.0
  B_AXIS_RADIUS = 3396.0
  C_AXIS_RADIUS = 3396.0
  CENTER_LATITUDE = 0.0
  CENTER_LONGITUDE = 98.0
  COORDINATE_SYSTEM_NAME = PLANETOGRAPHIC
  COORDINATE_SYSTEM_TYPE = "BODY-FIXED ROTATING"
  EASTERNMOST_LONGITUDE = 98.7227
  FIRST_STANDARD_PARALLEL = "N/A"
  LINE_FIRST_PIXEL = 1
  LINE_LAST_PIXEL = 43537
  LINE_PROJECTION_OFFSET = 190463.0
  MAP_PROJECTION_ROTATION = 0.0
  MAP_PROJECTION_TYPE = SINUSOIDAL
  MAP_RESOLUTION = 4741.71043093333
  MAP_SCALE = 0.0125
  MAXIMUM_LATITUDE = 40.1662
  MINIMUM_LATITUDE = 30.9861
  POSITIVE_LONGITUDE_DIRECTION = EAST
  REFERENCE_LATITUDE = "N/A"
  REFERENCE_LONGITUDE = "N/A"
  SAMPLE_FIRST_PIXEL = 1
  SAMPLE_LAST_PIXEL = 6848
  SAMPLE_PROJECTION_OFFSET = 4091.0
  SECOND_STANDARD_PARALLEL = "N/A"
  WESTERNMOST_LONGITUDE = 96.87130000000001
END_OBJECT = IMAGE_MAP_PROJECTION
END
