PDS_VERSION_ID = PDS3
/* FILE DATA ELEMENTS */
RECORD_TYPE = UNDEFINED
/* POINTERS TO DATA OBJECTS */
^IMAGE = ("HF696_0000_RE4.TIF")
/* IDENTIFICATION DATA ELEMENTS */
DATA_SET_ID = "MEX-M-HRSC-4-REFDR-MAPPROJECT-EXT5-V4.0"
DATA_SET_NAME = "MARS EXPRESS HRSC MAP PROJECTED REFDR EXTENSION5 V4.0"
DETECTOR_ID = MEX_HRSC_RED
EVENT_TYPE = "MARS-REGIONAL-MAPPING-Im-La-Tc"
INSTRUMENT_HOST_ID = MEX
INSTRUMENT_HOST_NAME = "MARS EXPRESS"
INSTRUMENT_ID = HRSC
INSTRUMENT_NAME = "HIGH RESOLUTION STEREO CAMERA"
MISSION_NAME = "MARS EXPRESS"
MISSION_PHASE_NAME = ME_Phase_34
PROCESSING_LEVEL_ID = 4
PRODUCT_CREATION_TIME = 2023-01-31T07:53:46.000Z
PRODUCT_ID = "HF696_0000_RE4.TIF"
RELEASE_ID = 0004
REVISION_ID = 0000
/* QUALITY DATA ELEMENTS */
DATA_QUALITY_ID = 1
DATA_QUALITY_DESC = "Data calculated based on original SPICE kernels"
/* TIME DATA ELEMENTS */
SPACECRAFT_CLOCK_START_COUNT = "1/0411843396.08296"
SPACECRAFT_CLOCK_STOP_COUNT = "1/0411843627.40960"
START_TIME = 2016-05-20T16:57:55.544Z
STOP_TIME = 2016-05-20T17:00:23.183Z
/* ORBITAL DATA ELEMENTS */
ASCENDING_NODE_LONGITUDE = 279.03
MAXIMUM_RESOLUTION = 0.0728
FOOTPRINT_POINT_LATITUDE = (9.61,9.58603,9.57179,9.55797,9.54458, 9.53154,9.51877,9.51799,9.53151,9.12925 ,8.80529,8.48002,8.15482,7.65949, 7.32885,6.99919,6.83152,6.664,6.49677, 6.2466,5.99598,5.82542,5.56976,5.39919, 5.22906,5.05919,4.80025,4.62719,4.45457 ,4.28149,4.1088,3.93283,3.75682,3.58118 ,3.40626,3.23118,3.05337,2.87427,2.6974 ,2.52116,2.3464,2.16518,1.89482,1.71092 ,1.43787,1.25471,1.07229,0.981094, 0.97408,0.985039,0.998727,1.01069, 1.02342,1.03973,1.0513,1.06359,1.06458, 1.06608,1.24889,1.4325,1.61554,1.88713, 2.06546,2.24558,2.51575,2.69371,2.8721, 3.04903,3.22714,3.40474,3.57976,3.75438 ,3.92973,4.10571,4.27954,4.45166, 4.62385,4.79658,4.96961,5.1422,5.31198, 5.48213,5.65264,5.90836,6.07904,6.24642 ,6.49737,6.74937,6.91735,7.08581, 7.33328,7.66402,7.99602,8.24368,8.56764 ,8.97455,9.21914,9.5421,9.62185,9.61)
FOOTPRINT_POINT_LONGITUDE = (354.007,353.597,353.351,353.109, 352.871,352.637,352.406,352.391,352.394 ,352.383,352.375,352.366,352.357, 352.343,352.334,352.324,352.32,352.315, 352.31,352.303,352.296,352.291,352.283, 352.278,352.273,352.268,352.26,352.254, 352.249,352.243,352.238,352.232,352.226 ,352.221,352.215,352.209,352.203, 352.197,352.192,352.186,352.181,352.175 ,352.166,352.158,352.149,352.142, 352.136,352.133,352.132,352.354,352.648 ,352.911,353.212,353.537,353.775, 354.016,354.035,354.041,354.04,354.039, 354.038,354.037,354.034,354.032,354.03, 354.03,354.03,354.028,354.027,354.027, 354.027,354.025,354.024,354.024,354.023 ,354.022,354.021,354.02,354.02,354.02, 354.019,354.019,354.019,354.018,354.018 ,354.018,354.018,354.018,354.018, 354.018,354.019,354.02,354.022,354.022, 354.023,354.024,354.025,354.027,354.027 ,354.007)
ORBIT_NUMBER = 15696
ORBITAL_ECCENTRICITY = 0.576
ORBITAL_INCLINATION = 86.92
ORBITAL_SEMIMAJOR_AXIS = 8839.02
PERIAPSIS_ALTITUDE = 359.36
PERIAPSIS_ARGUMENT_ANGLE = 153.96
PERIAPSIS_TIME = 2016-05-20T16:53:04.000Z
SPACECRAFT_ORIENTATION = (0.0,-1.0,0.0)
^MEX_ORIENTATION_DESC = "MEX_ORIENTATION_DESC.TXT"
SPACECRAFT_POINTING_MODE = ACROSSTRACK
^MEX_POINTING_DESC = "MEX_POINTING_DESC.TXT"
RIGHT_ASCENSION = -1e+32
DECLINATION = -1e+32
OFFSET_ANGLE = 1.6
SPACECRAFT_SOLAR_DISTANCE = 2.27999e+08
TARGET_NAME = MARS
/* CAMERA DATA ELEMENTS */
DETECTOR_TEMPERATURE = 18.7783
FOCAL_PLANE_TEMPERATURE = 8.7872
INST_CMPRS_NAME = "DISCRETE COSINE TRANSFORMATION (DCT)"
INST_CMPRS_RATIO = 8.41589
INST_CMPRS_QUALITY = 0
INST_CMPRS_QUANTZ_TBL_ID = 0
INSTRUMENT_TEMPERATURE = 11.6418
LENS_TEMPERATURE = 8.7872
MACROPIXEL_SIZE = 4
MISSING_FRAMES = 0
PIXEL_SUBSAMPLING_FLAG = N
SIGNAL_CHAIN_ID = 2
/* RADIOMETRIC DATA ELEMENTS */
BANDWIDTH = 48.0
CENTER_FILTER_WAVELENGTH = 748.0
RADIANCE_OFFSET = 0.369318
RADIANCE_SCALING_FACTOR = 0.00287028
REFLECTANCE_SCALING_FACTOR = 0.000340498
MEX:REFLECTANCE_OFFSET = 0.0438118
/* IMAGE OBJECT DEFINITIONS */
OBJECT = IMAGE
  INTERCHANGE_FORMAT = BINARY
  LINES = 10172
  LINE_SAMPLES = 2132
  SAMPLE_TYPE = UNSIGNED_INTEGER
  SAMPLE_BITS = 8
  BANDS = 1
  BAND_STORAGE_TYPE = BAND_SEQUENTIAL
  MAXIMUM = 255
  MEAN = 89.5846
  MINIMUM = 1
  STANDARD_DEVIATION = 20.2652
END_OBJECT = IMAGE
/* MAP OBJECT DEFINITIONS */
OBJECT = IMAGE_MAP_PROJECTION
  ^DATA_SET_MAP_PROJECTION_CATALOG= "DSMAP.CAT"
  A_AXIS_RADIUS = 3396.0
  B_AXIS_RADIUS = 3396.0
  C_AXIS_RADIUS = 3396.0
  CENTER_LATITUDE = 0.0
  CENTER_LONGITUDE = 353.0
  COORDINATE_SYSTEM_NAME = PLANETOGRAPHIC
  COORDINATE_SYSTEM_TYPE = "BODY-FIXED ROTATING"
  EASTERNMOST_LONGITUDE = 354.041
  FIRST_STANDARD_PARALLEL = "N/A"
  LINE_FIRST_PIXEL = 1
  LINE_LAST_PIXEL = 10172
  LINE_PROJECTION_OFFSET = 11349.375
  MAP_PROJECTION_ROTATION = 0.0
  MAP_PROJECTION_TYPE = SINUSOIDAL
  MAP_RESOLUTION = 1185.42760773333
  MAP_SCALE = 0.05
  MAXIMUM_LATITUDE = 9.62185
  MINIMUM_LATITUDE = 0.97408
  POSITIVE_LONGITUDE_DIRECTION = EAST
  REFERENCE_LATITUDE = "N/A"
  REFERENCE_LONGITUDE = "N/A"
  SAMPLE_FIRST_PIXEL = 1
  SAMPLE_LAST_PIXEL = 2132
  SAMPLE_PROJECTION_OFFSET = 977.375
  SECOND_STANDARD_PARALLEL = "N/A"
  WESTERNMOST_LONGITUDE = 352.132
END_OBJECT = IMAGE_MAP_PROJECTION
END
