PDS_VERSION_ID = PDS3
/* FILE DATA ELEMENTS */
RECORD_TYPE = UNDEFINED
/* POINTERS TO DATA OBJECTS */
^IMAGE = ("HF696_0000_IR4.TIF")
/* IDENTIFICATION DATA ELEMENTS */
DATA_SET_ID = "MEX-M-HRSC-4-REFDR-MAPPROJECT-EXT5-V4.0"
DATA_SET_NAME = "MARS EXPRESS HRSC MAP PROJECTED REFDR EXTENSION5 V4.0"
DETECTOR_ID = MEX_HRSC_IR
EVENT_TYPE = "MARS-REGIONAL-MAPPING-Im-La-Tc"
INSTRUMENT_HOST_ID = MEX
INSTRUMENT_HOST_NAME = "MARS EXPRESS"
INSTRUMENT_ID = HRSC
INSTRUMENT_NAME = "HIGH RESOLUTION STEREO CAMERA"
MISSION_NAME = "MARS EXPRESS"
MISSION_PHASE_NAME = ME_Phase_34
PROCESSING_LEVEL_ID = 4
PRODUCT_CREATION_TIME = 2023-01-31T07:53:46.000Z
PRODUCT_ID = "HF696_0000_IR4.TIF"
RELEASE_ID = 0004
REVISION_ID = 0000
/* QUALITY DATA ELEMENTS */
DATA_QUALITY_ID = 1
DATA_QUALITY_DESC = "Data calculated based on original SPICE kernels"
/* TIME DATA ELEMENTS */
SPACECRAFT_CLOCK_START_COUNT = "1/0411843396.08296"
SPACECRAFT_CLOCK_STOP_COUNT = "1/0411843627.40960"
START_TIME = 2016-05-20T16:56:49.631Z
STOP_TIME = 2016-05-20T16:59:02.346Z
/* ORBITAL DATA ELEMENTS */
ASCENDING_NODE_LONGITUDE = 279.03
MAXIMUM_RESOLUTION = 0.0679
FOOTPRINT_POINT_LATITUDE = (9.50621,9.54069,9.56094,9.5804,9.59911 ,9.61714,9.63452,9.63558,9.62004, 9.29692,8.89103,8.56573,8.24354,7.83624 ,7.66984,7.42092,7.25477,7.08917, 6.83992,6.6738,6.50752,6.25332,6.08331, 5.91296,5.74307,5.57312,5.40408,5.23455 ,5.06473,4.89109,4.71761,4.45735, 4.28434,4.11109,3.85149,3.67573,3.4095, 3.2324,2.96665,2.78891,2.61145,2.42917, 2.24604,1.97532,1.79412,1.61796,1.43555 ,1.15836,1.06587,1.06347,1.0436,1.02334 ,1.00007,0.981561,0.958235,0.930906, 0.929505,0.930236,1.20754,1.39116, 1.57127,1.75159,1.93268,2.11542,2.29698 ,2.478,2.65464,2.83044,3.00938,3.27578, 3.54038,3.71714,3.89102,4.06422,4.2382, 4.41188,4.58623,4.84717,5.01925,5.18877 ,5.35846,5.52807,5.69792,5.95273, 6.12282,6.29256,6.45926,6.62491,6.79079 ,7.0398,7.20553,7.37085,7.53698,7.86741 ,8.19031,8.5956,9.00069,9.40554,9.48645 ,9.50621)
FOOTPRINT_POINT_LONGITUDE = (353.955,353.572,353.341,353.115, 352.892,352.674,352.458,352.445,352.449 ,352.441,352.432,352.425,352.417, 352.407,352.403,352.397,352.393,352.389 ,352.383,352.379,352.376,352.37,352.365 ,352.361,352.357,352.353,352.348, 352.344,352.339,352.335,352.33,352.323, 352.319,352.314,352.307,352.302,352.295 ,352.29,352.282,352.278,352.273,352.268 ,352.264,352.256,352.251,352.244, 352.239,352.231,352.228,352.228,352.474 ,352.739,353.055,353.297,353.591, 353.926,353.942,353.948,353.948,353.948 ,353.948,353.949,353.949,353.947, 353.946,353.946,353.947,353.948,353.947 ,353.946,353.948,353.948,353.948, 353.948,353.948,353.948,353.948,353.948 ,353.949,353.949,353.95,353.951,353.951 ,353.952,353.952,353.953,353.954, 353.955,353.956,353.957,353.958,353.959 ,353.96,353.963,353.966,353.968,353.971 ,353.975,353.976,353.955)
ORBIT_NUMBER = 15696
ORBITAL_ECCENTRICITY = 0.576
ORBITAL_INCLINATION = 86.92
ORBITAL_SEMIMAJOR_AXIS = 8839.02
PERIAPSIS_ALTITUDE = 359.36
PERIAPSIS_ARGUMENT_ANGLE = 153.96
PERIAPSIS_TIME = 2016-05-20T16:53:04.000Z
SPACECRAFT_ORIENTATION = (0.0,-1.0,0.0)
^MEX_ORIENTATION_DESC = "MEX_ORIENTATION_DESC.TXT"
SPACECRAFT_POINTING_MODE = ACROSSTRACK
^MEX_POINTING_DESC = "MEX_POINTING_DESC.TXT"
RIGHT_ASCENSION = -1e+32
DECLINATION = -1e+32
OFFSET_ANGLE = 1.6
SPACECRAFT_SOLAR_DISTANCE = 2.27999e+08
TARGET_NAME = MARS
/* CAMERA DATA ELEMENTS */
DETECTOR_TEMPERATURE = 17.5549
FOCAL_PLANE_TEMPERATURE = 8.7872
INST_CMPRS_NAME = "DISCRETE COSINE TRANSFORMATION (DCT)"
INST_CMPRS_RATIO = 5.56353
INST_CMPRS_QUALITY = 0
INST_CMPRS_QUANTZ_TBL_ID = 0
INSTRUMENT_TEMPERATURE = 11.6418
LENS_TEMPERATURE = 8.7872
MACROPIXEL_SIZE = 4
MISSING_FRAMES = 0
PIXEL_SUBSAMPLING_FLAG = N
SIGNAL_CHAIN_ID = 2
/* RADIOMETRIC DATA ELEMENTS */
BANDWIDTH = 81.0
CENTER_FILTER_WAVELENGTH = 955.5
RADIANCE_OFFSET = 0.291062
RADIANCE_SCALING_FACTOR = 0.00293855
REFLECTANCE_SCALING_FACTOR = 0.000329553
MEX:REFLECTANCE_OFFSET = 0.0326421
/* IMAGE OBJECT DEFINITIONS */
OBJECT = IMAGE
  INTERCHANGE_FORMAT = BINARY
  LINES = 10172
  LINE_SAMPLES = 2132
  SAMPLE_TYPE = UNSIGNED_INTEGER
  SAMPLE_BITS = 8
  BANDS = 1
  BAND_STORAGE_TYPE = BAND_SEQUENTIAL
  MAXIMUM = 255
  MEAN = 94.9821
  MINIMUM = 1
  STANDARD_DEVIATION = 20.8644
END_OBJECT = IMAGE
/* MAP OBJECT DEFINITIONS */
OBJECT = IMAGE_MAP_PROJECTION
  ^DATA_SET_MAP_PROJECTION_CATALOG= "DSMAP.CAT"
  A_AXIS_RADIUS = 3396.0
  B_AXIS_RADIUS = 3396.0
  C_AXIS_RADIUS = 3396.0
  CENTER_LATITUDE = 0.0
  CENTER_LONGITUDE = 353.0
  COORDINATE_SYSTEM_NAME = PLANETOGRAPHIC
  COORDINATE_SYSTEM_TYPE = "BODY-FIXED ROTATING"
  EASTERNMOST_LONGITUDE = 353.976
  FIRST_STANDARD_PARALLEL = "N/A"
  LINE_FIRST_PIXEL = 1
  LINE_LAST_PIXEL = 10172
  LINE_PROJECTION_OFFSET = 11349.375
  MAP_PROJECTION_ROTATION = 0.0
  MAP_PROJECTION_TYPE = SINUSOIDAL
  MAP_RESOLUTION = 1185.42760773333
  MAP_SCALE = 0.05
  MAXIMUM_LATITUDE = 9.635579999999999
  MINIMUM_LATITUDE = 0.929505
  POSITIVE_LONGITUDE_DIRECTION = EAST
  REFERENCE_LATITUDE = "N/A"
  REFERENCE_LONGITUDE = "N/A"
  SAMPLE_FIRST_PIXEL = 1
  SAMPLE_LAST_PIXEL = 2132
  SAMPLE_PROJECTION_OFFSET = 977.375
  SECOND_STANDARD_PARALLEL = "N/A"
  WESTERNMOST_LONGITUDE = 352.228
END_OBJECT = IMAGE_MAP_PROJECTION
END
