PDS_VERSION_ID = PDS3
/* FILE DATA ELEMENTS */
RECORD_TYPE = UNDEFINED
/* POINTERS TO DATA OBJECTS */
^IMAGE = ("HF685_0000_BL4.TIF")
/* IDENTIFICATION DATA ELEMENTS */
DATA_SET_ID = "MEX-M-HRSC-4-REFDR-MAPPROJECT-EXT5-V4.0"
DATA_SET_NAME = "MARS EXPRESS HRSC MAP PROJECTED REFDR EXTENSION5 V4.0"
DETECTOR_ID = MEX_HRSC_BLUE
EVENT_TYPE = "MARS-REGIONAL-MAPPING-Fl-Lc-Pf"
INSTRUMENT_HOST_ID = MEX
INSTRUMENT_HOST_NAME = "MARS EXPRESS"
INSTRUMENT_ID = HRSC
INSTRUMENT_NAME = "HIGH RESOLUTION STEREO CAMERA"
MISSION_NAME = "MARS EXPRESS"
MISSION_PHASE_NAME = ME_Phase_34
PROCESSING_LEVEL_ID = 4
PRODUCT_CREATION_TIME = 2023-01-31T07:53:46.000Z
PRODUCT_ID = "HF685_0000_BL4.TIF"
RELEASE_ID = 0004
REVISION_ID = 0000
/* QUALITY DATA ELEMENTS */
DATA_QUALITY_ID = 1
DATA_QUALITY_DESC = "Data calculated based on original SPICE kernels"
/* TIME DATA ELEMENTS */
SPACECRAFT_CLOCK_START_COUNT = "1/0411565887.08417"
SPACECRAFT_CLOCK_STOP_COUNT = "1/0411566153.64827"
START_TIME = 2016-05-17T11:52:17.987Z
STOP_TIME = 2016-05-17T11:55:32.530Z
/* ORBITAL DATA ELEMENTS */
ASCENDING_NODE_LONGITUDE = 279.23
MAXIMUM_RESOLUTION = 0.0574
FOOTPRINT_POINT_LATITUDE = (36.3013,36.2974,36.2916,36.281,36.2807 ,36.2875,36.0109,35.5962,35.3203, 35.0435,34.7663,34.4888,34.2097,33.7928 ,33.3761,33.0982,32.8202,32.5418, 32.2633,31.9848,31.7061,31.4372,31.2034 ,30.7362,30.5019,30.0343,29.8004, 29.5665,29.3325,29.0984,28.8642,28.5131 ,28.2789,27.9276,27.6932,27.2251, 26.9907,26.7564,26.5215,26.2872,26.0527 ,25.7013,25.467,25.232,24.9975,24.7631, 24.5288,24.2943,23.943,23.8259,23.7489, 23.7505,23.751,23.7501,23.75,23.7509, 24.1027,24.3374,24.572,24.9239,25.276, 25.5106,25.7454,25.9812,26.4491,26.684, 26.9187,27.2707,27.505,27.7395,27.974, 28.2087,28.5604,28.7951,29.0294,29.2645 ,29.7326,29.9669,30.2012,30.4359,30.67, 30.9042,31.2554,31.4899,31.767,32.1855, 32.4644,32.8826,33.3016,33.5801,33.8584 ,34.275,34.553,34.97,35.2479,35.5254, 35.8028,36.08,36.2186,36.3013)
FOOTPRINT_POINT_LONGITUDE = (37.5361,37.0445,36.5502,35.8973, 35.8816,35.8546,35.8675,35.885,35.8937, 35.9047,35.9158,35.9272,35.9424,35.959, 35.9734,35.9825,35.9915,36.001,36.0101, 36.0187,36.0272,36.0351,36.0424,36.0547 ,36.0622,36.0738,36.0795,36.0846, 36.0899,36.0953,36.1007,36.1077,36.1124 ,36.1192,36.1239,36.1311,36.1352, 36.1389,36.1442,36.1475,36.1514,36.156, 36.1591,36.1638,36.167,36.17,36.1727, 36.1756,36.1791,36.1803,36.181,36.512, 36.9321,37.5272,37.5398,37.544,37.5444, 37.5448,37.545,37.5454,37.5458,37.546, 37.5464,37.5478,37.5467,37.5471,37.5473 ,37.5476,37.5474,37.5475,37.5474, 37.5478,37.5478,37.5481,37.5481,37.5488 ,37.5482,37.5484,37.5483,37.549,37.5488 ,37.549,37.5491,37.5496,37.5495,37.5492 ,37.5491,37.549,37.55,37.5498,37.5496, 37.5484,37.5481,37.5478,37.5478,37.5474 ,37.5471,37.5466,37.5465,37.5361)
ORBIT_NUMBER = 15685
ORBITAL_ECCENTRICITY = 0.576
ORBITAL_INCLINATION = 86.91
ORBITAL_SEMIMAJOR_AXIS = 8848.08
PERIAPSIS_ALTITUDE = 357.99
PERIAPSIS_ARGUMENT_ANGLE = 155.9
PERIAPSIS_TIME = 2016-05-17T11:55:22.000Z
SPACECRAFT_ORIENTATION = (0.0,-1.0,0.0)
^MEX_ORIENTATION_DESC = "MEX_ORIENTATION_DESC.TXT"
SPACECRAFT_POINTING_MODE = ACROSSTRACK
^MEX_POINTING_DESC = "MEX_POINTING_DESC.TXT"
RIGHT_ASCENSION = -1e+32
DECLINATION = -1e+32
OFFSET_ANGLE = -0.25
SPACECRAFT_SOLAR_DISTANCE = 2.28623e+08
TARGET_NAME = MARS
/* CAMERA DATA ELEMENTS */
DETECTOR_TEMPERATURE = 18.9822
FOCAL_PLANE_TEMPERATURE = 8.3794
INST_CMPRS_NAME = "DISCRETE COSINE TRANSFORMATION (DCT)"
INST_CMPRS_RATIO = 3.88913
INST_CMPRS_QUALITY = 0
INST_CMPRS_QUANTZ_TBL_ID = 0
INSTRUMENT_TEMPERATURE = 12.0496
LENS_TEMPERATURE = 9.195
MACROPIXEL_SIZE = 4
MISSING_FRAMES = 0
PIXEL_SUBSAMPLING_FLAG = N
SIGNAL_CHAIN_ID = 2
/* RADIOMETRIC DATA ELEMENTS */
BANDWIDTH = 76.0
CENTER_FILTER_WAVELENGTH = 444.0
RADIANCE_OFFSET = 0.164951
RADIANCE_SCALING_FACTOR = 0.00209462
REFLECTANCE_SCALING_FACTOR = 0.000112487
MEX:REFLECTANCE_OFFSET = 0.00885835
/* IMAGE OBJECT DEFINITIONS */
OBJECT = IMAGE
  INTERCHANGE_FORMAT = BINARY
  LINES = 14883
  LINE_SAMPLES = 1699
  SAMPLE_TYPE = UNSIGNED_INTEGER
  SAMPLE_BITS = 8
  BANDS = 1
  BAND_STORAGE_TYPE = BAND_SEQUENTIAL
  MAXIMUM = 255
  MEAN = 111.335
  MINIMUM = 1
  STANDARD_DEVIATION = 18.8419
END_OBJECT = IMAGE
/* MAP OBJECT DEFINITIONS */
OBJECT = IMAGE_MAP_PROJECTION
  ^DATA_SET_MAP_PROJECTION_CATALOG= "DSMAP.CAT"
  A_AXIS_RADIUS = 3396.0
  B_AXIS_RADIUS = 3396.0
  C_AXIS_RADIUS = 3396.0
  CENTER_LATITUDE = 0.0
  CENTER_LONGITUDE = 37.0
  COORDINATE_SYSTEM_NAME = PLANETOGRAPHIC
  COORDINATE_SYSTEM_TYPE = "BODY-FIXED ROTATING"
  EASTERNMOST_LONGITUDE = 37.55
  FIRST_STANDARD_PARALLEL = "N/A"
  LINE_FIRST_PIXEL = 1
  LINE_LAST_PIXEL = 14883
  LINE_PROJECTION_OFFSET = 43038.125
  MAP_PROJECTION_ROTATION = 0.0
  MAP_PROJECTION_TYPE = SINUSOIDAL
  MAP_RESOLUTION = 1185.42760773333
  MAP_SCALE = 0.05
  MAXIMUM_LATITUDE = 36.3013
  MINIMUM_LATITUDE = 23.7489
  POSITIVE_LONGITUDE_DIRECTION = EAST
  REFERENCE_LATITUDE = "N/A"
  REFERENCE_LONGITUDE = "N/A"
  SAMPLE_FIRST_PIXEL = 1
  SAMPLE_LAST_PIXEL = 1699
  SAMPLE_PROJECTION_OFFSET = 1107.875
  SECOND_STANDARD_PARALLEL = "N/A"
  WESTERNMOST_LONGITUDE = 35.8546
END_OBJECT = IMAGE_MAP_PROJECTION
END
