PDS_VERSION_ID = PDS3
/* FILE DATA ELEMENTS */
RECORD_TYPE = UNDEFINED
/* POINTERS TO DATA OBJECTS */
^IMAGE = ("HF666_0000_IR4.TIF")
/* IDENTIFICATION DATA ELEMENTS */
DATA_SET_ID = "MEX-M-HRSC-4-REFDR-MAPPROJECT-EXT5-V4.0"
DATA_SET_NAME = "MARS EXPRESS HRSC MAP PROJECTED REFDR EXTENSION5 V4.0"
DETECTOR_ID = MEX_HRSC_IR
EVENT_TYPE = "MARS-REGIONAL-MAPPING-Vo-Im"
INSTRUMENT_HOST_ID = MEX
INSTRUMENT_HOST_NAME = "MARS EXPRESS"
INSTRUMENT_ID = HRSC
INSTRUMENT_NAME = "HIGH RESOLUTION STEREO CAMERA"
MISSION_NAME = "MARS EXPRESS"
MISSION_PHASE_NAME = ME_Phase_34
PROCESSING_LEVEL_ID = 4
PRODUCT_CREATION_TIME = 2023-01-31T07:53:46.000Z
PRODUCT_ID = "HF666_0000_IR4.TIF"
RELEASE_ID = 0004
REVISION_ID = 0000
/* QUALITY DATA ELEMENTS */
DATA_QUALITY_ID = 1
DATA_QUALITY_DESC = "Data calculated based on original SPICE kernels"
/* TIME DATA ELEMENTS */
SPACECRAFT_CLOCK_START_COUNT = "1/0411087334.09037"
SPACECRAFT_CLOCK_STOP_COUNT = "1/0411087747.33658"
START_TIME = 2016-05-11T22:55:48.071Z
STOP_TIME = 2016-05-11T23:01:30.471Z
/* ORBITAL DATA ELEMENTS */
ASCENDING_NODE_LONGITUDE = 279.59
MAXIMUM_RESOLUTION = 0.0601
FOOTPRINT_POINT_LATITUDE = (33.7436,33.7406,33.7255,33.7251, 33.6695,33.1971,32.7237,32.248,31.7716, 31.2939,30.8148,30.3351,29.854,29.3718, 28.8886,28.4043,27.9188,27.4323,26.7351 ,25.9154,25.093,24.681,24.2685,23.8554, 23.4417,23.0274,22.4051,21.7818,21.3655 ,20.9472,20.3228,19.905,19.4865,19.0682 ,18.4405,18.0207,17.6008,17.1808, 16.7606,16.3406,15.7106,15.2895,14.6581 ,14.0241,13.3913,12.7567,12.1219, 11.9103,11.8672,11.8644,11.8592,11.8591 ,11.8599,12.2827,12.7055,13.3397, 13.7621,14.1848,14.6077,15.2325,15.6587 ,16.2936,16.7142,17.1348,17.7653, 18.1857,18.605,19.0245,19.4437,19.8623, 20.2804,20.6982,21.1157,21.5326,21.9491 ,22.5729,22.9879,23.4026,24.0239, 24.4373,24.8503,25.2626,25.6741,26.0851 ,26.9051,27.635,28.1217,28.6073,29.0921 ,29.5759,30.0586,30.5399,31.0204, 31.4998,31.9779,32.4549,32.9302,33.4047 ,33.6415,33.7436)
FOOTPRINT_POINT_LONGITUDE = (181.96,181.349,180.299,180.283,180.256 ,180.274,180.291,180.307,180.323, 180.338,180.352,180.366,180.379,180.391 ,180.403,180.414,180.424,180.434, 180.448,180.461,180.474,180.479,180.485 ,180.489,180.494,180.498,180.504, 180.509,180.511,180.513,180.517,180.518 ,180.519,180.52,180.522,180.522,180.521 ,180.521,180.52,180.52,180.518,180.516, 180.514,180.509,180.505,180.5,180.493, 180.491,180.491,181.24,181.794,181.806, 181.81,181.812,181.814,181.817,181.82, 181.822,181.824,181.83,181.831,181.834, 181.836,181.839,181.843,181.846,181.849 ,181.852,181.855,181.858,181.861, 181.864,181.867,181.87,181.874,181.878, 181.882,181.885,181.891,181.894,181.898 ,181.901,181.905,181.909,181.916, 181.923,181.927,181.932,181.937,181.942 ,181.946,181.951,181.956,181.961, 181.966,181.971,181.976,181.981,181.984 ,181.96)
ORBIT_NUMBER = 15666
ORBITAL_ECCENTRICITY = 0.576
ORBITAL_INCLINATION = 86.93
ORBITAL_SEMIMAJOR_AXIS = 8841.95
PERIAPSIS_ALTITUDE = 356.24
PERIAPSIS_ARGUMENT_ANGLE = 159.18
PERIAPSIS_TIME = 2016-05-11T22:59:39.000Z
SPACECRAFT_ORIENTATION = (0.0,-1.0,0.0)
^MEX_ORIENTATION_DESC = "MEX_ORIENTATION_DESC.TXT"
SPACECRAFT_POINTING_MODE = NADIR
^MEX_POINTING_DESC = "MEX_POINTING_DESC.TXT"
RIGHT_ASCENSION = -1e+32
DECLINATION = -1e+32
OFFSET_ANGLE = -1e+32
SPACECRAFT_SOLAR_DISTANCE = 2.29694e+08
TARGET_NAME = MARS
/* CAMERA DATA ELEMENTS */
DETECTOR_TEMPERATURE = 19.39
FOCAL_PLANE_TEMPERATURE = 9.3989
INST_CMPRS_NAME = "DISCRETE COSINE TRANSFORMATION (DCT)"
INST_CMPRS_RATIO = 5.59413
INST_CMPRS_QUALITY = 0
INST_CMPRS_QUANTZ_TBL_ID = 0
INSTRUMENT_TEMPERATURE = 12.4574
LENS_TEMPERATURE = 9.8067
MACROPIXEL_SIZE = 4
MISSING_FRAMES = 0
PIXEL_SUBSAMPLING_FLAG = N
SIGNAL_CHAIN_ID = 2
/* RADIOMETRIC DATA ELEMENTS */
BANDWIDTH = 81.0
CENTER_FILTER_WAVELENGTH = 955.5
RADIANCE_OFFSET = 0.301936
RADIANCE_SCALING_FACTOR = 0.00450521
REFLECTANCE_SCALING_FACTOR = 0.000512795
MEX:REFLECTANCE_OFFSET = 0.0343671
/* IMAGE OBJECT DEFINITIONS */
OBJECT = IMAGE
  INTERCHANGE_FORMAT = BINARY
  LINES = 25893
  LINE_SAMPLES = 1671
  SAMPLE_TYPE = UNSIGNED_INTEGER
  SAMPLE_BITS = 8
  BANDS = 1
  BAND_STORAGE_TYPE = BAND_SEQUENTIAL
  MAXIMUM = 255
  MEAN = 77.7838
  MINIMUM = 1
  STANDARD_DEVIATION = 18.496
END_OBJECT = IMAGE
/* MAP OBJECT DEFINITIONS */
OBJECT = IMAGE_MAP_PROJECTION
  ^DATA_SET_MAP_PROJECTION_CATALOG= "DSMAP.CAT"
  A_AXIS_RADIUS = 3396.0
  B_AXIS_RADIUS = 3396.0
  C_AXIS_RADIUS = 3396.0
  CENTER_LATITUDE = 0.0
  CENTER_LONGITUDE = 181.0
  COORDINATE_SYSTEM_NAME = PLANETOGRAPHIC
  COORDINATE_SYSTEM_TYPE = "BODY-FIXED ROTATING"
  EASTERNMOST_LONGITUDE = 181.984
  FIRST_STANDARD_PARALLEL = "N/A"
  LINE_FIRST_PIXEL = 1
  LINE_LAST_PIXEL = 25893
  LINE_PROJECTION_OFFSET = 39972.375
  MAP_PROJECTION_ROTATION = 0.0
  MAP_PROJECTION_TYPE = SINUSOIDAL
  MAP_RESOLUTION = 1185.42760773333
  MAP_SCALE = 0.05
  MAXIMUM_LATITUDE = 33.7436
  MINIMUM_LATITUDE = 11.8591
  POSITIVE_LONGITUDE_DIRECTION = EAST
  REFERENCE_LATITUDE = "N/A"
  REFERENCE_LONGITUDE = "N/A"
  SAMPLE_FIRST_PIXEL = 1
  SAMPLE_LAST_PIXEL = 1671
  SAMPLE_PROJECTION_OFFSET = 715.625
  SECOND_STANDARD_PARALLEL = "N/A"
  WESTERNMOST_LONGITUDE = 180.256
END_OBJECT = IMAGE_MAP_PROJECTION
END
