PDS_VERSION_ID = PDS3
/* FILE DATA ELEMENTS */
RECORD_TYPE = UNDEFINED
/* POINTERS TO DATA OBJECTS */
^IMAGE = ("HF665_0000_P14.TIF")
/* IDENTIFICATION DATA ELEMENTS */
DATA_SET_ID = "MEX-M-HRSC-4-REFDR-MAPPROJECT-EXT5-V4.0"
DATA_SET_NAME = "MARS EXPRESS HRSC MAP PROJECTED REFDR EXTENSION5 V4.0"
DETECTOR_ID = MEX_HRSC_P1
EVENT_TYPE = "MARS-REGIONAL-MAPPING-Vo-Te"
INSTRUMENT_HOST_ID = MEX
INSTRUMENT_HOST_NAME = "MARS EXPRESS"
INSTRUMENT_ID = HRSC
INSTRUMENT_NAME = "HIGH RESOLUTION STEREO CAMERA"
MISSION_NAME = "MARS EXPRESS"
MISSION_PHASE_NAME = ME_Phase_34
PROCESSING_LEVEL_ID = 4
PRODUCT_CREATION_TIME = 2023-01-31T07:53:46.000Z
PRODUCT_ID = "HF665_0000_P14.TIF"
RELEASE_ID = 0004
REVISION_ID = 0000
/* QUALITY DATA ELEMENTS */
DATA_QUALITY_ID = 1
DATA_QUALITY_DESC = "Data calculated based on original SPICE kernels"
/* TIME DATA ELEMENTS */
SPACECRAFT_CLOCK_START_COUNT = "1/0411061944.08294"
SPACECRAFT_CLOCK_STOP_COUNT = "1/0411062344.48043"
START_TIME = 2016-05-11T15:55:39.483Z
STOP_TIME = 2016-05-11T15:58:15.583Z
/* ORBITAL DATA ELEMENTS */
ASCENDING_NODE_LONGITUDE = 279.61
MAXIMUM_RESOLUTION = 0.03
FOOTPRINT_POINT_LATITUDE = (35.5605,35.5549,35.544,35.5362,35.5276 ,35.5103,35.5096,35.4872,35.1893, 34.9898,34.6906,34.3921,34.0031,33.8089 ,33.6142,33.4188,33.2235,33.0278, 32.8319,32.6357,32.3412,32.1447,31.9478 ,31.7509,31.5537,31.3564,31.159,30.9614 ,30.7636,30.5656,30.3674,30.0696, 29.7717,29.573,29.3742,29.1751,28.9757, 28.7765,28.4749,28.1774,27.8769,27.6766 ,27.4761,27.2755,27.0746,26.8788,26.626 ,26.2887,25.8663,25.7817,25.7539, 25.7646,25.7712,25.7769,25.7822,25.7824 ,25.7829,26.2083,26.5464,26.8838, 27.1752,27.3764,27.6755,27.8786,28.079, 28.2795,28.4797,28.679,28.8774,29.179, 29.4784,29.6779,29.8773,30.0764,30.2751 ,30.4739,30.6724,30.8707,31.1679, 31.3657,31.5635,31.761,31.9582,32.1555, 32.3525,32.5492,32.7458,33.0405,33.2364 ,33.5304,33.726,33.9217,34.2148,34.4102 ,34.7076,34.9087,35.1093,35.4078, 35.5078,35.5605)
FOOTPRINT_POINT_LONGITUDE = (283.77,283.499,283.055,282.781,282.506 ,282.021,282.004,281.98,281.995,282.004 ,282.019,282.03,282.049,282.058,282.067 ,282.076,282.084,282.092,282.101, 282.109,282.12,282.128,282.136,282.143, 282.15,282.157,282.165,282.172,282.179, 282.185,282.192,282.201,282.211,282.217 ,282.224,282.229,282.235,282.241, 282.248,282.258,282.266,282.271,282.276 ,282.281,282.285,282.29,282.296,282.303 ,282.312,282.313,282.314,282.704, 282.981,283.406,283.72,283.733,283.738, 283.74,283.741,283.742,283.744,283.744, 283.746,283.746,283.747,283.748,283.749 ,283.75,283.751,283.752,283.753,283.754 ,283.755,283.755,283.756,283.757, 283.758,283.759,283.76,283.761,283.761, 283.762,283.763,283.764,283.764,283.765 ,283.766,283.767,283.768,283.769,283.77 ,283.771,283.772,283.772,283.773, 283.773,283.774,283.775,283.775,283.77)
ORBIT_NUMBER = 15665
ORBITAL_ECCENTRICITY = 0.576
ORBITAL_INCLINATION = 86.92
ORBITAL_SEMIMAJOR_AXIS = 8853.16
PERIAPSIS_ALTITUDE = 355.67
PERIAPSIS_ARGUMENT_ANGLE = 159.37
PERIAPSIS_TIME = 2016-05-11T15:59:57.000Z
SPACECRAFT_ORIENTATION = (0.0,-1.0,0.0)
^MEX_ORIENTATION_DESC = "MEX_ORIENTATION_DESC.TXT"
SPACECRAFT_POINTING_MODE = ACROSSTRACK
^MEX_POINTING_DESC = "MEX_POINTING_DESC.TXT"
RIGHT_ASCENSION = -1e+32
DECLINATION = -1e+32
OFFSET_ANGLE = -0.4
SPACECRAFT_SOLAR_DISTANCE = 2.2975e+08
TARGET_NAME = MARS
/* CAMERA DATA ELEMENTS */
DETECTOR_TEMPERATURE = 17.7588
FOCAL_PLANE_TEMPERATURE = 7.9716
INST_CMPRS_NAME = "DISCRETE COSINE TRANSFORMATION (DCT)"
INST_CMPRS_RATIO = 4.7142
INST_CMPRS_QUALITY = 0
INST_CMPRS_QUANTZ_TBL_ID = 0
INSTRUMENT_TEMPERATURE = 11.6418
LENS_TEMPERATURE = 8.3794
MACROPIXEL_SIZE = 2
MISSING_FRAMES = 0
PIXEL_SUBSAMPLING_FLAG = N
SIGNAL_CHAIN_ID = 3
/* RADIOMETRIC DATA ELEMENTS */
BANDWIDTH = 174.0
CENTER_FILTER_WAVELENGTH = 675.0
RADIANCE_OFFSET = 1.3101
RADIANCE_SCALING_FACTOR = 0.0176148
REFLECTANCE_SCALING_FACTOR = 0.000500125
MEX:REFLECTANCE_OFFSET = 0.0371968
/* IMAGE OBJECT DEFINITIONS */
OBJECT = IMAGE
  INTERCHANGE_FORMAT = BINARY
  LINES = 26941
  LINE_SAMPLES = 3605
  SAMPLE_TYPE = UNSIGNED_INTEGER
  SAMPLE_BITS = 8
  BANDS = 1
  BAND_STORAGE_TYPE = BAND_SEQUENTIAL
  MAXIMUM = 255
  MEAN = 79.0874
  MINIMUM = 1
  STANDARD_DEVIATION = 18.4727
END_OBJECT = IMAGE
/* MAP OBJECT DEFINITIONS */
OBJECT = IMAGE_MAP_PROJECTION
  ^DATA_SET_MAP_PROJECTION_CATALOG= "DSMAP.CAT"
  A_AXIS_RADIUS = 3396.0
  B_AXIS_RADIUS = 3396.0
  C_AXIS_RADIUS = 3396.0
  CENTER_LATITUDE = 0.0
  CENTER_LONGITUDE = 283.0
  COORDINATE_SYSTEM_NAME = PLANETOGRAPHIC
  COORDINATE_SYSTEM_TYPE = "BODY-FIXED ROTATING"
  EASTERNMOST_LONGITUDE = 283.775
  FIRST_STANDARD_PARALLEL = "N/A"
  LINE_FIRST_PIXEL = 1
  LINE_LAST_PIXEL = 26941
  LINE_PROJECTION_OFFSET = 88003.25
  MAP_PROJECTION_ROTATION = 0.0
  MAP_PROJECTION_TYPE = SINUSOIDAL
  MAP_RESOLUTION = 2370.85521546667
  MAP_SCALE = 0.025
  MAXIMUM_LATITUDE = 35.5605
  MINIMUM_LATITUDE = 25.7539
  POSITIVE_LONGITUDE_DIRECTION = EAST
  REFERENCE_LATITUDE = "N/A"
  REFERENCE_LONGITUDE = "N/A"
  SAMPLE_FIRST_PIXEL = 1
  SAMPLE_LAST_PIXEL = 3605
  SAMPLE_PROJECTION_OFFSET = 2044.75
  SECOND_STANDARD_PARALLEL = "N/A"
  WESTERNMOST_LONGITUDE = 281.98
END_OBJECT = IMAGE_MAP_PROJECTION
END
