PDS_VERSION_ID = PDS3
/* FILE DATA ELEMENTS */
RECORD_TYPE = UNDEFINED
/* POINTERS TO DATA OBJECTS */
^IMAGE = ("HF665_0000_IR4.TIF")
/* IDENTIFICATION DATA ELEMENTS */
DATA_SET_ID = "MEX-M-HRSC-4-REFDR-MAPPROJECT-EXT5-V4.0"
DATA_SET_NAME = "MARS EXPRESS HRSC MAP PROJECTED REFDR EXTENSION5 V4.0"
DETECTOR_ID = MEX_HRSC_IR
EVENT_TYPE = "MARS-REGIONAL-MAPPING-Vo-Te"
INSTRUMENT_HOST_ID = MEX
INSTRUMENT_HOST_NAME = "MARS EXPRESS"
INSTRUMENT_ID = HRSC
INSTRUMENT_NAME = "HIGH RESOLUTION STEREO CAMERA"
MISSION_NAME = "MARS EXPRESS"
MISSION_PHASE_NAME = ME_Phase_34
PROCESSING_LEVEL_ID = 4
PRODUCT_CREATION_TIME = 2023-01-31T07:53:46.000Z
PRODUCT_ID = "HF665_0000_IR4.TIF"
RELEASE_ID = 0004
REVISION_ID = 0000
/* QUALITY DATA ELEMENTS */
DATA_QUALITY_ID = 1
DATA_QUALITY_DESC = "Data calculated based on original SPICE kernels"
/* TIME DATA ELEMENTS */
SPACECRAFT_CLOCK_START_COUNT = "1/0411061944.08294"
SPACECRAFT_CLOCK_STOP_COUNT = "1/0411062344.48043"
START_TIME = 2016-05-11T15:55:39.479Z
STOP_TIME = 2016-05-11T15:58:10.017Z
/* ORBITAL DATA ELEMENTS */
ASCENDING_NODE_LONGITUDE = 279.61
MAXIMUM_RESOLUTION = 0.0612
FOOTPRINT_POINT_LATITUDE = (35.1513,35.1452,35.1384,35.1307, 35.1223,35.1129,35.0959,35.0952,35.0665 ,34.8771,34.6891,34.4996,34.2151, 34.0272,33.6596,33.2899,32.9192,32.5476 ,32.3615,32.1753,31.9888,31.8023, 31.6156,31.4285,31.2414,31.0542,30.8668 ,30.6792,30.4913,30.3032,30.1149, 29.9266,29.7381,29.4553,29.2666,29.0775 ,28.8883,28.699,28.507,28.3203,28.035, 27.8448,27.6545,27.4639,27.2733,27.0826 ,26.8916,26.7004,26.5131,26.1924, 25.8711,25.7906,25.7386,25.7473,25.7584 ,25.7652,25.7719,25.7721,25.773,26.1784 ,26.4997,26.7731,26.9643,27.1556, 27.5321,27.7282,27.9193,28.1097,28.3949 ,28.6791,28.8669,29.0581,29.3428, 29.5327,29.722,29.9111,30.1,30.2885, 30.4771,30.6651,30.8533,31.0412,31.229, 31.4164,31.6973,31.8844,32.0714,32.2579 ,32.5377,32.9089,33.0957,33.4668, 33.7448,34.0223,34.209,34.4943,34.6846, 34.9705,35.0654,35.1513)
FOOTPRINT_POINT_LONGITUDE = (283.776,283.516,283.256,282.994, 282.731,282.468,282.036,282.02,281.997, 282.006,282.016,282.024,282.037,282.045 ,282.063,282.079,282.095,282.11,282.118 ,282.125,282.132,282.139,282.147, 282.153,282.16,282.167,282.174,282.18, 282.187,282.193,282.199,282.205,282.211 ,282.22,282.226,282.232,282.237,282.243 ,282.247,282.254,282.261,282.266, 282.271,282.276,282.281,282.285,282.29, 282.294,282.298,282.305,282.312,282.314 ,282.315,282.583,282.97,283.315,283.723 ,283.736,283.741,283.742,283.743, 283.745,283.745,283.746,283.749,283.749 ,283.75,283.751,283.752,283.753,283.755 ,283.755,283.756,283.757,283.758, 283.759,283.76,283.76,283.761,283.762, 283.763,283.764,283.765,283.766,283.767 ,283.768,283.769,283.769,283.771, 283.773,283.773,283.775,283.776,283.777 ,283.778,283.779,283.78,283.78,283.781, 283.776)
ORBIT_NUMBER = 15665
ORBITAL_ECCENTRICITY = 0.576
ORBITAL_INCLINATION = 86.92
ORBITAL_SEMIMAJOR_AXIS = 8853.16
PERIAPSIS_ALTITUDE = 355.67
PERIAPSIS_ARGUMENT_ANGLE = 159.37
PERIAPSIS_TIME = 2016-05-11T15:59:57.000Z
SPACECRAFT_ORIENTATION = (0.0,-1.0,0.0)
^MEX_ORIENTATION_DESC = "MEX_ORIENTATION_DESC.TXT"
SPACECRAFT_POINTING_MODE = ACROSSTRACK
^MEX_POINTING_DESC = "MEX_POINTING_DESC.TXT"
RIGHT_ASCENSION = -1e+32
DECLINATION = -1e+32
OFFSET_ANGLE = -0.4
SPACECRAFT_SOLAR_DISTANCE = 2.2975e+08
TARGET_NAME = MARS
/* CAMERA DATA ELEMENTS */
DETECTOR_TEMPERATURE = 17.7588
FOCAL_PLANE_TEMPERATURE = 7.9716
INST_CMPRS_NAME = "DISCRETE COSINE TRANSFORMATION (DCT)"
INST_CMPRS_RATIO = 4.49719
INST_CMPRS_QUALITY = 0
INST_CMPRS_QUANTZ_TBL_ID = 0
INSTRUMENT_TEMPERATURE = 11.6418
LENS_TEMPERATURE = 8.3794
MACROPIXEL_SIZE = 4
MISSING_FRAMES = 0
PIXEL_SUBSAMPLING_FLAG = N
SIGNAL_CHAIN_ID = 2
/* RADIOMETRIC DATA ELEMENTS */
BANDWIDTH = 81.0
CENTER_FILTER_WAVELENGTH = 955.5
RADIANCE_OFFSET = 0.258139
RADIANCE_SCALING_FACTOR = 0.00520214
REFLECTANCE_SCALING_FACTOR = 0.000592413
MEX:REFLECTANCE_OFFSET = 0.0293965
/* IMAGE OBJECT DEFINITIONS */
OBJECT = IMAGE
  INTERCHANGE_FORMAT = BINARY
  LINES = 13471
  LINE_SAMPLES = 1803
  SAMPLE_TYPE = UNSIGNED_INTEGER
  SAMPLE_BITS = 8
  BANDS = 1
  BAND_STORAGE_TYPE = BAND_SEQUENTIAL
  MAXIMUM = 255
  MEAN = 86.1833
  MINIMUM = 1
  STANDARD_DEVIATION = 17.2614
END_OBJECT = IMAGE
/* MAP OBJECT DEFINITIONS */
OBJECT = IMAGE_MAP_PROJECTION
  ^DATA_SET_MAP_PROJECTION_CATALOG= "DSMAP.CAT"
  A_AXIS_RADIUS = 3396.0
  B_AXIS_RADIUS = 3396.0
  C_AXIS_RADIUS = 3396.0
  CENTER_LATITUDE = 0.0
  CENTER_LONGITUDE = 283.0
  COORDINATE_SYSTEM_NAME = PLANETOGRAPHIC
  COORDINATE_SYSTEM_TYPE = "BODY-FIXED ROTATING"
  EASTERNMOST_LONGITUDE = 283.781
  FIRST_STANDARD_PARALLEL = "N/A"
  LINE_FIRST_PIXEL = 1
  LINE_LAST_PIXEL = 13471
  LINE_PROJECTION_OFFSET = 44001.375
  MAP_PROJECTION_ROTATION = 0.0
  MAP_PROJECTION_TYPE = SINUSOIDAL
  MAP_RESOLUTION = 1185.42760773333
  MAP_SCALE = 0.05
  MAXIMUM_LATITUDE = 35.1513
  MINIMUM_LATITUDE = 25.7386
  POSITIVE_LONGITUDE_DIRECTION = EAST
  REFERENCE_LATITUDE = "N/A"
  REFERENCE_LONGITUDE = "N/A"
  SAMPLE_FIRST_PIXEL = 1
  SAMPLE_LAST_PIXEL = 1803
  SAMPLE_PROJECTION_OFFSET = 1022.125
  SECOND_STANDARD_PARALLEL = "N/A"
  WESTERNMOST_LONGITUDE = 281.997
END_OBJECT = IMAGE_MAP_PROJECTION
END
