PDS_VERSION_ID = PDS3
/* FILE DATA ELEMENTS */
RECORD_TYPE = UNDEFINED
/* POINTERS TO DATA OBJECTS */
^IMAGE = ("HF663_0000_RE4.TIF")
/* IDENTIFICATION DATA ELEMENTS */
DATA_SET_ID = "MEX-M-HRSC-4-REFDR-MAPPROJECT-EXT5-V4.0"
DATA_SET_NAME = "MARS EXPRESS HRSC MAP PROJECTED REFDR EXTENSION5 V4.0"
DETECTOR_ID = MEX_HRSC_RED
EVENT_TYPE = "MARS-REGIONAL-MAPPING-Vo-Pf"
INSTRUMENT_HOST_ID = MEX
INSTRUMENT_HOST_NAME = "MARS EXPRESS"
INSTRUMENT_ID = HRSC
INSTRUMENT_NAME = "HIGH RESOLUTION STEREO CAMERA"
MISSION_NAME = "MARS EXPRESS"
MISSION_PHASE_NAME = ME_Phase_34
PROCESSING_LEVEL_ID = 4
PRODUCT_CREATION_TIME = 2023-01-31T07:53:46.000Z
PRODUCT_ID = "HF663_0000_RE4.TIF"
RELEASE_ID = 0004
REVISION_ID = 0000
/* QUALITY DATA ELEMENTS */
DATA_QUALITY_ID = 1
DATA_QUALITY_DESC = "Data calculated based on original SPICE kernels"
/* TIME DATA ELEMENTS */
SPACECRAFT_CLOCK_START_COUNT = "1/0411011489.07316"
SPACECRAFT_CLOCK_STOP_COUNT = "1/0411011762.55364"
START_TIME = 2016-05-11T01:53:18.653Z
STOP_TIME = 2016-05-11T01:56:01.895Z
/* ORBITAL DATA ELEMENTS */
ASCENDING_NODE_LONGITUDE = 279.65
MAXIMUM_RESOLUTION = 0.0709
FOOTPRINT_POINT_LATITUDE = (49.2946,49.2827,49.2692,49.2586, 49.2471,49.2254,49.2246,49.3068,49.0739 ,48.8417,48.6133,48.3848,48.1559, 47.9283,47.5916,47.3673,47.1427,46.9212 ,46.591,46.3706,46.0413,45.8253,45.5008 ,45.2842,45.0692,44.8579,44.6462, 44.4345,44.2224,44.0125,43.8054,43.598, 43.3904,43.0788,42.8739,42.671,42.3661, 42.1628,41.9596,41.7582,41.3612,41.0631 ,40.8644,40.567,40.0812,39.7899,39.4011 ,39.0189,38.924,38.8312,38.8381,38.8447 ,38.855,38.8621,38.8685,38.8688,38.8699 ,39.25,39.5408,40.1254,40.612,40.91, 41.1094,41.3089,41.508,41.7071,41.9066, 42.1105,42.3145,42.5186,42.7222,43.0275 ,43.2355,43.4438,43.6518,43.8596, 44.0676,44.2783,44.491,44.7039,44.9164, 45.1289,45.3447,45.6701,45.8874,46.104, 46.3238,46.6558,46.8771,47.0979,47.4354 ,47.6608,47.886,48.2272,48.457,48.6866, 48.9158,49.1497,49.2667,49.2946)
FOOTPRINT_POINT_LONGITUDE = (129.344,128.732,128.149,127.745, 127.343,126.664,126.639,126.595,126.62, 126.645,126.669,126.692,126.715,126.737 ,126.77,126.791,126.812,126.832,126.862 ,126.881,126.91,126.928,126.955,126.972 ,126.989,127.006,127.022,127.038, 127.054,127.069,127.084,127.099,127.113 ,127.135,127.149,127.162,127.182, 127.195,127.207,127.22,127.244,127.261, 127.272,127.289,127.316,127.331,127.351 ,127.37,127.375,127.379,127.661,127.962 ,128.477,128.853,129.266,129.284,129.29 ,129.294,129.297,129.304,129.309, 129.312,129.315,129.317,129.319,129.321 ,129.323,129.325,129.328,129.33,129.333 ,129.336,129.338,129.34,129.343,129.345 ,129.347,129.349,129.352,129.354, 129.356,129.359,129.361,129.364,129.367 ,129.369,129.372,129.375,129.378,129.38 ,129.383,129.386,129.388,129.391, 129.394,129.396,129.398,129.401,129.402 ,129.344)
ORBIT_NUMBER = 15663
ORBITAL_ECCENTRICITY = 0.576
ORBITAL_INCLINATION = 86.91
ORBITAL_SEMIMAJOR_AXIS = 8850.71
PERIAPSIS_ALTITUDE = 355.62
PERIAPSIS_ARGUMENT_ANGLE = 159.71
PERIAPSIS_TIME = 2016-05-11T02:00:19.000Z
SPACECRAFT_ORIENTATION = (0.0,-1.0,0.0)
^MEX_ORIENTATION_DESC = "MEX_ORIENTATION_DESC.TXT"
SPACECRAFT_POINTING_MODE = ACROSSTRACK
^MEX_POINTING_DESC = "MEX_POINTING_DESC.TXT"
RIGHT_ASCENSION = -1e+32
DECLINATION = -1e+32
OFFSET_ANGLE = 0.269
SPACECRAFT_SOLAR_DISTANCE = 2.29862e+08
TARGET_NAME = MARS
/* CAMERA DATA ELEMENTS */
DETECTOR_TEMPERATURE = 18.7783
FOCAL_PLANE_TEMPERATURE = 7.7677
INST_CMPRS_NAME = "DISCRETE COSINE TRANSFORMATION (DCT)"
INST_CMPRS_RATIO = 5.65116
INST_CMPRS_QUALITY = 0
INST_CMPRS_QUANTZ_TBL_ID = 0
INSTRUMENT_TEMPERATURE = 11.234
LENS_TEMPERATURE = 8.5833
MACROPIXEL_SIZE = 4
MISSING_FRAMES = 0
PIXEL_SUBSAMPLING_FLAG = N
SIGNAL_CHAIN_ID = 2
/* RADIOMETRIC DATA ELEMENTS */
BANDWIDTH = 48.0
CENTER_FILTER_WAVELENGTH = 748.0
RADIANCE_OFFSET = 0.406253
RADIANCE_SCALING_FACTOR = 0.0039346
REFLECTANCE_SCALING_FACTOR = 0.000474423
MEX:REFLECTANCE_OFFSET = 0.0489849
/* IMAGE OBJECT DEFINITIONS */
OBJECT = IMAGE
  INTERCHANGE_FORMAT = BINARY
  LINES = 12492
  LINE_SAMPLES = 2368
  SAMPLE_TYPE = UNSIGNED_INTEGER
  SAMPLE_BITS = 8
  BANDS = 1
  BAND_STORAGE_TYPE = BAND_SEQUENTIAL
  MAXIMUM = 255
  MEAN = 75.542
  MINIMUM = 1
  STANDARD_DEVIATION = 29.9742
END_OBJECT = IMAGE
/* MAP OBJECT DEFINITIONS */
OBJECT = IMAGE_MAP_PROJECTION
  ^DATA_SET_MAP_PROJECTION_CATALOG= "DSMAP.CAT"
  A_AXIS_RADIUS = 3396.0
  B_AXIS_RADIUS = 3396.0
  C_AXIS_RADIUS = 3396.0
  CENTER_LATITUDE = 0.0
  CENTER_LONGITUDE = 128.0
  COORDINATE_SYSTEM_NAME = PLANETOGRAPHIC
  COORDINATE_SYSTEM_TYPE = "BODY-FIXED ROTATING"
  EASTERNMOST_LONGITUDE = 129.402
  FIRST_STANDARD_PARALLEL = "N/A"
  LINE_FIRST_PIXEL = 1
  LINE_LAST_PIXEL = 12492
  LINE_PROJECTION_OFFSET = 58522.625
  MAP_PROJECTION_ROTATION = 0.0
  MAP_PROJECTION_TYPE = SINUSOIDAL
  MAP_RESOLUTION = 1185.42760773333
  MAP_SCALE = 0.05
  MAXIMUM_LATITUDE = 49.3068
  MINIMUM_LATITUDE = 38.8312
  POSITIVE_LONGITUDE_DIRECTION = EAST
  REFERENCE_LATITUDE = "N/A"
  REFERENCE_LONGITUDE = "N/A"
  SAMPLE_FIRST_PIXEL = 1
  SAMPLE_LAST_PIXEL = 2368
  SAMPLE_PROJECTION_OFFSET = 1153.125
  SECOND_STANDARD_PARALLEL = "N/A"
  WESTERNMOST_LONGITUDE = 126.595
END_OBJECT = IMAGE_MAP_PROJECTION
END
