PDS_VERSION_ID = PDS3
/* FILE DATA ELEMENTS */
RECORD_TYPE = UNDEFINED
/* POINTERS TO DATA OBJECTS */
^IMAGE = ("HF663_0000_GR4.TIF")
/* IDENTIFICATION DATA ELEMENTS */
DATA_SET_ID = "MEX-M-HRSC-4-REFDR-MAPPROJECT-EXT5-V4.0"
DATA_SET_NAME = "MARS EXPRESS HRSC MAP PROJECTED REFDR EXTENSION5 V4.0"
DETECTOR_ID = MEX_HRSC_GREEN
EVENT_TYPE = "MARS-REGIONAL-MAPPING-Vo-Pf"
INSTRUMENT_HOST_ID = MEX
INSTRUMENT_HOST_NAME = "MARS EXPRESS"
INSTRUMENT_ID = HRSC
INSTRUMENT_NAME = "HIGH RESOLUTION STEREO CAMERA"
MISSION_NAME = "MARS EXPRESS"
MISSION_PHASE_NAME = ME_Phase_34
PROCESSING_LEVEL_ID = 4
PRODUCT_CREATION_TIME = 2023-01-31T07:53:46.000Z
PRODUCT_ID = "HF663_0000_GR4.TIF"
RELEASE_ID = 0004
REVISION_ID = 0000
/* QUALITY DATA ELEMENTS */
DATA_QUALITY_ID = 1
DATA_QUALITY_DESC = "Data calculated based on original SPICE kernels"
/* TIME DATA ELEMENTS */
SPACECRAFT_CLOCK_START_COUNT = "1/0411011489.07316"
SPACECRAFT_CLOCK_STOP_COUNT = "1/0411011762.55364"
START_TIME = 2016-05-11T01:52:26.960Z
STOP_TIME = 2016-05-11T01:55:22.366Z
/* ORBITAL DATA ELEMENTS */
ASCENDING_NODE_LONGITUDE = 279.65
MAXIMUM_RESOLUTION = 0.0707
FOOTPRINT_POINT_LATITUDE = (49.3738,49.3677,49.3614,49.3551, 49.3458,49.3349,49.3171,49.3163,49.2988 ,49.0682,48.8379,48.611,48.3836,48.1562 ,47.9326,47.7086,47.3732,47.1528, 46.9321,46.6018,46.3847,46.1673,45.8415 ,45.6279,45.4141,45.1998,44.9868, 44.7765,44.566,44.3551,44.1453,43.9385, 43.7314,43.5241,43.2146,43.0112,42.8077 ,42.6038,42.299,41.8992,41.699,41.4986, 41.202,40.8091,40.3176,39.9323,39.5462, 38.9726,38.8781,38.8213,38.8263,38.8319 ,38.8349,38.8377,38.8393,38.8399, 38.8399,38.841,39.22,39.5097,39.8969, 40.2834,40.5776,40.9722,41.366,41.7669, 41.9678,42.1684,42.3687,42.6754,42.8799 ,43.0841,43.2881,43.5997,43.8077, 44.0155,44.223,44.4346,44.6461,44.8574, 45.0684,45.3907,45.6056,45.8202,46.037, 46.2555,46.4739,46.6918,46.9135,47.2462 ,47.4676,47.6928,47.9181,48.143,48.4847 ,48.7133,48.9415,49.1737,49.2897, 49.3738)
FOOTPRINT_POINT_LONGITUDE = (129.427,128.802,128.37,128.019,127.588 ,127.159,126.569,126.543,126.505, 126.532,126.558,126.583,126.608,126.632 ,126.656,126.679,126.714,126.736, 126.757,126.789,126.809,126.83,126.859, 126.878,126.897,126.916,126.934,126.951 ,126.968,126.985,127.002,127.018, 127.034,127.05,127.073,127.087,127.102, 127.116,127.138,127.164,127.178,127.191 ,127.209,127.234,127.263,127.285, 127.307,127.337,127.342,127.345,127.637 ,128.04,128.316,128.667,129.0,129.298, 129.316,129.323,129.328,129.332,129.338 ,129.343,129.348,129.354,129.359, 129.365,129.368,129.371,129.375,129.379 ,129.382,129.386,129.389,129.394, 129.396,129.4,129.403,129.406,129.41, 129.413,129.417,129.421,129.425,129.429 ,129.432,129.436,129.439,129.443, 129.446,129.452,129.455,129.459,129.463 ,129.467,129.472,129.476,129.48,129.484 ,129.486,129.427)
ORBIT_NUMBER = 15663
ORBITAL_ECCENTRICITY = 0.576
ORBITAL_INCLINATION = 86.91
ORBITAL_SEMIMAJOR_AXIS = 8850.71
PERIAPSIS_ALTITUDE = 355.62
PERIAPSIS_ARGUMENT_ANGLE = 159.71
PERIAPSIS_TIME = 2016-05-11T02:00:19.000Z
SPACECRAFT_ORIENTATION = (0.0,-1.0,0.0)
^MEX_ORIENTATION_DESC = "MEX_ORIENTATION_DESC.TXT"
SPACECRAFT_POINTING_MODE = ACROSSTRACK
^MEX_POINTING_DESC = "MEX_POINTING_DESC.TXT"
RIGHT_ASCENSION = -1e+32
DECLINATION = -1e+32
OFFSET_ANGLE = 0.269
SPACECRAFT_SOLAR_DISTANCE = 2.29862e+08
TARGET_NAME = MARS
/* CAMERA DATA ELEMENTS */
DETECTOR_TEMPERATURE = 18.5744
FOCAL_PLANE_TEMPERATURE = 7.7677
INST_CMPRS_NAME = "DISCRETE COSINE TRANSFORMATION (DCT)"
INST_CMPRS_RATIO = 5.28105
INST_CMPRS_QUALITY = 0
INST_CMPRS_QUANTZ_TBL_ID = 0
INSTRUMENT_TEMPERATURE = 11.234
LENS_TEMPERATURE = 8.5833
MACROPIXEL_SIZE = 4
MISSING_FRAMES = 0
PIXEL_SUBSAMPLING_FLAG = N
SIGNAL_CHAIN_ID = 2
/* RADIOMETRIC DATA ELEMENTS */
BANDWIDTH = 88.0
CENTER_FILTER_WAVELENGTH = 538.0
RADIANCE_OFFSET = 0.516362
RADIANCE_SCALING_FACTOR = 0.0037124
REFLECTANCE_SCALING_FACTOR = 0.000168882
MEX:REFLECTANCE_OFFSET = 0.0234899
/* IMAGE OBJECT DEFINITIONS */
OBJECT = IMAGE
  INTERCHANGE_FORMAT = BINARY
  LINES = 12492
  LINE_SAMPLES = 2368
  SAMPLE_TYPE = UNSIGNED_INTEGER
  SAMPLE_BITS = 8
  BANDS = 1
  BAND_STORAGE_TYPE = BAND_SEQUENTIAL
  MAXIMUM = 255
  MEAN = 89.254
  MINIMUM = 1
  STANDARD_DEVIATION = 21.9772
END_OBJECT = IMAGE
/* MAP OBJECT DEFINITIONS */
OBJECT = IMAGE_MAP_PROJECTION
  ^DATA_SET_MAP_PROJECTION_CATALOG= "DSMAP.CAT"
  A_AXIS_RADIUS = 3396.0
  B_AXIS_RADIUS = 3396.0
  C_AXIS_RADIUS = 3396.0
  CENTER_LATITUDE = 0.0
  CENTER_LONGITUDE = 128.0
  COORDINATE_SYSTEM_NAME = PLANETOGRAPHIC
  COORDINATE_SYSTEM_TYPE = "BODY-FIXED ROTATING"
  EASTERNMOST_LONGITUDE = 129.486
  FIRST_STANDARD_PARALLEL = "N/A"
  LINE_FIRST_PIXEL = 1
  LINE_LAST_PIXEL = 12492
  LINE_PROJECTION_OFFSET = 58522.625
  MAP_PROJECTION_ROTATION = 0.0
  MAP_PROJECTION_TYPE = SINUSOIDAL
  MAP_RESOLUTION = 1185.42760773333
  MAP_SCALE = 0.05
  MAXIMUM_LATITUDE = 49.3738
  MINIMUM_LATITUDE = 38.8213
  POSITIVE_LONGITUDE_DIRECTION = EAST
  REFERENCE_LATITUDE = "N/A"
  REFERENCE_LONGITUDE = "N/A"
  SAMPLE_FIRST_PIXEL = 1
  SAMPLE_LAST_PIXEL = 2368
  SAMPLE_PROJECTION_OFFSET = 1153.125
  SECOND_STANDARD_PARALLEL = "N/A"
  WESTERNMOST_LONGITUDE = 126.505
END_OBJECT = IMAGE_MAP_PROJECTION
END
