PDS_VERSION_ID = PDS3
/* FILE DATA ELEMENTS */
RECORD_TYPE = UNDEFINED
/* POINTERS TO DATA OBJECTS */
^IMAGE = ("HF657_0000_IR4.TIF")
/* IDENTIFICATION DATA ELEMENTS */
DATA_SET_ID = "MEX-M-HRSC-4-REFDR-MAPPROJECT-EXT5-V4.0"
DATA_SET_NAME = "MARS EXPRESS HRSC MAP PROJECTED REFDR EXTENSION5 V4.0"
DETECTOR_ID = MEX_HRSC_IR
EVENT_TYPE = "MARS-REGIONAL-MAPPING-Gl-Pf-Mw"
INSTRUMENT_HOST_ID = MEX
INSTRUMENT_HOST_NAME = "MARS EXPRESS"
INSTRUMENT_ID = HRSC
INSTRUMENT_NAME = "HIGH RESOLUTION STEREO CAMERA"
MISSION_NAME = "MARS EXPRESS"
MISSION_PHASE_NAME = ME_Phase_34
PROCESSING_LEVEL_ID = 4
PRODUCT_CREATION_TIME = 2023-01-31T07:53:46.000Z
PRODUCT_ID = "HF657_0000_IR4.TIF"
RELEASE_ID = 0004
REVISION_ID = 0000
/* QUALITY DATA ELEMENTS */
DATA_QUALITY_ID = 1
DATA_QUALITY_DESC = "Data calculated based on original SPICE kernels"
/* TIME DATA ELEMENTS */
SPACECRAFT_CLOCK_START_COUNT = "1/0410860363.08457"
SPACECRAFT_CLOCK_STOP_COUNT = "1/0410860644.24363"
START_TIME = 2016-05-09T07:53:01.899Z
STOP_TIME = 2016-05-09T07:56:14.629Z
/* ORBITAL DATA ELEMENTS */
ASCENDING_NODE_LONGITUDE = 279.77
MAXIMUM_RESOLUTION = 0.0761
FOOTPRINT_POINT_LATITUDE = (48.7719,48.7917,48.8005,48.8068, 48.8107,48.8122,48.8114,48.8112,48.7322 ,48.3762,48.1385,47.7854,47.55,47.3179, 46.9691,46.6249,46.3951,46.0566,45.8314 ,45.602,45.3799,45.1532,44.9305,44.7095 ,44.4897,44.2684,43.9382,43.7201, 43.3936,43.1787,42.9635,42.7478,42.5352 ,42.3241,42.1123,41.9002,41.6914,41.482 ,41.2721,41.063,40.8574,40.3441,39.9413 ,39.6314,39.2237,38.8301,38.5352, 38.0386,37.9399,37.904,37.8934,37.8805, 37.8687,37.8628,37.8483,37.8356,37.8352 ,37.8359,38.4265,38.7233,39.1214, 39.6309,40.038,40.4476,40.7564,40.9622, 41.1724,41.4857,41.6954,41.9087,42.1189 ,42.3337,42.5517,42.7593,43.0822, 43.4088,43.6292,43.8441,44.0614,44.2832 ,44.5062,44.7314,44.9532,45.1751,45.4, 45.7389,45.9641,46.1929,46.4203,46.6496 ,46.8796,47.1132,47.3463,47.5807,47.816 ,48.0517,48.2898,48.5288,48.6482, 48.7719)
FOOTPRINT_POINT_LONGITUDE = (24.7578,23.9825,23.5109,23.0433, 22.5801,22.1205,21.6642,21.6358,21.6368 ,21.6697,21.6912,21.7224,21.7426, 21.7622,21.791,21.8186,21.8366,21.8623, 21.879,21.8959,21.9118,21.928,21.9433, 21.9583,21.9729,21.9874,22.0088,22.0224 ,22.0423,22.0552,22.0678,22.0802, 22.0923,22.1039,22.1154,22.1266,22.1376 ,22.1485,22.1592,22.1695,22.1795, 22.2035,22.221,22.2353,22.2529,22.2682, 22.279,22.2981,22.3019,22.3032,22.7522, 23.1336,23.4241,23.6936,24.0475,24.3454 ,24.3649,24.3716,24.3955,24.41,24.4257, 24.4419,24.4557,24.474,24.4865,24.4946, 24.5019,24.5155,24.5233,24.5282,24.5399 ,24.5461,24.5485,24.5646,24.5791, 24.5887,24.5967,24.6104,24.6212,24.6292 ,24.638,24.6437,24.6547,24.6683,24.6782 ,24.6945,24.7081,24.7171,24.7315, 24.7441,24.7555,24.7673,24.7791,24.7904 ,24.8038,24.8163,24.8289,24.8415, 24.8477,24.7578)
ORBIT_NUMBER = 15657
ORBITAL_ECCENTRICITY = 0.576
ORBITAL_INCLINATION = 86.91
ORBITAL_SEMIMAJOR_AXIS = 8852.05
PERIAPSIS_ALTITUDE = 355.16
PERIAPSIS_ARGUMENT_ANGLE = 160.74
PERIAPSIS_TIME = 2016-05-09T08:01:42.000Z
SPACECRAFT_ORIENTATION = (0.0,-1.0,0.0)
^MEX_ORIENTATION_DESC = "MEX_ORIENTATION_DESC.TXT"
SPACECRAFT_POINTING_MODE = ACROSSTRACK
^MEX_POINTING_DESC = "MEX_POINTING_DESC.TXT"
RIGHT_ASCENSION = -1e+32
DECLINATION = -1e+32
OFFSET_ANGLE = 1.077
SPACECRAFT_SOLAR_DISTANCE = 2.30198e+08
TARGET_NAME = MARS
/* CAMERA DATA ELEMENTS */
DETECTOR_TEMPERATURE = 17.5549
FOCAL_PLANE_TEMPERATURE = 7.9716
INST_CMPRS_NAME = "DISCRETE COSINE TRANSFORMATION (DCT)"
INST_CMPRS_RATIO = 6.50718
INST_CMPRS_QUALITY = 0
INST_CMPRS_QUANTZ_TBL_ID = 0
INSTRUMENT_TEMPERATURE = 11.6418
LENS_TEMPERATURE = 8.5833
MACROPIXEL_SIZE = 4
MISSING_FRAMES = 0
PIXEL_SUBSAMPLING_FLAG = N
SIGNAL_CHAIN_ID = 2
/* RADIOMETRIC DATA ELEMENTS */
BANDWIDTH = 81.0
CENTER_FILTER_WAVELENGTH = 955.5
RADIANCE_OFFSET = 0.17598
RADIANCE_SCALING_FACTOR = 0.00438559
REFLECTANCE_SCALING_FACTOR = 0.000501377
MEX:REFLECTANCE_OFFSET = 0.0201187
/* IMAGE OBJECT DEFINITIONS */
OBJECT = IMAGE
  INTERCHANGE_FORMAT = BINARY
  LINES = 12892
  LINE_SAMPLES = 2344
  SAMPLE_TYPE = UNSIGNED_INTEGER
  SAMPLE_BITS = 8
  BANDS = 1
  BAND_STORAGE_TYPE = BAND_SEQUENTIAL
  MAXIMUM = 255
  MEAN = 75.609
  MINIMUM = 1
  STANDARD_DEVIATION = 26.9454
END_OBJECT = IMAGE
/* MAP OBJECT DEFINITIONS */
OBJECT = IMAGE_MAP_PROJECTION
  ^DATA_SET_MAP_PROJECTION_CATALOG= "DSMAP.CAT"
  A_AXIS_RADIUS = 3396.0
  B_AXIS_RADIUS = 3396.0
  C_AXIS_RADIUS = 3396.0
  CENTER_LATITUDE = 0.0
  CENTER_LONGITUDE = 23.0
  COORDINATE_SYSTEM_NAME = PLANETOGRAPHIC
  COORDINATE_SYSTEM_TYPE = "BODY-FIXED ROTATING"
  EASTERNMOST_LONGITUDE = 24.8477
  FIRST_STANDARD_PARALLEL = "N/A"
  LINE_FIRST_PIXEL = 1
  LINE_LAST_PIXEL = 12892
  LINE_PROJECTION_OFFSET = 57785.125
  MAP_PROJECTION_ROTATION = 0.0
  MAP_PROJECTION_TYPE = SINUSOIDAL
  MAP_RESOLUTION = 1185.42760773333
  MAP_SCALE = 0.05
  MAXIMUM_LATITUDE = 48.8122
  MINIMUM_LATITUDE = 37.8352
  POSITIVE_LONGITUDE_DIRECTION = EAST
  REFERENCE_LATITUDE = "N/A"
  REFERENCE_LONGITUDE = "N/A"
  SAMPLE_FIRST_PIXEL = 1
  SAMPLE_LAST_PIXEL = 2344
  SAMPLE_PROJECTION_OFFSET = 999.625
  SECOND_STANDARD_PARALLEL = "N/A"
  WESTERNMOST_LONGITUDE = 21.6358
END_OBJECT = IMAGE_MAP_PROJECTION
END
