PDS_VERSION_ID = PDS3
/* FILE DATA ELEMENTS */
RECORD_TYPE = UNDEFINED
/* POINTERS TO DATA OBJECTS */
^IMAGE = ("HF637_0000_S14.TIF")
/* IDENTIFICATION DATA ELEMENTS */
DATA_SET_ID = "MEX-M-HRSC-4-REFDR-MAPPROJECT-EXT5-V4.0"
DATA_SET_NAME = "MARS EXPRESS HRSC MAP PROJECTED REFDR EXTENSION5 V4.0"
DETECTOR_ID = MEX_HRSC_S1
EVENT_TYPE = "MARS-REGIONAL-MAPPING-Vo-Te"
INSTRUMENT_HOST_ID = MEX
INSTRUMENT_HOST_NAME = "MARS EXPRESS"
INSTRUMENT_ID = HRSC
INSTRUMENT_NAME = "HIGH RESOLUTION STEREO CAMERA"
MISSION_NAME = "MARS EXPRESS"
MISSION_PHASE_NAME = ME_Phase_34
PROCESSING_LEVEL_ID = 4
PRODUCT_CREATION_TIME = 2023-01-31T07:53:46.000Z
PRODUCT_ID = "HF637_0000_S14.TIF"
RELEASE_ID = 0004
REVISION_ID = 0000
/* QUALITY DATA ELEMENTS */
DATA_QUALITY_ID = 1
DATA_QUALITY_DESC = "Data calculated based on original SPICE kernels"
/* TIME DATA ELEMENTS */
SPACECRAFT_CLOCK_START_COUNT = "1/0410356390.48668"
SPACECRAFT_CLOCK_STOP_COUNT = "1/0410356972.35558"
START_TIME = 2016-05-03T11:53:18.000Z
STOP_TIME = 2016-05-03T12:00:00.933Z
/* ORBITAL DATA ELEMENTS */
ASCENDING_NODE_LONGITUDE = 280.14
MAXIMUM_RESOLUTION = 0.0417
FOOTPRINT_POINT_LATITUDE = (58.0441,58.0065,57.9614,57.9084, 57.8476,57.7787,57.6705,57.6652,57.5452 ,56.8255,56.3513,55.8799,55.4132,54.95, 54.4912,54.0359,53.5845,53.1373,52.6931 ,52.2466,51.7963,51.3425,50.907,50.4975 ,50.0851,49.6697,49.0467,48.6358, 48.2281,47.8232,47.4209,47.0222,46.6261 ,46.2334,45.843,45.4555,45.0722,44.6907 ,44.3118,43.9374,43.5644,43.1944, 42.6432,41.9165,41.3783,40.6682,39.9668 ,39.2746,38.5912,37.9151,37.7477, 37.5811,37.6479,37.687,37.7136,37.7146, 37.7155,38.5633,39.0739,39.7654,40.467, 41.1774,41.8967,42.2614,42.811,43.1789, 43.5519,44.1143,44.4923,44.8738,45.2585 ,45.6461,46.2341,46.6287,47.0284, 47.4305,47.8356,48.2437,48.6554,49.0715 ,49.4905,49.9125,50.3327,50.7492, 51.1635,51.6055,52.0659,52.523,52.9777, 53.4296,53.8863,54.3463,54.8113,55.2801 ,55.7528,56.229,56.7118,57.4428,57.6886 ,58.0441)
FOOTPRINT_POINT_LONGITUDE = (268.178,267.309,266.438,265.565, 264.691,263.814,262.604,262.549,262.459 ,262.692,262.838,262.978,263.111, 263.239,263.361,263.478,263.59,263.698, 263.801,263.902,263.999,264.094,264.182 ,264.263,264.342,264.419,264.53,264.601 ,264.67,264.736,264.799,264.86,264.918, 264.975,265.031,265.083,265.135,265.185 ,265.233,265.28,265.325,265.369,265.432 ,265.511,265.567,265.637,265.703, 265.766,265.825,265.88,265.893,265.907, 266.878,267.556,268.077,268.098,268.105 ,268.109,268.111,268.114,268.117,268.12 ,268.123,268.124,268.127,268.128,268.13 ,268.132,268.134,268.136,268.138, 268.139,268.142,268.144,268.145,268.147 ,268.149,268.151,268.153,268.154, 268.156,268.158,268.161,268.163,268.166 ,268.168,268.171,268.173,268.176, 268.179,268.182,268.185,268.188,268.191 ,268.195,268.199,268.203,268.209, 268.212,268.178)
ORBIT_NUMBER = 15637
ORBITAL_ECCENTRICITY = 0.577
ORBITAL_INCLINATION = 86.92
ORBITAL_SEMIMAJOR_AXIS = 8863.31
PERIAPSIS_ALTITUDE = 352.89
PERIAPSIS_ARGUMENT_ANGLE = 164.21
PERIAPSIS_TIME = 2016-05-03T12:06:32.000Z
SPACECRAFT_ORIENTATION = (0.0,-1.0,0.0)
^MEX_ORIENTATION_DESC = "MEX_ORIENTATION_DESC.TXT"
SPACECRAFT_POINTING_MODE = ACROSSTRACK
^MEX_POINTING_DESC = "MEX_POINTING_DESC.TXT"
RIGHT_ASCENSION = -1e+32
DECLINATION = -1e+32
OFFSET_ANGLE = -0.916
SPACECRAFT_SOLAR_DISTANCE = 2.3131e+08
TARGET_NAME = MARS
/* CAMERA DATA ELEMENTS */
DETECTOR_TEMPERATURE = 0.0
FOCAL_PLANE_TEMPERATURE = 0.0
INST_CMPRS_NAME = "DISCRETE COSINE TRANSFORMATION (DCT)"
INST_CMPRS_RATIO = 5.42023
INST_CMPRS_QUALITY = 0
INST_CMPRS_QUANTZ_TBL_ID = 0
INSTRUMENT_TEMPERATURE = 0.0
LENS_TEMPERATURE = 0.0
MACROPIXEL_SIZE = 2
MISSING_FRAMES = 0
PIXEL_SUBSAMPLING_FLAG = N
SIGNAL_CHAIN_ID = 1
/* RADIOMETRIC DATA ELEMENTS */
BANDWIDTH = 180.0
CENTER_FILTER_WAVELENGTH = 677.0
RADIANCE_OFFSET = 1.06211
RADIANCE_SCALING_FACTOR = 0.0230179
REFLECTANCE_SCALING_FACTOR = 0.000642543
MEX:REFLECTANCE_OFFSET = 0.0296488
/* IMAGE OBJECT DEFINITIONS */
OBJECT = IMAGE
  INTERCHANGE_FORMAT = BINARY
  LINES = 20635
  LINE_SAMPLES = 3863
  SAMPLE_TYPE = UNSIGNED_INTEGER
  SAMPLE_BITS = 8
  BANDS = 1
  BAND_STORAGE_TYPE = BAND_SEQUENTIAL
  MAXIMUM = 255
  MEAN = 74.2864
  MINIMUM = 1
  STANDARD_DEVIATION = 14.5716
END_OBJECT = IMAGE
/* MAP OBJECT DEFINITIONS */
OBJECT = IMAGE_MAP_PROJECTION
  ^DATA_SET_MAP_PROJECTION_CATALOG= "DSMAP.CAT"
  A_AXIS_RADIUS = 3396.0
  B_AXIS_RADIUS = 3396.0
  C_AXIS_RADIUS = 3396.0
  CENTER_LATITUDE = 0.0
  CENTER_LONGITUDE = 266.0
  COORDINATE_SYSTEM_NAME = PLANETOGRAPHIC
  COORDINATE_SYSTEM_TYPE = "BODY-FIXED ROTATING"
  EASTERNMOST_LONGITUDE = 268.212
  FIRST_STANDARD_PARALLEL = "N/A"
  LINE_FIRST_PIXEL = 1
  LINE_LAST_PIXEL = 20635
  LINE_PROJECTION_OFFSET = 68622.25
  MAP_PROJECTION_ROTATION = 0.0
  MAP_PROJECTION_TYPE = SINUSOIDAL
  MAP_RESOLUTION = 1185.42760773333
  MAP_SCALE = 0.05
  MAXIMUM_LATITUDE = 58.0441
  MINIMUM_LATITUDE = 37.5811
  POSITIVE_LONGITUDE_DIRECTION = EAST
  REFERENCE_LATITUDE = "N/A"
  REFERENCE_LONGITUDE = "N/A"
  SAMPLE_FIRST_PIXEL = 1
  SAMPLE_LAST_PIXEL = 3863
  SAMPLE_PROJECTION_OFFSET = 2032.75
  SECOND_STANDARD_PARALLEL = "N/A"
  WESTERNMOST_LONGITUDE = 262.459
END_OBJECT = IMAGE_MAP_PROJECTION
END
