PDS_VERSION_ID = PDS3
/* FILE DATA ELEMENTS */
RECORD_TYPE = UNDEFINED
/* POINTERS TO DATA OBJECTS */
^IMAGE = ("HF607_0000_S14.TIF")
/* IDENTIFICATION DATA ELEMENTS */
DATA_SET_ID = "MEX-M-HRSC-4-REFDR-MAPPROJECT-EXT5-V4.0"
DATA_SET_NAME = "MARS EXPRESS HRSC MAP PROJECTED REFDR EXTENSION5 V4.0"
DETECTOR_ID = MEX_HRSC_S1
EVENT_TYPE = "MARS-REGIONAL-MAPPING-Im-Pf"
INSTRUMENT_HOST_ID = MEX
INSTRUMENT_HOST_NAME = "MARS EXPRESS"
INSTRUMENT_ID = HRSC
INSTRUMENT_NAME = "HIGH RESOLUTION STEREO CAMERA"
MISSION_NAME = "MARS EXPRESS"
MISSION_PHASE_NAME = ME_Phase_34
PROCESSING_LEVEL_ID = 4
PRODUCT_CREATION_TIME = 2023-01-31T07:53:46.000Z
PRODUCT_ID = "HF607_0000_S14.TIF"
RELEASE_ID = 0004
REVISION_ID = 0000
/* QUALITY DATA ELEMENTS */
DATA_QUALITY_ID = 1
DATA_QUALITY_DESC = "Data calculated based on original SPICE kernels"
/* TIME DATA ELEMENTS */
SPACECRAFT_CLOCK_START_COUNT = "1/0409600494.09031"
SPACECRAFT_CLOCK_STOP_COUNT = "1/0409601021.16485"
START_TIME = 2016-04-24T17:55:01.488Z
STOP_TIME = 2016-04-24T18:01:13.532Z
/* ORBITAL DATA ELEMENTS */
ASCENDING_NODE_LONGITUDE = 280.71
MAXIMUM_RESOLUTION = 0.0673
FOOTPRINT_POINT_LATITUDE = (64.6892,64.6737,64.6377,64.609,64.5751 ,64.5361,64.4861,64.4363,64.3813, 64.3212,64.2558,64.1854,64.1097,64.0999 ,63.9385,63.4538,63.1327,62.8126, 62.4936,62.1762,61.8604,61.546,61.233, 60.9213,60.6111,60.302,59.9941,59.6885, 59.3846,58.93,58.6288,58.3289,58.0307, 57.7339,57.439,57.1448,56.8523,56.5611, 55.9839,55.269,54.7041,54.1447,53.5909, 53.0427,52.4994,51.9618,51.4293,50.771, 50.1213,49.6073,49.4799,49.442,49.481, 49.5326,49.5652,49.6016,49.6219,49.6349 ,49.6357,49.6368,50.1561,50.6816, 51.2118,51.7487,52.2909,52.839,53.3931, 53.9529,54.5193,55.0919,55.6704,55.9619 ,56.2554,56.5503,56.8473,57.1458,57.446 ,57.748,58.0509,58.3548,58.6614,58.9698 ,59.2798,59.592,59.9056,60.2214,60.5389 ,60.8582,61.1791,61.502,61.8266,62.1537 ,62.4814,62.8125,63.1445,63.4775, 63.8129,64.3199,64.4899,64.6892)
FOOTPRINT_POINT_LONGITUDE = (99.7252,98.9365,97.6578,96.8728, 96.0892,95.307,94.4295,93.6523,92.8771, 92.1033,91.3313,90.5614,89.7935,89.6977 ,89.6111,89.8883,90.0651,90.2363, 90.4017,90.5616,90.7163,90.8662,91.0109 ,91.1511,91.287,91.4183,91.5458,91.6694 ,91.7894,91.9623,92.0732,92.1806, 92.2851,92.3866,92.4851,92.5808,92.6738 ,92.7641,92.938,93.141,93.2941,93.4394, 93.577,93.7077,93.8317,93.9498,94.0619, 94.1946,94.3196,94.4146,94.4376,94.4443 ,95.0279,95.9029,96.5668,97.4788, 98.1405,98.6776,98.7189,98.7338,98.7554 ,98.778,98.8015,98.826,98.8516,98.8782, 98.9063,98.9358,98.9666,98.999,99.0332, 99.051,99.0693,99.088,99.1073,99.1271, 99.1475,99.1685,99.1901,99.213,99.236, 99.2598,99.2843,99.3095,99.3358,99.3626 ,99.3903,99.4191,99.449,99.4798,99.5117 ,99.5445,99.579,99.6143,99.6515,99.6905 ,99.7307,99.7934,99.8154,99.7252)
ORBIT_NUMBER = 15607
ORBITAL_ECCENTRICITY = 0.577
ORBITAL_INCLINATION = 86.91
ORBITAL_SEMIMAJOR_AXIS = 8861.96
PERIAPSIS_ALTITUDE = 349.8
PERIAPSIS_ARGUMENT_ANGLE = 169.39
PERIAPSIS_TIME = 2016-04-24T18:13:16.000Z
SPACECRAFT_ORIENTATION = (0.0,-1.0,0.0)
^MEX_ORIENTATION_DESC = "MEX_ORIENTATION_DESC.TXT"
SPACECRAFT_POINTING_MODE = ACROSSTRACK
^MEX_POINTING_DESC = "MEX_POINTING_DESC.TXT"
RIGHT_ASCENSION = -1e+32
DECLINATION = -1e+32
OFFSET_ANGLE = -0.5
SPACECRAFT_SOLAR_DISTANCE = 2.32949e+08
TARGET_NAME = MARS
/* CAMERA DATA ELEMENTS */
DETECTOR_TEMPERATURE = 17.9627
FOCAL_PLANE_TEMPERATURE = 8.5833
INST_CMPRS_NAME = "DISCRETE COSINE TRANSFORMATION (DCT)"
INST_CMPRS_RATIO = 12.2178
INST_CMPRS_QUALITY = 0
INST_CMPRS_QUANTZ_TBL_ID = 0
INSTRUMENT_TEMPERATURE = 11.234
LENS_TEMPERATURE = 8.7872
MACROPIXEL_SIZE = 2
MISSING_FRAMES = 0
PIXEL_SUBSAMPLING_FLAG = N
SIGNAL_CHAIN_ID = 1
/* RADIOMETRIC DATA ELEMENTS */
BANDWIDTH = 180.0
CENTER_FILTER_WAVELENGTH = 677.0
RADIANCE_OFFSET = 1.27668
RADIANCE_SCALING_FACTOR = 0.0103136
REFLECTANCE_SCALING_FACTOR = 0.000292
MEX:REFLECTANCE_OFFSET = 0.0361456
/* IMAGE OBJECT DEFINITIONS */
OBJECT = IMAGE
  INTERCHANGE_FORMAT = BINARY
  LINES = 17751
  LINE_SAMPLES = 4790
  SAMPLE_TYPE = UNSIGNED_INTEGER
  SAMPLE_BITS = 8
  BANDS = 1
  BAND_STORAGE_TYPE = BAND_SEQUENTIAL
  MAXIMUM = 255
  MEAN = 87.3163
  MINIMUM = 1
  STANDARD_DEVIATION = 25.1854
END_OBJECT = IMAGE
/* MAP OBJECT DEFINITIONS */
OBJECT = IMAGE_MAP_PROJECTION
  ^DATA_SET_MAP_PROJECTION_CATALOG= "DSMAP.CAT"
  A_AXIS_RADIUS = 3396.0
  B_AXIS_RADIUS = 3396.0
  C_AXIS_RADIUS = 3396.0
  CENTER_LATITUDE = 0.0
  CENTER_LONGITUDE = 96.0
  COORDINATE_SYSTEM_NAME = PLANETOGRAPHIC
  COORDINATE_SYSTEM_TYPE = "BODY-FIXED ROTATING"
  EASTERNMOST_LONGITUDE = 99.8154
  FIRST_STANDARD_PARALLEL = "N/A"
  LINE_FIRST_PIXEL = 1
  LINE_LAST_PIXEL = 17751
  LINE_PROJECTION_OFFSET = 76445.75
  MAP_PROJECTION_ROTATION = 0.0
  MAP_PROJECTION_TYPE = SINUSOIDAL
  MAP_RESOLUTION = 1185.42760773333
  MAP_SCALE = 0.05
  MAXIMUM_LATITUDE = 64.6892
  MINIMUM_LATITUDE = 49.442
  POSITIVE_LONGITUDE_DIRECTION = EAST
  REFERENCE_LATITUDE = "N/A"
  REFERENCE_LONGITUDE = "N/A"
  SAMPLE_FIRST_PIXEL = 1
  SAMPLE_LAST_PIXEL = 4790
  SAMPLE_PROJECTION_OFFSET = 2905.75
  SECOND_STANDARD_PARALLEL = "N/A"
  WESTERNMOST_LONGITUDE = 89.61109999999999
END_OBJECT = IMAGE_MAP_PROJECTION
END
