PDS_VERSION_ID = PDS3
/* FILE DATA ELEMENTS */
RECORD_TYPE = UNDEFINED
/* POINTERS TO DATA OBJECTS */
^IMAGE = ("HF533_0009_GR4.TIF")
/* IDENTIFICATION DATA ELEMENTS */
DATA_SET_ID = "MEX-M-HRSC-4-REFDR-MAPPROJECT-EXT5-V4.0"
DATA_SET_NAME = "MARS EXPRESS HRSC MAP PROJECTED REFDR EXTENSION5 V4.0"
DETECTOR_ID = MEX_HRSC_GREEN
EVENT_TYPE = "MARS-CLOUD-VARIABLE-Gl-At"
INSTRUMENT_HOST_ID = MEX
INSTRUMENT_HOST_NAME = "MARS EXPRESS"
INSTRUMENT_ID = HRSC
INSTRUMENT_NAME = "HIGH RESOLUTION STEREO CAMERA"
MISSION_NAME = "MARS EXPRESS"
MISSION_PHASE_NAME = ME_Phase_34
PROCESSING_LEVEL_ID = 4
PRODUCT_CREATION_TIME = 2023-01-31T07:53:46.000Z
PRODUCT_ID = "HF533_0009_GR4.TIF"
RELEASE_ID = 0004
REVISION_ID = 0000
/* QUALITY DATA ELEMENTS */
DATA_QUALITY_ID = 1
DATA_QUALITY_DESC = "Data calculated based on original SPICE kernels"
/* TIME DATA ELEMENTS */
SPACECRAFT_CLOCK_START_COUNT = "1/0407735051.08413"
SPACECRAFT_CLOCK_STOP_COUNT = "1/0407736099.31055"
START_TIME = 2016-04-03T03:49:43.128Z
STOP_TIME = 2016-04-03T04:00:04.541Z
/* ORBITAL DATA ELEMENTS */
ASCENDING_NODE_LONGITUDE = 282.11
MAXIMUM_RESOLUTION = 0.1871
FOOTPRINT_POINT_LATITUDE = (75.3811,75.4951,75.5371,75.5235, 75.4549,75.3678,75.2723,75.0776,74.8325 ,74.539,74.1992,73.8149,73.3877,72.7973 ,72.7349,72.6054,73.0852,74.0292, 74.9492,75.8412,76.7011,77.5226,78.2985 ,79.0199,79.832,80.3897,80.7452,81.1247 ,81.4625,81.4953,81.2166,80.8736, 80.4196,79.8653,79.3913,78.7,77.9469, 77.1425,76.0737,75.4072,75.1811,75.1464 ,75.6438,75.9827,76.2556,76.4729, 76.6951,76.8889,77.0526,77.2281,77.3266 ,77.3904,77.3919,77.3887,77.388,77.9365 ,78.4837,79.3072,79.8519,80.3956, 80.9384,81.48,82.0204,82.5595,83.3694, 83.9057,84.4385,84.9697,85.4959,86.0193 ,86.5351,87.2879,87.7676,88.211,88.5846 ,88.8209,88.6175,88.2515,87.3387, 86.3342,85.2959,84.5063,83.9767,83.4444 ,82.9108,82.3752,81.5713,80.7648, 80.2258,79.6856,79.1451,78.6036,78.0615 ,77.5184,76.7023,76.1569,75.6108, 75.3374,75.3811)
FOOTPRINT_POINT_LONGITUDE = (290.904,294.858,298.391,301.919, 305.422,308.021,310.159,313.508,316.763 ,319.91,322.94,325.845,328.627,331.919, 332.237,332.439,333.286,335.139,337.233 ,339.605,342.302,345.375,348.881, 352.877,358.64,3.92184,8.28027,14.588, 24.9288,35.7121,46.2042,52.6992,58.6481 ,63.9996,67.6372,71.9609,75.7593, 79.0904,82.6964,84.5905,85.1829,85.2718 ,88.5507,91.1539,93.5595,95.7363, 98.3027,100.947,103.664,107.507,110.718 ,114.699,118.716,119.082,119.214, 119.476,119.762,120.242,120.599,120.994 ,121.432,121.922,122.474,123.102, 124.232,125.13,126.206,127.491,129.087, 131.073,133.661,139.362,145.222,154.119 ,168.227,189.912,239.023,253.911, 269.281,276.564,280.694,282.773,283.864 ,284.771,285.553,286.221,287.087, 287.805,288.221,288.594,288.935,289.245 ,289.53,289.792,290.148,290.364,290.566 ,290.662,290.904)
ORBIT_NUMBER = 15533
ORBITAL_ECCENTRICITY = 0.578
ORBITAL_INCLINATION = 86.91
ORBITAL_SEMIMAJOR_AXIS = 8864.04
PERIAPSIS_ALTITUDE = 343.36
PERIAPSIS_ARGUMENT_ANGLE = 182.21
PERIAPSIS_TIME = 2016-04-03T04:30:01.000Z
SPACECRAFT_ORIENTATION = (0.0,-1.0,0.0)
^MEX_ORIENTATION_DESC = "MEX_ORIENTATION_DESC.TXT"
SPACECRAFT_POINTING_MODE = INERT
^MEX_POINTING_DESC = "MEX_POINTING_DESC.TXT"
RIGHT_ASCENSION = 332.468
DECLINATION = -33.955
OFFSET_ANGLE = -1e+32
SPACECRAFT_SOLAR_DISTANCE = 2.36795e+08
TARGET_NAME = MARS
/* CAMERA DATA ELEMENTS */
DETECTOR_TEMPERATURE = 20.0017
FOCAL_PLANE_TEMPERATURE = 8.7872
INST_CMPRS_NAME = "DISCRETE COSINE TRANSFORMATION (DCT)"
INST_CMPRS_RATIO = 15.4809
INST_CMPRS_QUALITY = 0
INST_CMPRS_QUANTZ_TBL_ID = 0
INSTRUMENT_TEMPERATURE = 14.0886
LENS_TEMPERATURE = 8.9911
MACROPIXEL_SIZE = 2
PIXEL_SUBSAMPLING_FLAG = N
SIGNAL_CHAIN_ID = 2
/* RADIOMETRIC DATA ELEMENTS */
BANDWIDTH = 88.0
CENTER_FILTER_WAVELENGTH = 538.0
RADIANCE_OFFSET = 0.450703
RADIANCE_SCALING_FACTOR = 0.0174221
REFLECTANCE_SCALING_FACTOR = 0.000841118
MEX:REFLECTANCE_OFFSET = 0.0217594
/* IMAGE OBJECT DEFINITIONS */
OBJECT = IMAGE
  INTERCHANGE_FORMAT = BINARY
  LINES = 6223
  LINE_SAMPLES = 8425
  SAMPLE_TYPE = UNSIGNED_INTEGER
  SAMPLE_BITS = 8
  BANDS = 1
  BAND_STORAGE_TYPE = BAND_SEQUENTIAL
  MAXIMUM = 255
  MEAN = 91.9036
  MINIMUM = 1
  STANDARD_DEVIATION = 59.3837
END_OBJECT = IMAGE
/* MAP OBJECT DEFINITIONS */
OBJECT = IMAGE_MAP_PROJECTION
  ^DATA_SET_MAP_PROJECTION_CATALOG= "DSMAP.CAT"
  A_AXIS_RADIUS = 3396.0
  B_AXIS_RADIUS = 3396.0
  C_AXIS_RADIUS = 3396.0
  CENTER_LATITUDE = 90.0
  CENTER_LONGITUDE = 0.0
  COORDINATE_SYSTEM_NAME = PLANETOGRAPHIC
  COORDINATE_SYSTEM_TYPE = "BODY-FIXED ROTATING"
  EASTERNMOST_LONGITUDE = 360.0
  FIRST_STANDARD_PARALLEL = "N/A"
  LINE_FIRST_PIXEL = 1
  LINE_LAST_PIXEL = 6223
  LINE_PROJECTION_OFFSET = 1720.0
  MAP_PROJECTION_ROTATION = 0.0
  MAP_PROJECTION_TYPE = STEREOGRAPHIC
  MAP_RESOLUTION = 296.356901933333
  MAP_SCALE = 0.2
  MAXIMUM_LATITUDE = 90.0
  MINIMUM_LATITUDE = 72.6054
  POSITIVE_LONGITUDE_DIRECTION = EAST
  REFERENCE_LATITUDE = "N/A"
  REFERENCE_LONGITUDE = "N/A"
  SAMPLE_FIRST_PIXEL = 1
  SAMPLE_LAST_PIXEL = 8425
  SAMPLE_PROJECTION_OFFSET = 4065.0
  SECOND_STANDARD_PARALLEL = "N/A"
  WESTERNMOST_LONGITUDE = 0.0
END_OBJECT = IMAGE_MAP_PROJECTION
END
