PDS_VERSION_ID = PDS3
/* FILE DATA ELEMENTS */
RECORD_TYPE = UNDEFINED
/* POINTERS TO DATA OBJECTS */
^IMAGE = ("HF071_0000_GR4.TIF")
/* IDENTIFICATION DATA ELEMENTS */
DATA_SET_ID = "MEX-M-HRSC-4-REFDR-MAPPROJECT-EXT5-V4.0"
DATA_SET_NAME = "MARS EXPRESS HRSC MAP PROJECTED REFDR EXTENSION5 V4.0"
DETECTOR_ID = MEX_HRSC_GREEN
EVENT_TYPE = "MARS-CLOUD-VARIABLE-At"
INSTRUMENT_HOST_ID = MEX
INSTRUMENT_HOST_NAME = "MARS EXPRESS"
INSTRUMENT_ID = HRSC
INSTRUMENT_NAME = "HIGH RESOLUTION STEREO CAMERA"
MISSION_NAME = "MARS EXPRESS"
MISSION_PHASE_NAME = ME_Phase_33
PROCESSING_LEVEL_ID = 4
PRODUCT_CREATION_TIME = 2023-01-31T04:09:42.000Z
PRODUCT_ID = "HF071_0000_GR4.TIF"
RELEASE_ID = 0003
REVISION_ID = 0000
/* QUALITY DATA ELEMENTS */
DATA_QUALITY_ID = 1
DATA_QUALITY_DESC = "Data calculated based on original SPICE kernels"
/* TIME DATA ELEMENTS */
SPACECRAFT_CLOCK_START_COUNT = "1/0396106906.09059"
SPACECRAFT_CLOCK_STOP_COUNT = "1/0396108123.13186"
START_TIME = 2015-11-20T13:41:52.686Z
STOP_TIME = 2015-11-20T13:53:34.316Z
/* ORBITAL DATA ELEMENTS */
ASCENDING_NODE_LONGITUDE = 290.75
MAXIMUM_RESOLUTION = 0.1751
FOOTPRINT_POINT_LATITUDE = (-17.2655,-17.0808,-16.9362,-16.7881, -16.6363,-16.4804,-16.3095,-16.2993, -16.2943,-15.3197,-14.3468,-13.6983, -13.0501,-12.402,-11.754,-10.782, -10.1346,-9.48698,-8.51546,-7.86628, -7.21878,-6.5707,-5.92074,-4.94629, -3.97006,-3.31923,-2.66757,-2.0152, -1.36221,-0.38073,0.274009,1.25767, 1.91649,2.57708,3.56809,4.23152,4.89599 ,5.56667,6.57172,7.23907,7.91063, 8.58479,9.26258,10.2836,11.3105,11.9976 ,12.6894,13.3837,14.4342,15.1366, 16.1945,16.549,16.9034,16.7055,16.5538, 16.35,16.2139,16.0793,15.8488,15.7219, 15.6211,15.4824,15.3596,15.1703,15.1592 ,15.1547,14.1246,13.1088,12.4304,11.76, 11.0912,10.4242,9.75959,9.09753,8.43638 ,7.77726,7.12607,6.46548,5.81206, 5.15946,4.50902,3.86049,3.208,2.56136, 1.27135,-0.336791,-1.62109,-3.22149, -4.49941,-5.45688,-6.41354,-8.00715, -9.28187,-10.5564,-12.1512,-13.7486, -15.0256,-16.6273,-16.948,-17.2655)
FOOTPRINT_POINT_LONGITUDE = (8.8746,10.5052,11.737,12.9627,14.1839, 15.4046,16.7058,16.7824,16.8052,16.8133 ,16.8239,16.8311,16.8387,16.8467, 16.8553,16.8635,16.8735,16.8862,16.9029 ,16.9208,16.9303,16.9425,16.9597, 16.9832,17.0095,17.0269,17.0454,17.065, 17.0852,17.1181,17.1405,17.176,17.2028, 17.2312,17.2741,17.3053,17.3374,17.371, 17.4263,17.4615,17.5001,17.5408,17.5844 ,17.6533,17.727,17.7782,17.8329,17.8897 ,17.9813,18.0421,18.1409,18.1753, 18.2105,16.9541,15.9583,14.6063,13.6346 ,12.6684,11.1081,10.1518,9.43724, 8.36692,7.41721,5.86866,5.74774,5.7042, 5.84305,5.9747,6.06106,6.1451,6.22815, 6.31013,6.3907,6.46974,6.54818,6.62536, 6.69736,6.77549,6.84884,6.9216,6.99275, 7.06238,7.13183,7.1998,7.33262,7.49404, 7.62083,7.77273,7.89013,7.97607,8.05955 ,8.19393,8.29835,8.40151,8.52095,8.6343 ,8.7262,8.83118,8.8517,8.8746)
ORBIT_NUMBER = 15071
ORBITAL_ECCENTRICITY = 0.577
ORBITAL_INCLINATION = 86.92
ORBITAL_SEMIMAJOR_AXIS = 8760.8
PERIAPSIS_ALTITUDE = 326.76
PERIAPSIS_ARGUMENT_ANGLE = 261.14
PERIAPSIS_TIME = 2015-11-20T13:12:53.000Z
SPACECRAFT_ORIENTATION = (0.0,-1.0,0.0)
^MEX_ORIENTATION_DESC = "MEX_ORIENTATION_DESC.TXT"
SPACECRAFT_POINTING_MODE = INERT
^MEX_POINTING_DESC = "MEX_POINTING_DESC.TXT"
RIGHT_ASCENSION = 326.185
DECLINATION = 45.407
OFFSET_ANGLE = -1e+32
SPACECRAFT_SOLAR_DISTANCE = 2.49239e+08
TARGET_NAME = MARS
/* CAMERA DATA ELEMENTS */
DETECTOR_TEMPERATURE = 17.5549
FOCAL_PLANE_TEMPERATURE = 7.5638
INST_CMPRS_NAME = "DISCRETE COSINE TRANSFORMATION (DCT)"
INST_CMPRS_RATIO = 15.3296
INST_CMPRS_QUALITY = 0
INST_CMPRS_QUANTZ_TBL_ID = 0
INSTRUMENT_TEMPERATURE = 10.4184
LENS_TEMPERATURE = 8.3794
MACROPIXEL_SIZE = 2
PIXEL_SUBSAMPLING_FLAG = N
SIGNAL_CHAIN_ID = 2
/* RADIOMETRIC DATA ELEMENTS */
BANDWIDTH = 88.0
CENTER_FILTER_WAVELENGTH = 538.0
RADIANCE_OFFSET = 1.16217
RADIANCE_SCALING_FACTOR = 0.0091151
REFLECTANCE_SCALING_FACTOR = 0.000487509
MEX:REFLECTANCE_OFFSET = 0.0621574
/* IMAGE OBJECT DEFINITIONS */
OBJECT = IMAGE
  INTERCHANGE_FORMAT = BINARY
  LINES = 10130
  LINE_SAMPLES = 3749
  SAMPLE_TYPE = UNSIGNED_INTEGER
  SAMPLE_BITS = 8
  BANDS = 1
  BAND_STORAGE_TYPE = BAND_SEQUENTIAL
  MAXIMUM = 255
  MEAN = 127.967
  MINIMUM = 1
  STANDARD_DEVIATION = 49.7741
END_OBJECT = IMAGE
/* MAP OBJECT DEFINITIONS */
OBJECT = IMAGE_MAP_PROJECTION
  ^DATA_SET_MAP_PROJECTION_CATALOG= "DSMAP.CAT"
  A_AXIS_RADIUS = 3396.0
  B_AXIS_RADIUS = 3396.0
  C_AXIS_RADIUS = 3396.0
  CENTER_LATITUDE = 0.0
  CENTER_LONGITUDE = 13.0
  COORDINATE_SYSTEM_NAME = PLANETOGRAPHIC
  COORDINATE_SYSTEM_TYPE = "BODY-FIXED ROTATING"
  EASTERNMOST_LONGITUDE = 18.2105
  FIRST_STANDARD_PARALLEL = "N/A"
  LINE_FIRST_PIXEL = 1
  LINE_LAST_PIXEL = 10130
  LINE_PROJECTION_OFFSET = 4996.0
  MAP_PROJECTION_ROTATION = 0.0
  MAP_PROJECTION_TYPE = SINUSOIDAL
  MAP_RESOLUTION = 296.356901933333
  MAP_SCALE = 0.2
  MAXIMUM_LATITUDE = 16.9034
  MINIMUM_LATITUDE = -17.2655
  POSITIVE_LONGITUDE_DIRECTION = EAST
  REFERENCE_LATITUDE = "N/A"
  REFERENCE_LONGITUDE = "N/A"
  SAMPLE_FIRST_PIXEL = 1
  SAMPLE_LAST_PIXEL = 3749
  SAMPLE_PROJECTION_OFFSET = 1970.0
  SECOND_STANDARD_PARALLEL = "N/A"
  WESTERNMOST_LONGITUDE = 5.7042
END_OBJECT = IMAGE_MAP_PROJECTION
END
