PDS_VERSION_ID = PDS3
/* FILE DATA ELEMENTS */
RECORD_TYPE = UNDEFINED
/* POINTERS TO DATA OBJECTS */
^IMAGE = ("HE891_0000_BL4.TIF")
/* IDENTIFICATION DATA ELEMENTS */
DATA_SET_ID = "MEX-M-HRSC-4-REFDR-MAPPROJECT-EXT5-V4.0"
DATA_SET_NAME = "MARS EXPRESS HRSC MAP PROJECTED REFDR EXTENSION5 V4.0"
DETECTOR_ID = MEX_HRSC_BLUE
EVENT_TYPE = "MARS-REGIONAL-MAPPING-Gl-Pf-Eo"
INSTRUMENT_HOST_ID = MEX
INSTRUMENT_HOST_NAME = "MARS EXPRESS"
INSTRUMENT_ID = HRSC
INSTRUMENT_NAME = "HIGH RESOLUTION STEREO CAMERA"
MISSION_NAME = "MARS EXPRESS"
MISSION_PHASE_NAME = ME_Phase_33
PROCESSING_LEVEL_ID = 4
PRODUCT_CREATION_TIME = 2023-01-30T12:57:43.000Z
PRODUCT_ID = "HE891_0000_BL4.TIF"
RELEASE_ID = 0002
REVISION_ID = 0000
/* QUALITY DATA ELEMENTS */
DATA_QUALITY_ID = 1
DATA_QUALITY_DESC = "Data calculated based on original SPICE kernels"
/* TIME DATA ELEMENTS */
SPACECRAFT_CLOCK_START_COUNT = "1/0391574650.09035"
SPACECRAFT_CLOCK_STOP_COUNT = "1/0391574893.23796"
START_TIME = 2015-09-29T02:44:50.343Z
STOP_TIME = 2015-09-29T02:47:05.189Z
/* ORBITAL DATA ELEMENTS */
ASCENDING_NODE_LONGITUDE = 294.07
MAXIMUM_RESOLUTION = 0.0734
FOOTPRINT_POINT_LATITUDE = (-42.7823,-42.7794,-42.7749,-42.768, -42.7617,-42.7511,-42.7432,-42.7427, -42.7218,-42.4242,-42.1272,-41.9002, -41.597,-41.2944,-40.9868,-40.6778, -40.3694,-40.0552,-39.8979,-39.5841, -39.4254,-39.2654,-39.1057,-38.9456, -38.7859,-38.6244,-38.4616,-38.2989, -38.1363,-37.974,-37.8091,-37.6438, -37.396,-37.2309,-36.9789,-36.8109, -36.6431,-36.4752,-36.3045,-36.1338, -35.9631,-35.7925,-35.6189,-35.3588, -35.0991,-34.9232,-34.6594,-34.5715, -34.5518,-34.5554,-34.5585,-34.5631, -34.5661,-34.569,-34.5705,-34.5707, -34.57,-34.5701,-34.5713,-34.8361, -35.0128,-35.2749,-35.4486,-35.6224, -35.7965,-35.9674,-36.1386,-36.3101, -36.4814,-36.6496,-36.818,-37.0708, -37.2395,-37.405,-37.5705,-37.7364, -37.985,-38.1478,-38.3108,-38.474, -38.6373,-38.7995,-38.9596,-39.1199, -39.2805,-39.4415,-39.6008,-39.9151, -40.0727,-40.2306,-40.3883,-40.6978, -40.9297,-41.2397,-41.5433,-41.8475, -42.301,-42.6737,-42.7482,-42.7823)
FOOTPRINT_POINT_LONGITUDE = (61.7134,61.4394,61.107,60.6964,60.3839 ,59.9345,59.6412,59.6217,59.5776, 59.5852,59.5928,59.5981,59.6051,59.6118 ,59.6174,59.6228,59.6279,59.6325, 59.6347,59.6392,59.6412,59.6433,59.6456 ,59.6468,59.6484,59.6497,59.651,59.6523 ,59.6533,59.6546,59.6555,59.6567, 59.6581,59.6586,59.6592,59.6596,59.66, 59.6598,59.6599,59.66,59.6596,59.6589, 59.6576,59.6567,59.6555,59.6547,59.6535 ,59.6528,59.6527,59.8501,60.071,60.4464 ,60.7333,61.0865,61.373,61.7925,61.9919 ,62.0138,62.0213,62.0139,62.0092, 62.0022,61.9977,61.993,61.9882,61.9835, 61.9784,61.9733,61.9686,61.964,61.9592, 61.952,61.9469,61.9421,61.9374,61.9325, 61.9249,61.9199,61.9148,61.9094,61.9042 ,61.8989,61.8938,61.8884,61.8828, 61.8765,61.8715,61.8619,61.8564,61.8507 ,61.8448,61.833,61.8252,61.8139,61.8026 ,61.7904,61.7713,61.7563,61.7536, 61.7134)
ORBIT_NUMBER = 14891
ORBITAL_ECCENTRICITY = 0.578
ORBITAL_INCLINATION = 86.92
ORBITAL_SEMIMAJOR_AXIS = 8772.64
PERIAPSIS_ALTITUDE = 327.08
PERIAPSIS_ARGUMENT_ANGLE = 291.59
PERIAPSIS_TIME = 2015-09-29T02:38:21.000Z
SPACECRAFT_ORIENTATION = (0.0,1.0,0.0)
^MEX_ORIENTATION_DESC = "MEX_ORIENTATION_DESC.TXT"
SPACECRAFT_POINTING_MODE = NADIR
^MEX_POINTING_DESC = "MEX_POINTING_DESC.TXT"
RIGHT_ASCENSION = -1e+32
DECLINATION = -1e+32
OFFSET_ANGLE = -1e+32
SPACECRAFT_SOLAR_DISTANCE = 2.47185e+08
TARGET_NAME = MARS
/* CAMERA DATA ELEMENTS */
DETECTOR_TEMPERATURE = 17.1471
FOCAL_PLANE_TEMPERATURE = 6.9521
INST_CMPRS_NAME = "DISCRETE COSINE TRANSFORMATION (DCT)"
INST_CMPRS_RATIO = 10.134
INST_CMPRS_QUALITY = 0
INST_CMPRS_QUANTZ_TBL_ID = 0
INSTRUMENT_TEMPERATURE = 11.0301
LENS_TEMPERATURE = 7.7677
MACROPIXEL_SIZE = 4
MISSING_FRAMES = 0
PIXEL_SUBSAMPLING_FLAG = N
SIGNAL_CHAIN_ID = 2
/* RADIOMETRIC DATA ELEMENTS */
BANDWIDTH = 76.0
CENTER_FILTER_WAVELENGTH = 444.0
RADIANCE_OFFSET = 0.504754
RADIANCE_SCALING_FACTOR = 0.000834698
REFLECTANCE_SCALING_FACTOR = 5.23999e-05
MEX:REFLECTANCE_OFFSET = 0.031687
/* IMAGE OBJECT DEFINITIONS */
OBJECT = IMAGE
  INTERCHANGE_FORMAT = BINARY
  LINES = 9737
  LINE_SAMPLES = 2359
  SAMPLE_TYPE = UNSIGNED_INTEGER
  SAMPLE_BITS = 8
  BANDS = 1
  BAND_STORAGE_TYPE = BAND_SEQUENTIAL
  MAXIMUM = 255
  MEAN = 138.042
  MINIMUM = 1
  STANDARD_DEVIATION = 38.4789
END_OBJECT = IMAGE
/* MAP OBJECT DEFINITIONS */
OBJECT = IMAGE_MAP_PROJECTION
  ^DATA_SET_MAP_PROJECTION_CATALOG= "DSMAP.CAT"
  A_AXIS_RADIUS = 3396.0
  B_AXIS_RADIUS = 3396.0
  C_AXIS_RADIUS = 3396.0
  CENTER_LATITUDE = 0.0
  CENTER_LONGITUDE = 61.0
  COORDINATE_SYSTEM_NAME = PLANETOGRAPHIC
  COORDINATE_SYSTEM_TYPE = "BODY-FIXED ROTATING"
  EASTERNMOST_LONGITUDE = 62.0213
  FIRST_STANDARD_PARALLEL = "N/A"
  LINE_FIRST_PIXEL = 1
  LINE_LAST_PIXEL = 9737
  LINE_PROJECTION_OFFSET = -40978.375
  MAP_PROJECTION_ROTATION = 0.0
  MAP_PROJECTION_TYPE = SINUSOIDAL
  MAP_RESOLUTION = 1185.42760773333
  MAP_SCALE = 0.05
  MAXIMUM_LATITUDE = -34.5518
  MINIMUM_LATITUDE = -42.7823
  POSITIVE_LONGITUDE_DIRECTION = EAST
  REFERENCE_LATITUDE = "N/A"
  REFERENCE_LONGITUDE = "N/A"
  SAMPLE_FIRST_PIXEL = 1
  SAMPLE_LAST_PIXEL = 2359
  SAMPLE_PROJECTION_OFFSET = 1346.375
  SECOND_STANDARD_PARALLEL = "N/A"
  WESTERNMOST_LONGITUDE = 59.5776
END_OBJECT = IMAGE_MAP_PROJECTION
END
